BEGIN:VCALENDAR
VERSION:2.0
PRODID:-//Crestline Chamber of Commerce - ECPv6.15.20//NONSGML v1.0//EN
CALSCALE:GREGORIAN
METHOD:PUBLISH
X-WR-CALNAME:Crestline Chamber of Commerce
X-ORIGINAL-URL:https://www.crestlinechamber.org
X-WR-CALDESC:Events for Crestline Chamber of Commerce
REFRESH-INTERVAL;VALUE=DURATION:PT1H
X-Robots-Tag:noindex
X-PUBLISHED-TTL:PT1H
BEGIN:VTIMEZONE
TZID:America/Los_Angeles
BEGIN:DAYLIGHT
TZOFFSETFROM:-0800
TZOFFSETTO:-0700
TZNAME:PDT
DTSTART:20220313T100000
END:DAYLIGHT
BEGIN:STANDARD
TZOFFSETFROM:-0700
TZOFFSETTO:-0800
TZNAME:PST
DTSTART:20221106T090000
END:STANDARD
BEGIN:DAYLIGHT
TZOFFSETFROM:-0800
TZOFFSETTO:-0700
TZNAME:PDT
DTSTART:20230312T100000
END:DAYLIGHT
BEGIN:STANDARD
TZOFFSETFROM:-0700
TZOFFSETTO:-0800
TZNAME:PST
DTSTART:20231105T090000
END:STANDARD
BEGIN:DAYLIGHT
TZOFFSETFROM:-0800
TZOFFSETTO:-0700
TZNAME:PDT
DTSTART:20240310T100000
END:DAYLIGHT
BEGIN:STANDARD
TZOFFSETFROM:-0700
TZOFFSETTO:-0800
TZNAME:PST
DTSTART:20241103T090000
END:STANDARD
BEGIN:DAYLIGHT
TZOFFSETFROM:-0800
TZOFFSETTO:-0700
TZNAME:PDT
DTSTART:20250309T100000
END:DAYLIGHT
BEGIN:STANDARD
TZOFFSETFROM:-0700
TZOFFSETTO:-0800
TZNAME:PST
DTSTART:20251102T090000
END:STANDARD
BEGIN:DAYLIGHT
TZOFFSETFROM:-0800
TZOFFSETTO:-0700
TZNAME:PDT
DTSTART:20260308T100000
END:DAYLIGHT
BEGIN:STANDARD
TZOFFSETFROM:-0700
TZOFFSETTO:-0800
TZNAME:PST
DTSTART:20261101T090000
END:STANDARD
END:VTIMEZONE
BEGIN:VEVENT
DTSTART;TZID=America/Los_Angeles:20250802T150000
DTEND;TZID=America/Los_Angeles:20250802T200000
DTSTAMP:20260423T182739
CREATED:20250114T200745Z
LAST-MODIFIED:20250114T200745Z
UID:10002028-1754146800-1754164800@www.crestlinechamber.org
SUMMARY:Summer Series: Corks N' Hops ✨🍷🍻❤️
DESCRIPTION:🍷🎶 Corks N’ Hops is back and better than ever—your favorite summer tradition is here to keep the good times flowing! Stroll\, sip\, and savor fine wine\, craft beer\, and mouthwatering bites\, all set to the beat of live music. It’s the event of the season\, where every stop is a toast to unforgettable summer nights. Let’s raise a glass and make it a night to remember! 🌟🍺🎉
URL:https://www.crestlinechamber.org/event/summer-series-corks-n-hops-%e2%9c%a8%f0%9f%8d%b7%f0%9f%8d%bb%e2%9d%a4%ef%b8%8f/
LOCATION:Lake Drive (Next to 7-11)\, 24152 Lake Drive\, Crestline\, CA\, 92325\, United States
CATEGORIES:Community Event,Crestline Chamber Event,Lake Gregory,Live Music
END:VEVENT
BEGIN:VEVENT
DTSTART;TZID=America/Los_Angeles:20250712T150000
DTEND;TZID=America/Los_Angeles:20250712T200000
DTSTAMP:20260423T182739
CREATED:20250114T195715Z
LAST-MODIFIED:20250114T200037Z
UID:10002027-1752332400-1752350400@www.crestlinechamber.org
SUMMARY:Summer Series: Corks N' Hops ❤️🍷🍻✨
DESCRIPTION:🍷🎶 Corks N’ Hops is back and better than ever—your favorite summer tradition is here to keep the good times flowing! Stroll\, sip and savor fine wine\, craft beer\, and mouthwatering bites\, all set to the beat of live music. It’s the event of the season\, where every stop is a toast to unforgettable summer nights. Let’s raise a glass and make it a night to remember! 🌟🍺🎉
URL:https://www.crestlinechamber.org/event/summer-series-corks-n-hops-%e2%9d%a4%ef%b8%8f%f0%9f%8d%b7%f0%9f%8d%bb%e2%9c%a8/
LOCATION:Lake Drive (Next to 7-11)\, 24152 Lake Drive\, Crestline\, CA\, 92325\, United States
CATEGORIES:Community Event,Crestline Chamber Event,Lake Gregory,Live Music
END:VEVENT
BEGIN:VEVENT
DTSTART;TZID=America/Los_Angeles:20240831T110000
DTEND;TZID=America/Los_Angeles:20240831T180000
DTSTAMP:20260423T182739
CREATED:20240610T175911Z
LAST-MODIFIED:20240610T175933Z
UID:10001335-1725102000-1725127200@www.crestlinechamber.org
SUMMARY:Wow's Summer of Fun - Pop Up Vendors
DESCRIPTION:Games\, Food\, Beer\, Wine\, Artisians and Music. \n  \n24122 Lake Drive (next to 7/11)
URL:https://www.crestlinechamber.org/event/wows-summer-of-fun-pop-up-vendors/2024-08-31/
LOCATION:Lake Drive (Next to 7-11)\, 24152 Lake Drive\, Crestline\, CA\, 92325\, United States
CATEGORIES:Community Event
ORGANIZER;CN="Wendy Johnson":MAILTO:wendysj1959@gmail.com
END:VEVENT
BEGIN:VEVENT
DTSTART;TZID=America/Los_Angeles:20240817T110000
DTEND;TZID=America/Los_Angeles:20240817T180000
DTSTAMP:20260423T182739
CREATED:20240610T175911Z
LAST-MODIFIED:20240610T175933Z
UID:10001334-1723892400-1723917600@www.crestlinechamber.org
SUMMARY:Wow's Summer of Fun - Pop Up Vendors
DESCRIPTION:Games\, Food\, Beer\, Wine\, Artisians and Music. \n  \n24122 Lake Drive (next to 7/11)
URL:https://www.crestlinechamber.org/event/wows-summer-of-fun-pop-up-vendors/2024-08-17/
LOCATION:Lake Drive (Next to 7-11)\, 24152 Lake Drive\, Crestline\, CA\, 92325\, United States
CATEGORIES:Community Event
ORGANIZER;CN="Wendy Johnson":MAILTO:wendysj1959@gmail.com
END:VEVENT
BEGIN:VEVENT
DTSTART;TZID=America/Los_Angeles:20240803T110000
DTEND;TZID=America/Los_Angeles:20240803T200000
DTSTAMP:20260423T182739
CREATED:20240610T175911Z
LAST-MODIFIED:20240610T175933Z
UID:10001333-1722682800-1722715200@www.crestlinechamber.org
SUMMARY:Wow's Summer of Fun - Pop Up Vendors
DESCRIPTION:Games\, Food\, Beer\, Wine\, Artisians and Music. \n  \n24122 Lake Drive (next to 7/11)
URL:https://www.crestlinechamber.org/event/wows-summer-of-fun-pop-up-vendors/2024-08-03/
LOCATION:Lake Drive (Next to 7-11)\, 24152 Lake Drive\, Crestline\, CA\, 92325\, United States
CATEGORIES:Community Event
ORGANIZER;CN="Wendy Johnson":MAILTO:wendysj1959@gmail.com
END:VEVENT
BEGIN:VEVENT
DTSTART;TZID=America/Los_Angeles:20240720T110000
DTEND;TZID=America/Los_Angeles:20240720T180000
DTSTAMP:20260423T182739
CREATED:20240610T175911Z
LAST-MODIFIED:20240610T175933Z
UID:10001332-1721473200-1721498400@www.crestlinechamber.org
SUMMARY:Wow's Summer of Fun - Pop Up Vendors
DESCRIPTION:Games\, Food\, Beer\, Wine\, Artisians and Music. \n  \n24122 Lake Drive (next to 7/11)
URL:https://www.crestlinechamber.org/event/wows-summer-of-fun-pop-up-vendors/2024-07-20/
LOCATION:Lake Drive (Next to 7-11)\, 24152 Lake Drive\, Crestline\, CA\, 92325\, United States
CATEGORIES:Community Event
ORGANIZER;CN="Wendy Johnson":MAILTO:wendysj1959@gmail.com
END:VEVENT
BEGIN:VEVENT
DTSTART;TZID=America/Los_Angeles:20240706T110000
DTEND;TZID=America/Los_Angeles:20240706T180000
DTSTAMP:20260423T182739
CREATED:20240610T175911Z
LAST-MODIFIED:20240610T175933Z
UID:10001331-1720263600-1720288800@www.crestlinechamber.org
SUMMARY:Wow's Summer of Fun - Pop Up Vendors
DESCRIPTION:Games\, Food\, Beer\, Wine\, Artisians and Music. \n  \n24122 Lake Drive (next to 7/11)
URL:https://www.crestlinechamber.org/event/wows-summer-of-fun-pop-up-vendors/2024-07-06/
LOCATION:Lake Drive (Next to 7-11)\, 24152 Lake Drive\, Crestline\, CA\, 92325\, United States
CATEGORIES:Community Event
ORGANIZER;CN="Wendy Johnson":MAILTO:wendysj1959@gmail.com
END:VEVENT
BEGIN:VEVENT
DTSTART;TZID=America/Los_Angeles:20240622T110000
DTEND;TZID=America/Los_Angeles:20240622T180000
DTSTAMP:20260423T182739
CREATED:20240610T175911Z
LAST-MODIFIED:20240610T175933Z
UID:10001330-1719054000-1719079200@www.crestlinechamber.org
SUMMARY:Wow's Summer of Fun - Pop Up Vendors
DESCRIPTION:Games\, Food\, Beer\, Wine\, Artisians and Music. \n  \n24122 Lake Drive (next to 7/11)
URL:https://www.crestlinechamber.org/event/wows-summer-of-fun-pop-up-vendors/2024-06-22/
LOCATION:Lake Drive (Next to 7-11)\, 24152 Lake Drive\, Crestline\, CA\, 92325\, United States
CATEGORIES:Community Event
ORGANIZER;CN="Wendy Johnson":MAILTO:wendysj1959@gmail.com
END:VEVENT
BEGIN:VEVENT
DTSTART;VALUE=DATE:20231117
DTEND;VALUE=DATE:20231118
DTSTAMP:20260423T182739
CREATED:20231109T215050Z
LAST-MODIFIED:20231109T223913Z
UID:10000881-1700179200-1700265599@www.crestlinechamber.org
SUMMARY:ARTISAN MARKET
DESCRIPTION:“Count on finding unique gifts for shopping needs this Christmas.\nAT THE\nARTISAN MARKET\nNEXT DOOR TO 7-11\nNOON TO 5 PM\nCRESTLINE CALIFORNIA \nMr and Mrs. Claus will be there
URL:https://www.crestlinechamber.org/event/artisan-market-auto-draft/
LOCATION:Lake Drive (Next to 7-11)\, 24152 Lake Drive\, Crestline\, CA\, 92325\, United States
CATEGORIES:Family Friendly
ORGANIZER;CN="Wendy Johnson":MAILTO:wendysj1959@gmail.com
END:VEVENT
END:VCALENDAR