BEGIN:VCALENDAR
VERSION:2.0
PRODID:-//Crestline Chamber of Commerce - ECPv6.15.20//NONSGML v1.0//EN
CALSCALE:GREGORIAN
METHOD:PUBLISH
X-ORIGINAL-URL:https://www.crestlinechamber.org
X-WR-CALDESC:Events for Crestline Chamber of Commerce
REFRESH-INTERVAL;VALUE=DURATION:PT1H
X-Robots-Tag:noindex
X-PUBLISHED-TTL:PT1H
BEGIN:VTIMEZONE
TZID:America/Los_Angeles
BEGIN:DAYLIGHT
TZOFFSETFROM:-0800
TZOFFSETTO:-0700
TZNAME:PDT
DTSTART:20260308T100000
END:DAYLIGHT
BEGIN:STANDARD
TZOFFSETFROM:-0700
TZOFFSETTO:-0800
TZNAME:PST
DTSTART:20261101T090000
END:STANDARD
BEGIN:DAYLIGHT
TZOFFSETFROM:-0800
TZOFFSETTO:-0700
TZNAME:PDT
DTSTART:20270314T100000
END:DAYLIGHT
BEGIN:STANDARD
TZOFFSETFROM:-0700
TZOFFSETTO:-0800
TZNAME:PST
DTSTART:20271107T090000
END:STANDARD
BEGIN:DAYLIGHT
TZOFFSETFROM:-0800
TZOFFSETTO:-0700
TZNAME:PDT
DTSTART:20280312T100000
END:DAYLIGHT
BEGIN:STANDARD
TZOFFSETFROM:-0700
TZOFFSETTO:-0800
TZNAME:PST
DTSTART:20281105T090000
END:STANDARD
END:VTIMEZONE
BEGIN:VEVENT
DTSTART;TZID=America/Los_Angeles:20270401T140000
DTEND;TZID=America/Los_Angeles:20270401T183000
DTSTAMP:20260423T184330
CREATED:20250813T172934Z
LAST-MODIFIED:20250813T173846Z
UID:10006749-1806588000-1806604200@www.crestlinechamber.org
SUMMARY:Twin Peaks Farmers Market 🍏🍊🍋🍉🍓🥦🥒🫑🧄🍞🥖
DESCRIPTION:
URL:https://www.crestlinechamber.org/event/twin-peaks-farmers-market-%f0%9f%8d%8f%f0%9f%8d%8a%f0%9f%8d%8b%f0%9f%8d%89%f0%9f%8d%93%f0%9f%a5%a6%f0%9f%a5%92%f0%9f%ab%91%f0%9f%a7%84%f0%9f%8d%9e%f0%9f%a5%96/2027-04-01/
LOCATION:26012 HWY 189\, Twin Peaks
CATEGORIES:Community Event,Family Friendly,Live Music
ATTACH;FMTTYPE=image/jpeg:https://www.crestlinechamber.org/wp-content/uploads/2025/08/img20250812_15422707-scaled.jpg
ORGANIZER;CN="Twin Peaks Farmers Market":MAILTO:twinpeaksfarmersmarket@gmail.com
END:VEVENT
BEGIN:VEVENT
DTSTART;TZID=America/Los_Angeles:20270408T140000
DTEND;TZID=America/Los_Angeles:20270408T183000
DTSTAMP:20260423T184330
CREATED:20250813T172934Z
LAST-MODIFIED:20250813T173846Z
UID:10006750-1807192800-1807209000@www.crestlinechamber.org
SUMMARY:Twin Peaks Farmers Market 🍏🍊🍋🍉🍓🥦🥒🫑🧄🍞🥖
DESCRIPTION:
URL:https://www.crestlinechamber.org/event/twin-peaks-farmers-market-%f0%9f%8d%8f%f0%9f%8d%8a%f0%9f%8d%8b%f0%9f%8d%89%f0%9f%8d%93%f0%9f%a5%a6%f0%9f%a5%92%f0%9f%ab%91%f0%9f%a7%84%f0%9f%8d%9e%f0%9f%a5%96/2027-04-08/
LOCATION:26012 HWY 189\, Twin Peaks
CATEGORIES:Community Event,Family Friendly,Live Music
ATTACH;FMTTYPE=image/jpeg:https://www.crestlinechamber.org/wp-content/uploads/2025/08/img20250812_15422707-scaled.jpg
ORGANIZER;CN="Twin Peaks Farmers Market":MAILTO:twinpeaksfarmersmarket@gmail.com
END:VEVENT
BEGIN:VEVENT
DTSTART;TZID=America/Los_Angeles:20270415T140000
DTEND;TZID=America/Los_Angeles:20270415T183000
DTSTAMP:20260423T184330
CREATED:20250813T172934Z
LAST-MODIFIED:20250813T173846Z
UID:10006751-1807797600-1807813800@www.crestlinechamber.org
SUMMARY:Twin Peaks Farmers Market 🍏🍊🍋🍉🍓🥦🥒🫑🧄🍞🥖
DESCRIPTION:
URL:https://www.crestlinechamber.org/event/twin-peaks-farmers-market-%f0%9f%8d%8f%f0%9f%8d%8a%f0%9f%8d%8b%f0%9f%8d%89%f0%9f%8d%93%f0%9f%a5%a6%f0%9f%a5%92%f0%9f%ab%91%f0%9f%a7%84%f0%9f%8d%9e%f0%9f%a5%96/2027-04-15/
LOCATION:26012 HWY 189\, Twin Peaks
CATEGORIES:Community Event,Family Friendly,Live Music
ATTACH;FMTTYPE=image/jpeg:https://www.crestlinechamber.org/wp-content/uploads/2025/08/img20250812_15422707-scaled.jpg
ORGANIZER;CN="Twin Peaks Farmers Market":MAILTO:twinpeaksfarmersmarket@gmail.com
END:VEVENT
BEGIN:VEVENT
DTSTART;TZID=America/Los_Angeles:20270422T140000
DTEND;TZID=America/Los_Angeles:20270422T183000
DTSTAMP:20260423T184330
CREATED:20250813T172934Z
LAST-MODIFIED:20250813T173846Z
UID:10006752-1808402400-1808418600@www.crestlinechamber.org
SUMMARY:Twin Peaks Farmers Market 🍏🍊🍋🍉🍓🥦🥒🫑🧄🍞🥖
DESCRIPTION:
URL:https://www.crestlinechamber.org/event/twin-peaks-farmers-market-%f0%9f%8d%8f%f0%9f%8d%8a%f0%9f%8d%8b%f0%9f%8d%89%f0%9f%8d%93%f0%9f%a5%a6%f0%9f%a5%92%f0%9f%ab%91%f0%9f%a7%84%f0%9f%8d%9e%f0%9f%a5%96/2027-04-22/
LOCATION:26012 HWY 189\, Twin Peaks
CATEGORIES:Community Event,Family Friendly,Live Music
ATTACH;FMTTYPE=image/jpeg:https://www.crestlinechamber.org/wp-content/uploads/2025/08/img20250812_15422707-scaled.jpg
ORGANIZER;CN="Twin Peaks Farmers Market":MAILTO:twinpeaksfarmersmarket@gmail.com
END:VEVENT
BEGIN:VEVENT
DTSTART;TZID=America/Los_Angeles:20270429T140000
DTEND;TZID=America/Los_Angeles:20270429T183000
DTSTAMP:20260423T184330
CREATED:20250813T172934Z
LAST-MODIFIED:20250813T173846Z
UID:10006753-1809007200-1809023400@www.crestlinechamber.org
SUMMARY:Twin Peaks Farmers Market 🍏🍊🍋🍉🍓🥦🥒🫑🧄🍞🥖
DESCRIPTION:
URL:https://www.crestlinechamber.org/event/twin-peaks-farmers-market-%f0%9f%8d%8f%f0%9f%8d%8a%f0%9f%8d%8b%f0%9f%8d%89%f0%9f%8d%93%f0%9f%a5%a6%f0%9f%a5%92%f0%9f%ab%91%f0%9f%a7%84%f0%9f%8d%9e%f0%9f%a5%96/2027-04-29/
LOCATION:26012 HWY 189\, Twin Peaks
CATEGORIES:Community Event,Family Friendly,Live Music
ATTACH;FMTTYPE=image/jpeg:https://www.crestlinechamber.org/wp-content/uploads/2025/08/img20250812_15422707-scaled.jpg
ORGANIZER;CN="Twin Peaks Farmers Market":MAILTO:twinpeaksfarmersmarket@gmail.com
END:VEVENT
BEGIN:VEVENT
DTSTART;TZID=America/Los_Angeles:20270506T140000
DTEND;TZID=America/Los_Angeles:20270506T183000
DTSTAMP:20260423T184330
CREATED:20250813T172934Z
LAST-MODIFIED:20250813T173846Z
UID:10006754-1809612000-1809628200@www.crestlinechamber.org
SUMMARY:Twin Peaks Farmers Market 🍏🍊🍋🍉🍓🥦🥒🫑🧄🍞🥖
DESCRIPTION:
URL:https://www.crestlinechamber.org/event/twin-peaks-farmers-market-%f0%9f%8d%8f%f0%9f%8d%8a%f0%9f%8d%8b%f0%9f%8d%89%f0%9f%8d%93%f0%9f%a5%a6%f0%9f%a5%92%f0%9f%ab%91%f0%9f%a7%84%f0%9f%8d%9e%f0%9f%a5%96/2027-05-06/
LOCATION:26012 HWY 189\, Twin Peaks
CATEGORIES:Community Event,Family Friendly,Live Music
ATTACH;FMTTYPE=image/jpeg:https://www.crestlinechamber.org/wp-content/uploads/2025/08/img20250812_15422707-scaled.jpg
ORGANIZER;CN="Twin Peaks Farmers Market":MAILTO:twinpeaksfarmersmarket@gmail.com
END:VEVENT
BEGIN:VEVENT
DTSTART;TZID=America/Los_Angeles:20270513T140000
DTEND;TZID=America/Los_Angeles:20270513T183000
DTSTAMP:20260423T184330
CREATED:20250813T172934Z
LAST-MODIFIED:20250813T173846Z
UID:10006755-1810216800-1810233000@www.crestlinechamber.org
SUMMARY:Twin Peaks Farmers Market 🍏🍊🍋🍉🍓🥦🥒🫑🧄🍞🥖
DESCRIPTION:
URL:https://www.crestlinechamber.org/event/twin-peaks-farmers-market-%f0%9f%8d%8f%f0%9f%8d%8a%f0%9f%8d%8b%f0%9f%8d%89%f0%9f%8d%93%f0%9f%a5%a6%f0%9f%a5%92%f0%9f%ab%91%f0%9f%a7%84%f0%9f%8d%9e%f0%9f%a5%96/2027-05-13/
LOCATION:26012 HWY 189\, Twin Peaks
CATEGORIES:Community Event,Family Friendly,Live Music
ATTACH;FMTTYPE=image/jpeg:https://www.crestlinechamber.org/wp-content/uploads/2025/08/img20250812_15422707-scaled.jpg
ORGANIZER;CN="Twin Peaks Farmers Market":MAILTO:twinpeaksfarmersmarket@gmail.com
END:VEVENT
BEGIN:VEVENT
DTSTART;TZID=America/Los_Angeles:20270520T140000
DTEND;TZID=America/Los_Angeles:20270520T183000
DTSTAMP:20260423T184330
CREATED:20250813T172934Z
LAST-MODIFIED:20250813T173846Z
UID:10006756-1810821600-1810837800@www.crestlinechamber.org
SUMMARY:Twin Peaks Farmers Market 🍏🍊🍋🍉🍓🥦🥒🫑🧄🍞🥖
DESCRIPTION:
URL:https://www.crestlinechamber.org/event/twin-peaks-farmers-market-%f0%9f%8d%8f%f0%9f%8d%8a%f0%9f%8d%8b%f0%9f%8d%89%f0%9f%8d%93%f0%9f%a5%a6%f0%9f%a5%92%f0%9f%ab%91%f0%9f%a7%84%f0%9f%8d%9e%f0%9f%a5%96/2027-05-20/
LOCATION:26012 HWY 189\, Twin Peaks
CATEGORIES:Community Event,Family Friendly,Live Music
ATTACH;FMTTYPE=image/jpeg:https://www.crestlinechamber.org/wp-content/uploads/2025/08/img20250812_15422707-scaled.jpg
ORGANIZER;CN="Twin Peaks Farmers Market":MAILTO:twinpeaksfarmersmarket@gmail.com
END:VEVENT
BEGIN:VEVENT
DTSTART;TZID=America/Los_Angeles:20270527T140000
DTEND;TZID=America/Los_Angeles:20270527T183000
DTSTAMP:20260423T184330
CREATED:20250813T172934Z
LAST-MODIFIED:20250813T173846Z
UID:10006757-1811426400-1811442600@www.crestlinechamber.org
SUMMARY:Twin Peaks Farmers Market 🍏🍊🍋🍉🍓🥦🥒🫑🧄🍞🥖
DESCRIPTION:
URL:https://www.crestlinechamber.org/event/twin-peaks-farmers-market-%f0%9f%8d%8f%f0%9f%8d%8a%f0%9f%8d%8b%f0%9f%8d%89%f0%9f%8d%93%f0%9f%a5%a6%f0%9f%a5%92%f0%9f%ab%91%f0%9f%a7%84%f0%9f%8d%9e%f0%9f%a5%96/2027-05-27/
LOCATION:26012 HWY 189\, Twin Peaks
CATEGORIES:Community Event,Family Friendly,Live Music
ATTACH;FMTTYPE=image/jpeg:https://www.crestlinechamber.org/wp-content/uploads/2025/08/img20250812_15422707-scaled.jpg
ORGANIZER;CN="Twin Peaks Farmers Market":MAILTO:twinpeaksfarmersmarket@gmail.com
END:VEVENT
BEGIN:VEVENT
DTSTART;TZID=America/Los_Angeles:20270603T140000
DTEND;TZID=America/Los_Angeles:20270603T183000
DTSTAMP:20260423T184330
CREATED:20250813T172934Z
LAST-MODIFIED:20250813T173846Z
UID:10006758-1812031200-1812047400@www.crestlinechamber.org
SUMMARY:Twin Peaks Farmers Market 🍏🍊🍋🍉🍓🥦🥒🫑🧄🍞🥖
DESCRIPTION:
URL:https://www.crestlinechamber.org/event/twin-peaks-farmers-market-%f0%9f%8d%8f%f0%9f%8d%8a%f0%9f%8d%8b%f0%9f%8d%89%f0%9f%8d%93%f0%9f%a5%a6%f0%9f%a5%92%f0%9f%ab%91%f0%9f%a7%84%f0%9f%8d%9e%f0%9f%a5%96/2027-06-03/
LOCATION:26012 HWY 189\, Twin Peaks
CATEGORIES:Community Event,Family Friendly,Live Music
ATTACH;FMTTYPE=image/jpeg:https://www.crestlinechamber.org/wp-content/uploads/2025/08/img20250812_15422707-scaled.jpg
ORGANIZER;CN="Twin Peaks Farmers Market":MAILTO:twinpeaksfarmersmarket@gmail.com
END:VEVENT
BEGIN:VEVENT
DTSTART;TZID=America/Los_Angeles:20270610T140000
DTEND;TZID=America/Los_Angeles:20270610T183000
DTSTAMP:20260423T184330
CREATED:20250813T172934Z
LAST-MODIFIED:20250813T173846Z
UID:10006759-1812636000-1812652200@www.crestlinechamber.org
SUMMARY:Twin Peaks Farmers Market 🍏🍊🍋🍉🍓🥦🥒🫑🧄🍞🥖
DESCRIPTION:
URL:https://www.crestlinechamber.org/event/twin-peaks-farmers-market-%f0%9f%8d%8f%f0%9f%8d%8a%f0%9f%8d%8b%f0%9f%8d%89%f0%9f%8d%93%f0%9f%a5%a6%f0%9f%a5%92%f0%9f%ab%91%f0%9f%a7%84%f0%9f%8d%9e%f0%9f%a5%96/2027-06-10/
LOCATION:26012 HWY 189\, Twin Peaks
CATEGORIES:Community Event,Family Friendly,Live Music
ATTACH;FMTTYPE=image/jpeg:https://www.crestlinechamber.org/wp-content/uploads/2025/08/img20250812_15422707-scaled.jpg
ORGANIZER;CN="Twin Peaks Farmers Market":MAILTO:twinpeaksfarmersmarket@gmail.com
END:VEVENT
BEGIN:VEVENT
DTSTART;TZID=America/Los_Angeles:20270617T140000
DTEND;TZID=America/Los_Angeles:20270617T183000
DTSTAMP:20260423T184330
CREATED:20250813T172934Z
LAST-MODIFIED:20250813T173846Z
UID:10006760-1813240800-1813257000@www.crestlinechamber.org
SUMMARY:Twin Peaks Farmers Market 🍏🍊🍋🍉🍓🥦🥒🫑🧄🍞🥖
DESCRIPTION:
URL:https://www.crestlinechamber.org/event/twin-peaks-farmers-market-%f0%9f%8d%8f%f0%9f%8d%8a%f0%9f%8d%8b%f0%9f%8d%89%f0%9f%8d%93%f0%9f%a5%a6%f0%9f%a5%92%f0%9f%ab%91%f0%9f%a7%84%f0%9f%8d%9e%f0%9f%a5%96/2027-06-17/
LOCATION:26012 HWY 189\, Twin Peaks
CATEGORIES:Community Event,Family Friendly,Live Music
ATTACH;FMTTYPE=image/jpeg:https://www.crestlinechamber.org/wp-content/uploads/2025/08/img20250812_15422707-scaled.jpg
ORGANIZER;CN="Twin Peaks Farmers Market":MAILTO:twinpeaksfarmersmarket@gmail.com
END:VEVENT
BEGIN:VEVENT
DTSTART;TZID=America/Los_Angeles:20270624T140000
DTEND;TZID=America/Los_Angeles:20270624T183000
DTSTAMP:20260423T184330
CREATED:20250813T172934Z
LAST-MODIFIED:20250813T173846Z
UID:10006761-1813845600-1813861800@www.crestlinechamber.org
SUMMARY:Twin Peaks Farmers Market 🍏🍊🍋🍉🍓🥦🥒🫑🧄🍞🥖
DESCRIPTION:
URL:https://www.crestlinechamber.org/event/twin-peaks-farmers-market-%f0%9f%8d%8f%f0%9f%8d%8a%f0%9f%8d%8b%f0%9f%8d%89%f0%9f%8d%93%f0%9f%a5%a6%f0%9f%a5%92%f0%9f%ab%91%f0%9f%a7%84%f0%9f%8d%9e%f0%9f%a5%96/2027-06-24/
LOCATION:26012 HWY 189\, Twin Peaks
CATEGORIES:Community Event,Family Friendly,Live Music
ATTACH;FMTTYPE=image/jpeg:https://www.crestlinechamber.org/wp-content/uploads/2025/08/img20250812_15422707-scaled.jpg
ORGANIZER;CN="Twin Peaks Farmers Market":MAILTO:twinpeaksfarmersmarket@gmail.com
END:VEVENT
BEGIN:VEVENT
DTSTART;TZID=America/Los_Angeles:20270701T140000
DTEND;TZID=America/Los_Angeles:20270701T183000
DTSTAMP:20260423T184330
CREATED:20250813T172934Z
LAST-MODIFIED:20250813T173846Z
UID:10006762-1814450400-1814466600@www.crestlinechamber.org
SUMMARY:Twin Peaks Farmers Market 🍏🍊🍋🍉🍓🥦🥒🫑🧄🍞🥖
DESCRIPTION:
URL:https://www.crestlinechamber.org/event/twin-peaks-farmers-market-%f0%9f%8d%8f%f0%9f%8d%8a%f0%9f%8d%8b%f0%9f%8d%89%f0%9f%8d%93%f0%9f%a5%a6%f0%9f%a5%92%f0%9f%ab%91%f0%9f%a7%84%f0%9f%8d%9e%f0%9f%a5%96/2027-07-01/
LOCATION:26012 HWY 189\, Twin Peaks
CATEGORIES:Community Event,Family Friendly,Live Music
ATTACH;FMTTYPE=image/jpeg:https://www.crestlinechamber.org/wp-content/uploads/2025/08/img20250812_15422707-scaled.jpg
ORGANIZER;CN="Twin Peaks Farmers Market":MAILTO:twinpeaksfarmersmarket@gmail.com
END:VEVENT
BEGIN:VEVENT
DTSTART;TZID=America/Los_Angeles:20270708T140000
DTEND;TZID=America/Los_Angeles:20270708T183000
DTSTAMP:20260423T184330
CREATED:20250813T172934Z
LAST-MODIFIED:20250813T173846Z
UID:10006763-1815055200-1815071400@www.crestlinechamber.org
SUMMARY:Twin Peaks Farmers Market 🍏🍊🍋🍉🍓🥦🥒🫑🧄🍞🥖
DESCRIPTION:
URL:https://www.crestlinechamber.org/event/twin-peaks-farmers-market-%f0%9f%8d%8f%f0%9f%8d%8a%f0%9f%8d%8b%f0%9f%8d%89%f0%9f%8d%93%f0%9f%a5%a6%f0%9f%a5%92%f0%9f%ab%91%f0%9f%a7%84%f0%9f%8d%9e%f0%9f%a5%96/2027-07-08/
LOCATION:26012 HWY 189\, Twin Peaks
CATEGORIES:Community Event,Family Friendly,Live Music
ATTACH;FMTTYPE=image/jpeg:https://www.crestlinechamber.org/wp-content/uploads/2025/08/img20250812_15422707-scaled.jpg
ORGANIZER;CN="Twin Peaks Farmers Market":MAILTO:twinpeaksfarmersmarket@gmail.com
END:VEVENT
BEGIN:VEVENT
DTSTART;TZID=America/Los_Angeles:20270715T140000
DTEND;TZID=America/Los_Angeles:20270715T183000
DTSTAMP:20260423T184330
CREATED:20250813T172934Z
LAST-MODIFIED:20250813T173846Z
UID:10006764-1815660000-1815676200@www.crestlinechamber.org
SUMMARY:Twin Peaks Farmers Market 🍏🍊🍋🍉🍓🥦🥒🫑🧄🍞🥖
DESCRIPTION:
URL:https://www.crestlinechamber.org/event/twin-peaks-farmers-market-%f0%9f%8d%8f%f0%9f%8d%8a%f0%9f%8d%8b%f0%9f%8d%89%f0%9f%8d%93%f0%9f%a5%a6%f0%9f%a5%92%f0%9f%ab%91%f0%9f%a7%84%f0%9f%8d%9e%f0%9f%a5%96/2027-07-15/
LOCATION:26012 HWY 189\, Twin Peaks
CATEGORIES:Community Event,Family Friendly,Live Music
ATTACH;FMTTYPE=image/jpeg:https://www.crestlinechamber.org/wp-content/uploads/2025/08/img20250812_15422707-scaled.jpg
ORGANIZER;CN="Twin Peaks Farmers Market":MAILTO:twinpeaksfarmersmarket@gmail.com
END:VEVENT
BEGIN:VEVENT
DTSTART;TZID=America/Los_Angeles:20270722T140000
DTEND;TZID=America/Los_Angeles:20270722T183000
DTSTAMP:20260423T184330
CREATED:20250813T172934Z
LAST-MODIFIED:20250813T173846Z
UID:10006765-1816264800-1816281000@www.crestlinechamber.org
SUMMARY:Twin Peaks Farmers Market 🍏🍊🍋🍉🍓🥦🥒🫑🧄🍞🥖
DESCRIPTION:
URL:https://www.crestlinechamber.org/event/twin-peaks-farmers-market-%f0%9f%8d%8f%f0%9f%8d%8a%f0%9f%8d%8b%f0%9f%8d%89%f0%9f%8d%93%f0%9f%a5%a6%f0%9f%a5%92%f0%9f%ab%91%f0%9f%a7%84%f0%9f%8d%9e%f0%9f%a5%96/2027-07-22/
LOCATION:26012 HWY 189\, Twin Peaks
CATEGORIES:Community Event,Family Friendly,Live Music
ATTACH;FMTTYPE=image/jpeg:https://www.crestlinechamber.org/wp-content/uploads/2025/08/img20250812_15422707-scaled.jpg
ORGANIZER;CN="Twin Peaks Farmers Market":MAILTO:twinpeaksfarmersmarket@gmail.com
END:VEVENT
BEGIN:VEVENT
DTSTART;TZID=America/Los_Angeles:20270729T140000
DTEND;TZID=America/Los_Angeles:20270729T183000
DTSTAMP:20260423T184330
CREATED:20250813T172934Z
LAST-MODIFIED:20250813T173846Z
UID:10006766-1816869600-1816885800@www.crestlinechamber.org
SUMMARY:Twin Peaks Farmers Market 🍏🍊🍋🍉🍓🥦🥒🫑🧄🍞🥖
DESCRIPTION:
URL:https://www.crestlinechamber.org/event/twin-peaks-farmers-market-%f0%9f%8d%8f%f0%9f%8d%8a%f0%9f%8d%8b%f0%9f%8d%89%f0%9f%8d%93%f0%9f%a5%a6%f0%9f%a5%92%f0%9f%ab%91%f0%9f%a7%84%f0%9f%8d%9e%f0%9f%a5%96/2027-07-29/
LOCATION:26012 HWY 189\, Twin Peaks
CATEGORIES:Community Event,Family Friendly,Live Music
ATTACH;FMTTYPE=image/jpeg:https://www.crestlinechamber.org/wp-content/uploads/2025/08/img20250812_15422707-scaled.jpg
ORGANIZER;CN="Twin Peaks Farmers Market":MAILTO:twinpeaksfarmersmarket@gmail.com
END:VEVENT
BEGIN:VEVENT
DTSTART;TZID=America/Los_Angeles:20270805T140000
DTEND;TZID=America/Los_Angeles:20270805T183000
DTSTAMP:20260423T184330
CREATED:20250813T172934Z
LAST-MODIFIED:20250813T173846Z
UID:10006767-1817474400-1817490600@www.crestlinechamber.org
SUMMARY:Twin Peaks Farmers Market 🍏🍊🍋🍉🍓🥦🥒🫑🧄🍞🥖
DESCRIPTION:
URL:https://www.crestlinechamber.org/event/twin-peaks-farmers-market-%f0%9f%8d%8f%f0%9f%8d%8a%f0%9f%8d%8b%f0%9f%8d%89%f0%9f%8d%93%f0%9f%a5%a6%f0%9f%a5%92%f0%9f%ab%91%f0%9f%a7%84%f0%9f%8d%9e%f0%9f%a5%96/2027-08-05/
LOCATION:26012 HWY 189\, Twin Peaks
CATEGORIES:Community Event,Family Friendly,Live Music
ATTACH;FMTTYPE=image/jpeg:https://www.crestlinechamber.org/wp-content/uploads/2025/08/img20250812_15422707-scaled.jpg
ORGANIZER;CN="Twin Peaks Farmers Market":MAILTO:twinpeaksfarmersmarket@gmail.com
END:VEVENT
BEGIN:VEVENT
DTSTART;TZID=America/Los_Angeles:20270812T140000
DTEND;TZID=America/Los_Angeles:20270812T183000
DTSTAMP:20260423T184330
CREATED:20250813T172934Z
LAST-MODIFIED:20250813T173846Z
UID:10006768-1818079200-1818095400@www.crestlinechamber.org
SUMMARY:Twin Peaks Farmers Market 🍏🍊🍋🍉🍓🥦🥒🫑🧄🍞🥖
DESCRIPTION:
URL:https://www.crestlinechamber.org/event/twin-peaks-farmers-market-%f0%9f%8d%8f%f0%9f%8d%8a%f0%9f%8d%8b%f0%9f%8d%89%f0%9f%8d%93%f0%9f%a5%a6%f0%9f%a5%92%f0%9f%ab%91%f0%9f%a7%84%f0%9f%8d%9e%f0%9f%a5%96/2027-08-12/
LOCATION:26012 HWY 189\, Twin Peaks
CATEGORIES:Community Event,Family Friendly,Live Music
ATTACH;FMTTYPE=image/jpeg:https://www.crestlinechamber.org/wp-content/uploads/2025/08/img20250812_15422707-scaled.jpg
ORGANIZER;CN="Twin Peaks Farmers Market":MAILTO:twinpeaksfarmersmarket@gmail.com
END:VEVENT
BEGIN:VEVENT
DTSTART;TZID=America/Los_Angeles:20270819T140000
DTEND;TZID=America/Los_Angeles:20270819T183000
DTSTAMP:20260423T184330
CREATED:20250813T172934Z
LAST-MODIFIED:20250813T173846Z
UID:10006769-1818684000-1818700200@www.crestlinechamber.org
SUMMARY:Twin Peaks Farmers Market 🍏🍊🍋🍉🍓🥦🥒🫑🧄🍞🥖
DESCRIPTION:
URL:https://www.crestlinechamber.org/event/twin-peaks-farmers-market-%f0%9f%8d%8f%f0%9f%8d%8a%f0%9f%8d%8b%f0%9f%8d%89%f0%9f%8d%93%f0%9f%a5%a6%f0%9f%a5%92%f0%9f%ab%91%f0%9f%a7%84%f0%9f%8d%9e%f0%9f%a5%96/2027-08-19/
LOCATION:26012 HWY 189\, Twin Peaks
CATEGORIES:Community Event,Family Friendly,Live Music
ATTACH;FMTTYPE=image/jpeg:https://www.crestlinechamber.org/wp-content/uploads/2025/08/img20250812_15422707-scaled.jpg
ORGANIZER;CN="Twin Peaks Farmers Market":MAILTO:twinpeaksfarmersmarket@gmail.com
END:VEVENT
BEGIN:VEVENT
DTSTART;TZID=America/Los_Angeles:20270826T140000
DTEND;TZID=America/Los_Angeles:20270826T183000
DTSTAMP:20260423T184330
CREATED:20250813T172934Z
LAST-MODIFIED:20250813T173846Z
UID:10006770-1819288800-1819305000@www.crestlinechamber.org
SUMMARY:Twin Peaks Farmers Market 🍏🍊🍋🍉🍓🥦🥒🫑🧄🍞🥖
DESCRIPTION:
URL:https://www.crestlinechamber.org/event/twin-peaks-farmers-market-%f0%9f%8d%8f%f0%9f%8d%8a%f0%9f%8d%8b%f0%9f%8d%89%f0%9f%8d%93%f0%9f%a5%a6%f0%9f%a5%92%f0%9f%ab%91%f0%9f%a7%84%f0%9f%8d%9e%f0%9f%a5%96/2027-08-26/
LOCATION:26012 HWY 189\, Twin Peaks
CATEGORIES:Community Event,Family Friendly,Live Music
ATTACH;FMTTYPE=image/jpeg:https://www.crestlinechamber.org/wp-content/uploads/2025/08/img20250812_15422707-scaled.jpg
ORGANIZER;CN="Twin Peaks Farmers Market":MAILTO:twinpeaksfarmersmarket@gmail.com
END:VEVENT
BEGIN:VEVENT
DTSTART;TZID=America/Los_Angeles:20270902T140000
DTEND;TZID=America/Los_Angeles:20270902T183000
DTSTAMP:20260423T184330
CREATED:20250813T172934Z
LAST-MODIFIED:20250813T173846Z
UID:10006771-1819893600-1819909800@www.crestlinechamber.org
SUMMARY:Twin Peaks Farmers Market 🍏🍊🍋🍉🍓🥦🥒🫑🧄🍞🥖
DESCRIPTION:
URL:https://www.crestlinechamber.org/event/twin-peaks-farmers-market-%f0%9f%8d%8f%f0%9f%8d%8a%f0%9f%8d%8b%f0%9f%8d%89%f0%9f%8d%93%f0%9f%a5%a6%f0%9f%a5%92%f0%9f%ab%91%f0%9f%a7%84%f0%9f%8d%9e%f0%9f%a5%96/2027-09-02/
LOCATION:26012 HWY 189\, Twin Peaks
CATEGORIES:Community Event,Family Friendly,Live Music
ATTACH;FMTTYPE=image/jpeg:https://www.crestlinechamber.org/wp-content/uploads/2025/08/img20250812_15422707-scaled.jpg
ORGANIZER;CN="Twin Peaks Farmers Market":MAILTO:twinpeaksfarmersmarket@gmail.com
END:VEVENT
BEGIN:VEVENT
DTSTART;TZID=America/Los_Angeles:20270909T140000
DTEND;TZID=America/Los_Angeles:20270909T183000
DTSTAMP:20260423T184330
CREATED:20250813T172934Z
LAST-MODIFIED:20250813T173846Z
UID:10006772-1820498400-1820514600@www.crestlinechamber.org
SUMMARY:Twin Peaks Farmers Market 🍏🍊🍋🍉🍓🥦🥒🫑🧄🍞🥖
DESCRIPTION:
URL:https://www.crestlinechamber.org/event/twin-peaks-farmers-market-%f0%9f%8d%8f%f0%9f%8d%8a%f0%9f%8d%8b%f0%9f%8d%89%f0%9f%8d%93%f0%9f%a5%a6%f0%9f%a5%92%f0%9f%ab%91%f0%9f%a7%84%f0%9f%8d%9e%f0%9f%a5%96/2027-09-09/
LOCATION:26012 HWY 189\, Twin Peaks
CATEGORIES:Community Event,Family Friendly,Live Music
ATTACH;FMTTYPE=image/jpeg:https://www.crestlinechamber.org/wp-content/uploads/2025/08/img20250812_15422707-scaled.jpg
ORGANIZER;CN="Twin Peaks Farmers Market":MAILTO:twinpeaksfarmersmarket@gmail.com
END:VEVENT
BEGIN:VEVENT
DTSTART;TZID=America/Los_Angeles:20270916T140000
DTEND;TZID=America/Los_Angeles:20270916T183000
DTSTAMP:20260423T184330
CREATED:20250813T172934Z
LAST-MODIFIED:20250813T173846Z
UID:10006773-1821103200-1821119400@www.crestlinechamber.org
SUMMARY:Twin Peaks Farmers Market 🍏🍊🍋🍉🍓🥦🥒🫑🧄🍞🥖
DESCRIPTION:
URL:https://www.crestlinechamber.org/event/twin-peaks-farmers-market-%f0%9f%8d%8f%f0%9f%8d%8a%f0%9f%8d%8b%f0%9f%8d%89%f0%9f%8d%93%f0%9f%a5%a6%f0%9f%a5%92%f0%9f%ab%91%f0%9f%a7%84%f0%9f%8d%9e%f0%9f%a5%96/2027-09-16/
LOCATION:26012 HWY 189\, Twin Peaks
CATEGORIES:Community Event,Family Friendly,Live Music
ATTACH;FMTTYPE=image/jpeg:https://www.crestlinechamber.org/wp-content/uploads/2025/08/img20250812_15422707-scaled.jpg
ORGANIZER;CN="Twin Peaks Farmers Market":MAILTO:twinpeaksfarmersmarket@gmail.com
END:VEVENT
BEGIN:VEVENT
DTSTART;TZID=America/Los_Angeles:20270923T140000
DTEND;TZID=America/Los_Angeles:20270923T183000
DTSTAMP:20260423T184330
CREATED:20250813T172934Z
LAST-MODIFIED:20250813T173846Z
UID:10006774-1821708000-1821724200@www.crestlinechamber.org
SUMMARY:Twin Peaks Farmers Market 🍏🍊🍋🍉🍓🥦🥒🫑🧄🍞🥖
DESCRIPTION:
URL:https://www.crestlinechamber.org/event/twin-peaks-farmers-market-%f0%9f%8d%8f%f0%9f%8d%8a%f0%9f%8d%8b%f0%9f%8d%89%f0%9f%8d%93%f0%9f%a5%a6%f0%9f%a5%92%f0%9f%ab%91%f0%9f%a7%84%f0%9f%8d%9e%f0%9f%a5%96/2027-09-23/
LOCATION:26012 HWY 189\, Twin Peaks
CATEGORIES:Community Event,Family Friendly,Live Music
ATTACH;FMTTYPE=image/jpeg:https://www.crestlinechamber.org/wp-content/uploads/2025/08/img20250812_15422707-scaled.jpg
ORGANIZER;CN="Twin Peaks Farmers Market":MAILTO:twinpeaksfarmersmarket@gmail.com
END:VEVENT
BEGIN:VEVENT
DTSTART;TZID=America/Los_Angeles:20270930T140000
DTEND;TZID=America/Los_Angeles:20270930T183000
DTSTAMP:20260423T184330
CREATED:20250813T172934Z
LAST-MODIFIED:20250813T173846Z
UID:10006775-1822312800-1822329000@www.crestlinechamber.org
SUMMARY:Twin Peaks Farmers Market 🍏🍊🍋🍉🍓🥦🥒🫑🧄🍞🥖
DESCRIPTION:
URL:https://www.crestlinechamber.org/event/twin-peaks-farmers-market-%f0%9f%8d%8f%f0%9f%8d%8a%f0%9f%8d%8b%f0%9f%8d%89%f0%9f%8d%93%f0%9f%a5%a6%f0%9f%a5%92%f0%9f%ab%91%f0%9f%a7%84%f0%9f%8d%9e%f0%9f%a5%96/2027-09-30/
LOCATION:26012 HWY 189\, Twin Peaks
CATEGORIES:Community Event,Family Friendly,Live Music
ATTACH;FMTTYPE=image/jpeg:https://www.crestlinechamber.org/wp-content/uploads/2025/08/img20250812_15422707-scaled.jpg
ORGANIZER;CN="Twin Peaks Farmers Market":MAILTO:twinpeaksfarmersmarket@gmail.com
END:VEVENT
BEGIN:VEVENT
DTSTART;TZID=America/Los_Angeles:20271007T140000
DTEND;TZID=America/Los_Angeles:20271007T183000
DTSTAMP:20260423T184330
CREATED:20250813T172934Z
LAST-MODIFIED:20250813T173846Z
UID:10006776-1822917600-1822933800@www.crestlinechamber.org
SUMMARY:Twin Peaks Farmers Market 🍏🍊🍋🍉🍓🥦🥒🫑🧄🍞🥖
DESCRIPTION:
URL:https://www.crestlinechamber.org/event/twin-peaks-farmers-market-%f0%9f%8d%8f%f0%9f%8d%8a%f0%9f%8d%8b%f0%9f%8d%89%f0%9f%8d%93%f0%9f%a5%a6%f0%9f%a5%92%f0%9f%ab%91%f0%9f%a7%84%f0%9f%8d%9e%f0%9f%a5%96/2027-10-07/
LOCATION:26012 HWY 189\, Twin Peaks
CATEGORIES:Community Event,Family Friendly,Live Music
ATTACH;FMTTYPE=image/jpeg:https://www.crestlinechamber.org/wp-content/uploads/2025/08/img20250812_15422707-scaled.jpg
ORGANIZER;CN="Twin Peaks Farmers Market":MAILTO:twinpeaksfarmersmarket@gmail.com
END:VEVENT
BEGIN:VEVENT
DTSTART;TZID=America/Los_Angeles:20271014T140000
DTEND;TZID=America/Los_Angeles:20271014T183000
DTSTAMP:20260423T184330
CREATED:20250813T172934Z
LAST-MODIFIED:20250813T173846Z
UID:10006777-1823522400-1823538600@www.crestlinechamber.org
SUMMARY:Twin Peaks Farmers Market 🍏🍊🍋🍉🍓🥦🥒🫑🧄🍞🥖
DESCRIPTION:
URL:https://www.crestlinechamber.org/event/twin-peaks-farmers-market-%f0%9f%8d%8f%f0%9f%8d%8a%f0%9f%8d%8b%f0%9f%8d%89%f0%9f%8d%93%f0%9f%a5%a6%f0%9f%a5%92%f0%9f%ab%91%f0%9f%a7%84%f0%9f%8d%9e%f0%9f%a5%96/2027-10-14/
LOCATION:26012 HWY 189\, Twin Peaks
CATEGORIES:Community Event,Family Friendly,Live Music
ATTACH;FMTTYPE=image/jpeg:https://www.crestlinechamber.org/wp-content/uploads/2025/08/img20250812_15422707-scaled.jpg
ORGANIZER;CN="Twin Peaks Farmers Market":MAILTO:twinpeaksfarmersmarket@gmail.com
END:VEVENT
BEGIN:VEVENT
DTSTART;TZID=America/Los_Angeles:20271021T140000
DTEND;TZID=America/Los_Angeles:20271021T183000
DTSTAMP:20260423T184330
CREATED:20250813T172934Z
LAST-MODIFIED:20250813T173846Z
UID:10006778-1824127200-1824143400@www.crestlinechamber.org
SUMMARY:Twin Peaks Farmers Market 🍏🍊🍋🍉🍓🥦🥒🫑🧄🍞🥖
DESCRIPTION:
URL:https://www.crestlinechamber.org/event/twin-peaks-farmers-market-%f0%9f%8d%8f%f0%9f%8d%8a%f0%9f%8d%8b%f0%9f%8d%89%f0%9f%8d%93%f0%9f%a5%a6%f0%9f%a5%92%f0%9f%ab%91%f0%9f%a7%84%f0%9f%8d%9e%f0%9f%a5%96/2027-10-21/
LOCATION:26012 HWY 189\, Twin Peaks
CATEGORIES:Community Event,Family Friendly,Live Music
ATTACH;FMTTYPE=image/jpeg:https://www.crestlinechamber.org/wp-content/uploads/2025/08/img20250812_15422707-scaled.jpg
ORGANIZER;CN="Twin Peaks Farmers Market":MAILTO:twinpeaksfarmersmarket@gmail.com
END:VEVENT
END:VCALENDAR