BEGIN:VCALENDAR
VERSION:2.0
PRODID:-//Crestline Chamber of Commerce - ECPv6.15.20//NONSGML v1.0//EN
CALSCALE:GREGORIAN
METHOD:PUBLISH
X-ORIGINAL-URL:https://www.crestlinechamber.org
X-WR-CALDESC:Events for Crestline Chamber of Commerce
REFRESH-INTERVAL;VALUE=DURATION:PT1H
X-Robots-Tag:noindex
X-PUBLISHED-TTL:PT1H
BEGIN:VTIMEZONE
TZID:America/Los_Angeles
BEGIN:DAYLIGHT
TZOFFSETFROM:-0800
TZOFFSETTO:-0700
TZNAME:PDT
DTSTART:20250309T100000
END:DAYLIGHT
BEGIN:STANDARD
TZOFFSETFROM:-0700
TZOFFSETTO:-0800
TZNAME:PST
DTSTART:20251102T090000
END:STANDARD
BEGIN:DAYLIGHT
TZOFFSETFROM:-0800
TZOFFSETTO:-0700
TZNAME:PDT
DTSTART:20260308T100000
END:DAYLIGHT
BEGIN:STANDARD
TZOFFSETFROM:-0700
TZOFFSETTO:-0800
TZNAME:PST
DTSTART:20261101T090000
END:STANDARD
BEGIN:DAYLIGHT
TZOFFSETFROM:-0800
TZOFFSETTO:-0700
TZNAME:PDT
DTSTART:20270314T100000
END:DAYLIGHT
BEGIN:STANDARD
TZOFFSETFROM:-0700
TZOFFSETTO:-0800
TZNAME:PST
DTSTART:20271107T090000
END:STANDARD
END:VTIMEZONE
BEGIN:VEVENT
DTSTART;TZID=America/Los_Angeles:20260207T170000
DTEND;TZID=America/Los_Angeles:20260207T190000
DTSTAMP:20260424T011209
CREATED:20260131T171713Z
LAST-MODIFIED:20260131T171727Z
UID:10007395-1770483600-1770490800@www.crestlinechamber.org
SUMMARY:Mom's Paint Night Out
DESCRIPTION:Take a little me-time and get creative with us! Join Rim Family Services for a FREE Canvas Painting Night — perfect for moms\, friends\, and anyone craving a cozy\, artsy escape ✨ \n🍪 Light snacks provided — just bring your creativity and your good vibes! \nHosted by Rim Family Services\n“Preserving Our Families… Strengthening Our Communities” \n💕 Come paint\, laugh\, unwind\, and enjoy a feel-good night of art\, connection\, and self-care — you deserve it! ✨
URL:https://www.crestlinechamber.org/event/moms-paint-night-out/
LOCATION:28545 CA-18\, Skyforest\, CA 92385
CATEGORIES:Family Friendly
END:VEVENT
END:VCALENDAR