BEGIN:VCALENDAR
VERSION:2.0
PRODID:-//Crestline Chamber of Commerce - ECPv6.15.20//NONSGML v1.0//EN
CALSCALE:GREGORIAN
METHOD:PUBLISH
X-ORIGINAL-URL:https://www.crestlinechamber.org
X-WR-CALDESC:Events for Crestline Chamber of Commerce
REFRESH-INTERVAL;VALUE=DURATION:PT1H
X-Robots-Tag:noindex
X-PUBLISHED-TTL:PT1H
BEGIN:VTIMEZONE
TZID:America/Los_Angeles
BEGIN:DAYLIGHT
TZOFFSETFROM:-0800
TZOFFSETTO:-0700
TZNAME:PDT
DTSTART:20250309T100000
END:DAYLIGHT
BEGIN:STANDARD
TZOFFSETFROM:-0700
TZOFFSETTO:-0800
TZNAME:PST
DTSTART:20251102T090000
END:STANDARD
BEGIN:DAYLIGHT
TZOFFSETFROM:-0800
TZOFFSETTO:-0700
TZNAME:PDT
DTSTART:20260308T100000
END:DAYLIGHT
BEGIN:STANDARD
TZOFFSETFROM:-0700
TZOFFSETTO:-0800
TZNAME:PST
DTSTART:20261101T090000
END:STANDARD
BEGIN:DAYLIGHT
TZOFFSETFROM:-0800
TZOFFSETTO:-0700
TZNAME:PDT
DTSTART:20270314T100000
END:DAYLIGHT
BEGIN:STANDARD
TZOFFSETFROM:-0700
TZOFFSETTO:-0800
TZNAME:PST
DTSTART:20271107T090000
END:STANDARD
END:VTIMEZONE
BEGIN:VEVENT
DTSTART;TZID=America/Los_Angeles:20260517T140000
DTEND;TZID=America/Los_Angeles:20260517T180000
DTSTAMP:20260423T170124
CREATED:20260421T161055Z
LAST-MODIFIED:20260421T161055Z
UID:10007596-1779026400-1779040800@www.crestlinechamber.org
SUMMARY:Lake Arrowhead Jiu Jitsu:  Wim Hof Method Fundamentals
DESCRIPTION:Join us for a guided introduction to the Wim Hof Method featuring:\n• Breathwork techniques\n• Ice bath experience (supported & safe)\n• Meditation practice\n• Community connection \nThis is a space to slow down\, reset\, and learn tools for resilience—mentally and physically. Open to all levels\, no experience needed. \nHosted by Lake Arrowhead Jiu Jitsu \nCome curious. Leave energized. 💙
URL:https://www.crestlinechamber.org/event/lake-arrowhead-jiu-jitsu-wim-hof-method-fundamentals/
LOCATION:28949 Hooks Creek Rd.\, Cedar Glen\, CA
ATTACH;FMTTYPE=image/png:https://www.crestlinechamber.org/wp-content/uploads/2026/04/May-17_26.png
END:VEVENT
END:VCALENDAR