BEGIN:VCALENDAR
VERSION:2.0
PRODID:-//Crestline Chamber of Commerce - ECPv6.15.20//NONSGML v1.0//EN
CALSCALE:GREGORIAN
METHOD:PUBLISH
X-ORIGINAL-URL:https://www.crestlinechamber.org
X-WR-CALDESC:Events for Crestline Chamber of Commerce
REFRESH-INTERVAL;VALUE=DURATION:PT1H
X-Robots-Tag:noindex
X-PUBLISHED-TTL:PT1H
BEGIN:VTIMEZONE
TZID:America/Los_Angeles
BEGIN:DAYLIGHT
TZOFFSETFROM:-0800
TZOFFSETTO:-0700
TZNAME:PDT
DTSTART:20240310T100000
END:DAYLIGHT
BEGIN:STANDARD
TZOFFSETFROM:-0700
TZOFFSETTO:-0800
TZNAME:PST
DTSTART:20241103T090000
END:STANDARD
BEGIN:DAYLIGHT
TZOFFSETFROM:-0800
TZOFFSETTO:-0700
TZNAME:PDT
DTSTART:20250309T100000
END:DAYLIGHT
BEGIN:STANDARD
TZOFFSETFROM:-0700
TZOFFSETTO:-0800
TZNAME:PST
DTSTART:20251102T090000
END:STANDARD
BEGIN:DAYLIGHT
TZOFFSETFROM:-0800
TZOFFSETTO:-0700
TZNAME:PDT
DTSTART:20260308T100000
END:DAYLIGHT
BEGIN:STANDARD
TZOFFSETFROM:-0700
TZOFFSETTO:-0800
TZNAME:PST
DTSTART:20261101T090000
END:STANDARD
END:VTIMEZONE
BEGIN:VEVENT
DTSTART;TZID=America/Los_Angeles:20250628T100000
DTEND;TZID=America/Los_Angeles:20250628T150000
DTSTAMP:20260423T195847
CREATED:20250619T202012Z
LAST-MODIFIED:20250619T202012Z
UID:10005786-1751104800-1751122800@www.crestlinechamber.org
SUMMARY:1st Annual AAA Community Garden Tour  🌺 🌸 🌹
DESCRIPTION:1st Annual AAA Community Garden Tour\nCome enjoy our first annual Community Garden Tour featuring the community of Cedar Glen.  You will \nbe driving to six gardens to stroll and enjoy during the day.  Many of our gardens will feature our student \nmusicians as well. At the end of the day\, enjoy a wine and cheese reception at our seventh garden.  \nWith your tour wristband\, you have access to many specials at our Cedar Glen businesses and restaurants. \nMake sure to wear comfortable walking shoes and sunscreen. \nTickets will be available online until June 25th.  After that\, tickets may be purchased the day of the  \nevent for $50 each.
URL:https://www.crestlinechamber.org/event/1st-annual-aaa-community-garden-tour-%f0%9f%8c%ba-%f0%9f%8c%b8-%f0%9f%8c%b9/
LOCATION:Cedar Glen
CATEGORIES:Community Event,Family Friendly
ORGANIZER;CN="Arrowhead Arts Association":MAILTO:arrowhead_arts@yahoo.com
END:VEVENT
END:VCALENDAR