BEGIN:VCALENDAR
VERSION:2.0
PRODID:-//Crestline Chamber of Commerce - ECPv6.15.20//NONSGML v1.0//EN
CALSCALE:GREGORIAN
METHOD:PUBLISH
X-WR-CALNAME:Crestline Chamber of Commerce
X-ORIGINAL-URL:https://www.crestlinechamber.org
X-WR-CALDESC:Events for Crestline Chamber of Commerce
REFRESH-INTERVAL;VALUE=DURATION:PT1H
X-Robots-Tag:noindex
X-PUBLISHED-TTL:PT1H
BEGIN:VTIMEZONE
TZID:America/Los_Angeles
BEGIN:DAYLIGHT
TZOFFSETFROM:-0800
TZOFFSETTO:-0700
TZNAME:PDT
DTSTART:20260308T100000
END:DAYLIGHT
BEGIN:STANDARD
TZOFFSETFROM:-0700
TZOFFSETTO:-0800
TZNAME:PST
DTSTART:20261101T090000
END:STANDARD
BEGIN:DAYLIGHT
TZOFFSETFROM:-0800
TZOFFSETTO:-0700
TZNAME:PDT
DTSTART:20270314T100000
END:DAYLIGHT
BEGIN:STANDARD
TZOFFSETFROM:-0700
TZOFFSETTO:-0800
TZNAME:PST
DTSTART:20271107T090000
END:STANDARD
BEGIN:DAYLIGHT
TZOFFSETFROM:-0800
TZOFFSETTO:-0700
TZNAME:PDT
DTSTART:20280312T100000
END:DAYLIGHT
BEGIN:STANDARD
TZOFFSETFROM:-0700
TZOFFSETTO:-0800
TZNAME:PST
DTSTART:20281105T090000
END:STANDARD
END:VTIMEZONE
BEGIN:VEVENT
DTSTART;TZID=America/Los_Angeles:20270524T140000
DTEND;TZID=America/Los_Angeles:20270524T150000
DTSTAMP:20260424T113800
CREATED:20250127T200806Z
LAST-MODIFIED:20250127T200806Z
UID:10003008-1811167200-1811170800@www.crestlinechamber.org
SUMMARY:Adult Programs\, Yoga 🧘 🙏
DESCRIPTION:🧘‍♀️ Yoga Sessions:\nFind your inner peace with relaxing and rejuvenating yoga classes. Perfect for beginners and seasoned yogis alike\, these sessions are a great way to unwind and recharge. \n📅 Check the library’s calendar for dates and times. Embrace wellness and learning\, all in one place! ✨
URL:https://www.crestlinechamber.org/event/adult-programs-yoga-%f0%9f%a7%98-%f0%9f%99%8f/2027-05-24/
LOCATION:Crestline Branch Library\, 24105 Lake Gregory Dr\, Crestline\, CA\, 92325
CATEGORIES:Community Event,Family Friendly,Lake Gregory
END:VEVENT
BEGIN:VEVENT
DTSTART;TZID=America/Los_Angeles:20270525T113000
DTEND;TZID=America/Los_Angeles:20270525T123000
DTSTAMP:20260424T113800
CREATED:20250127T195254Z
LAST-MODIFIED:20250127T201007Z
UID:10002487-1811244600-1811248200@www.crestlinechamber.org
SUMMARY:Library Beginners\, Active Einsteins  📚🧠
DESCRIPTION:📚🧠 Exciting Programs at the Crestline Branch Library! \n🌟 Library Beginners:\nNew to the library? No problem! Discover how to find books\, use resources\, and explore all the amazing services we offer. A perfect start for lifelong learners! \n🧠 Active Einsteins:\nLet young minds thrive with hands-on STEM activities\, experiments\, and creative learning designed to spark curiosity and inspire the next generation of thinkers! \n📅 Check our schedule for upcoming sessions and programs for all ages. The Crestline Branch Library is where learning meets fun! ✨
URL:https://www.crestlinechamber.org/event/library-beginners-%f0%9f%93%9a/2027-05-25/
LOCATION:Crestline Branch Library\, 24105 Lake Gregory Dr\, Crestline\, CA\, 92325
CATEGORIES:Community Event,Family Friendly
END:VEVENT
BEGIN:VEVENT
DTSTART;TZID=America/Los_Angeles:20270526T150000
DTEND;TZID=America/Los_Angeles:20270526T160000
DTSTAMP:20260424T113800
CREATED:20250127T200257Z
LAST-MODIFIED:20250127T201232Z
UID:10002748-1811343600-1811347200@www.crestlinechamber.org
SUMMARY:Kid Zones\, Discovery Time  📚 ✨
DESCRIPTION:“Welcome to Kid Zones: Discovery Time 📚✨—a space where young minds explore\, create\, and discover the wonders of the world! From hands-on activities to captivating stories\, every moment is an opportunity to learn and grow. Let the adventure begin!”
URL:https://www.crestlinechamber.org/event/activate-einsteins-kid-zones-%f0%9f%93%9a-%e2%9c%a8/2027-05-26/
LOCATION:Crestline Branch Library\, 24105 Lake Gregory Dr\, Crestline\, CA\, 92325
CATEGORIES:Community Event,Family Friendly,Lake Gregory
END:VEVENT
BEGIN:VEVENT
DTSTART;TZID=America/Los_Angeles:20270531T140000
DTEND;TZID=America/Los_Angeles:20270531T150000
DTSTAMP:20260424T113800
CREATED:20250127T200806Z
LAST-MODIFIED:20250127T200806Z
UID:10003009-1811772000-1811775600@www.crestlinechamber.org
SUMMARY:Adult Programs\, Yoga 🧘 🙏
DESCRIPTION:🧘‍♀️ Yoga Sessions:\nFind your inner peace with relaxing and rejuvenating yoga classes. Perfect for beginners and seasoned yogis alike\, these sessions are a great way to unwind and recharge. \n📅 Check the library’s calendar for dates and times. Embrace wellness and learning\, all in one place! ✨
URL:https://www.crestlinechamber.org/event/adult-programs-yoga-%f0%9f%a7%98-%f0%9f%99%8f/2027-05-31/
LOCATION:Crestline Branch Library\, 24105 Lake Gregory Dr\, Crestline\, CA\, 92325
CATEGORIES:Community Event,Family Friendly,Lake Gregory
END:VEVENT
BEGIN:VEVENT
DTSTART;TZID=America/Los_Angeles:20270601T113000
DTEND;TZID=America/Los_Angeles:20270601T123000
DTSTAMP:20260424T113800
CREATED:20250127T195254Z
LAST-MODIFIED:20250127T201007Z
UID:10002488-1811849400-1811853000@www.crestlinechamber.org
SUMMARY:Library Beginners\, Active Einsteins  📚🧠
DESCRIPTION:📚🧠 Exciting Programs at the Crestline Branch Library! \n🌟 Library Beginners:\nNew to the library? No problem! Discover how to find books\, use resources\, and explore all the amazing services we offer. A perfect start for lifelong learners! \n🧠 Active Einsteins:\nLet young minds thrive with hands-on STEM activities\, experiments\, and creative learning designed to spark curiosity and inspire the next generation of thinkers! \n📅 Check our schedule for upcoming sessions and programs for all ages. The Crestline Branch Library is where learning meets fun! ✨
URL:https://www.crestlinechamber.org/event/library-beginners-%f0%9f%93%9a/2027-06-01/
LOCATION:Crestline Branch Library\, 24105 Lake Gregory Dr\, Crestline\, CA\, 92325
CATEGORIES:Community Event,Family Friendly
END:VEVENT
BEGIN:VEVENT
DTSTART;TZID=America/Los_Angeles:20270602T150000
DTEND;TZID=America/Los_Angeles:20270602T160000
DTSTAMP:20260424T113800
CREATED:20250127T200257Z
LAST-MODIFIED:20250127T201232Z
UID:10002749-1811948400-1811952000@www.crestlinechamber.org
SUMMARY:Kid Zones\, Discovery Time  📚 ✨
DESCRIPTION:“Welcome to Kid Zones: Discovery Time 📚✨—a space where young minds explore\, create\, and discover the wonders of the world! From hands-on activities to captivating stories\, every moment is an opportunity to learn and grow. Let the adventure begin!”
URL:https://www.crestlinechamber.org/event/activate-einsteins-kid-zones-%f0%9f%93%9a-%e2%9c%a8/2027-06-02/
LOCATION:Crestline Branch Library\, 24105 Lake Gregory Dr\, Crestline\, CA\, 92325
CATEGORIES:Community Event,Family Friendly,Lake Gregory
END:VEVENT
BEGIN:VEVENT
DTSTART;TZID=America/Los_Angeles:20270607T140000
DTEND;TZID=America/Los_Angeles:20270607T150000
DTSTAMP:20260424T113800
CREATED:20250127T200806Z
LAST-MODIFIED:20250127T200806Z
UID:10003010-1812376800-1812380400@www.crestlinechamber.org
SUMMARY:Adult Programs\, Yoga 🧘 🙏
DESCRIPTION:🧘‍♀️ Yoga Sessions:\nFind your inner peace with relaxing and rejuvenating yoga classes. Perfect for beginners and seasoned yogis alike\, these sessions are a great way to unwind and recharge. \n📅 Check the library’s calendar for dates and times. Embrace wellness and learning\, all in one place! ✨
URL:https://www.crestlinechamber.org/event/adult-programs-yoga-%f0%9f%a7%98-%f0%9f%99%8f/2027-06-07/
LOCATION:Crestline Branch Library\, 24105 Lake Gregory Dr\, Crestline\, CA\, 92325
CATEGORIES:Community Event,Family Friendly,Lake Gregory
END:VEVENT
BEGIN:VEVENT
DTSTART;TZID=America/Los_Angeles:20270608T113000
DTEND;TZID=America/Los_Angeles:20270608T123000
DTSTAMP:20260424T113800
CREATED:20250127T195254Z
LAST-MODIFIED:20250127T201007Z
UID:10002489-1812454200-1812457800@www.crestlinechamber.org
SUMMARY:Library Beginners\, Active Einsteins  📚🧠
DESCRIPTION:📚🧠 Exciting Programs at the Crestline Branch Library! \n🌟 Library Beginners:\nNew to the library? No problem! Discover how to find books\, use resources\, and explore all the amazing services we offer. A perfect start for lifelong learners! \n🧠 Active Einsteins:\nLet young minds thrive with hands-on STEM activities\, experiments\, and creative learning designed to spark curiosity and inspire the next generation of thinkers! \n📅 Check our schedule for upcoming sessions and programs for all ages. The Crestline Branch Library is where learning meets fun! ✨
URL:https://www.crestlinechamber.org/event/library-beginners-%f0%9f%93%9a/2027-06-08/
LOCATION:Crestline Branch Library\, 24105 Lake Gregory Dr\, Crestline\, CA\, 92325
CATEGORIES:Community Event,Family Friendly
END:VEVENT
BEGIN:VEVENT
DTSTART;TZID=America/Los_Angeles:20270609T150000
DTEND;TZID=America/Los_Angeles:20270609T160000
DTSTAMP:20260424T113800
CREATED:20250127T200257Z
LAST-MODIFIED:20250127T201232Z
UID:10002750-1812553200-1812556800@www.crestlinechamber.org
SUMMARY:Kid Zones\, Discovery Time  📚 ✨
DESCRIPTION:“Welcome to Kid Zones: Discovery Time 📚✨—a space where young minds explore\, create\, and discover the wonders of the world! From hands-on activities to captivating stories\, every moment is an opportunity to learn and grow. Let the adventure begin!”
URL:https://www.crestlinechamber.org/event/activate-einsteins-kid-zones-%f0%9f%93%9a-%e2%9c%a8/2027-06-09/
LOCATION:Crestline Branch Library\, 24105 Lake Gregory Dr\, Crestline\, CA\, 92325
CATEGORIES:Community Event,Family Friendly,Lake Gregory
END:VEVENT
BEGIN:VEVENT
DTSTART;TZID=America/Los_Angeles:20270614T140000
DTEND;TZID=America/Los_Angeles:20270614T150000
DTSTAMP:20260424T113800
CREATED:20250127T200806Z
LAST-MODIFIED:20250127T200806Z
UID:10003011-1812981600-1812985200@www.crestlinechamber.org
SUMMARY:Adult Programs\, Yoga 🧘 🙏
DESCRIPTION:🧘‍♀️ Yoga Sessions:\nFind your inner peace with relaxing and rejuvenating yoga classes. Perfect for beginners and seasoned yogis alike\, these sessions are a great way to unwind and recharge. \n📅 Check the library’s calendar for dates and times. Embrace wellness and learning\, all in one place! ✨
URL:https://www.crestlinechamber.org/event/adult-programs-yoga-%f0%9f%a7%98-%f0%9f%99%8f/2027-06-14/
LOCATION:Crestline Branch Library\, 24105 Lake Gregory Dr\, Crestline\, CA\, 92325
CATEGORIES:Community Event,Family Friendly,Lake Gregory
END:VEVENT
BEGIN:VEVENT
DTSTART;TZID=America/Los_Angeles:20270615T113000
DTEND;TZID=America/Los_Angeles:20270615T123000
DTSTAMP:20260424T113800
CREATED:20250127T195254Z
LAST-MODIFIED:20250127T201007Z
UID:10002490-1813059000-1813062600@www.crestlinechamber.org
SUMMARY:Library Beginners\, Active Einsteins  📚🧠
DESCRIPTION:📚🧠 Exciting Programs at the Crestline Branch Library! \n🌟 Library Beginners:\nNew to the library? No problem! Discover how to find books\, use resources\, and explore all the amazing services we offer. A perfect start for lifelong learners! \n🧠 Active Einsteins:\nLet young minds thrive with hands-on STEM activities\, experiments\, and creative learning designed to spark curiosity and inspire the next generation of thinkers! \n📅 Check our schedule for upcoming sessions and programs for all ages. The Crestline Branch Library is where learning meets fun! ✨
URL:https://www.crestlinechamber.org/event/library-beginners-%f0%9f%93%9a/2027-06-15/
LOCATION:Crestline Branch Library\, 24105 Lake Gregory Dr\, Crestline\, CA\, 92325
CATEGORIES:Community Event,Family Friendly
END:VEVENT
BEGIN:VEVENT
DTSTART;TZID=America/Los_Angeles:20270616T150000
DTEND;TZID=America/Los_Angeles:20270616T160000
DTSTAMP:20260424T113800
CREATED:20250127T200257Z
LAST-MODIFIED:20250127T201232Z
UID:10002751-1813158000-1813161600@www.crestlinechamber.org
SUMMARY:Kid Zones\, Discovery Time  📚 ✨
DESCRIPTION:“Welcome to Kid Zones: Discovery Time 📚✨—a space where young minds explore\, create\, and discover the wonders of the world! From hands-on activities to captivating stories\, every moment is an opportunity to learn and grow. Let the adventure begin!”
URL:https://www.crestlinechamber.org/event/activate-einsteins-kid-zones-%f0%9f%93%9a-%e2%9c%a8/2027-06-16/
LOCATION:Crestline Branch Library\, 24105 Lake Gregory Dr\, Crestline\, CA\, 92325
CATEGORIES:Community Event,Family Friendly,Lake Gregory
END:VEVENT
BEGIN:VEVENT
DTSTART;TZID=America/Los_Angeles:20270621T140000
DTEND;TZID=America/Los_Angeles:20270621T150000
DTSTAMP:20260424T113800
CREATED:20250127T200806Z
LAST-MODIFIED:20250127T200806Z
UID:10003012-1813586400-1813590000@www.crestlinechamber.org
SUMMARY:Adult Programs\, Yoga 🧘 🙏
DESCRIPTION:🧘‍♀️ Yoga Sessions:\nFind your inner peace with relaxing and rejuvenating yoga classes. Perfect for beginners and seasoned yogis alike\, these sessions are a great way to unwind and recharge. \n📅 Check the library’s calendar for dates and times. Embrace wellness and learning\, all in one place! ✨
URL:https://www.crestlinechamber.org/event/adult-programs-yoga-%f0%9f%a7%98-%f0%9f%99%8f/2027-06-21/
LOCATION:Crestline Branch Library\, 24105 Lake Gregory Dr\, Crestline\, CA\, 92325
CATEGORIES:Community Event,Family Friendly,Lake Gregory
END:VEVENT
BEGIN:VEVENT
DTSTART;TZID=America/Los_Angeles:20270622T113000
DTEND;TZID=America/Los_Angeles:20270622T123000
DTSTAMP:20260424T113800
CREATED:20250127T195254Z
LAST-MODIFIED:20250127T201007Z
UID:10002491-1813663800-1813667400@www.crestlinechamber.org
SUMMARY:Library Beginners\, Active Einsteins  📚🧠
DESCRIPTION:📚🧠 Exciting Programs at the Crestline Branch Library! \n🌟 Library Beginners:\nNew to the library? No problem! Discover how to find books\, use resources\, and explore all the amazing services we offer. A perfect start for lifelong learners! \n🧠 Active Einsteins:\nLet young minds thrive with hands-on STEM activities\, experiments\, and creative learning designed to spark curiosity and inspire the next generation of thinkers! \n📅 Check our schedule for upcoming sessions and programs for all ages. The Crestline Branch Library is where learning meets fun! ✨
URL:https://www.crestlinechamber.org/event/library-beginners-%f0%9f%93%9a/2027-06-22/
LOCATION:Crestline Branch Library\, 24105 Lake Gregory Dr\, Crestline\, CA\, 92325
CATEGORIES:Community Event,Family Friendly
END:VEVENT
BEGIN:VEVENT
DTSTART;TZID=America/Los_Angeles:20270623T150000
DTEND;TZID=America/Los_Angeles:20270623T160000
DTSTAMP:20260424T113800
CREATED:20250127T200257Z
LAST-MODIFIED:20250127T201232Z
UID:10002752-1813762800-1813766400@www.crestlinechamber.org
SUMMARY:Kid Zones\, Discovery Time  📚 ✨
DESCRIPTION:“Welcome to Kid Zones: Discovery Time 📚✨—a space where young minds explore\, create\, and discover the wonders of the world! From hands-on activities to captivating stories\, every moment is an opportunity to learn and grow. Let the adventure begin!”
URL:https://www.crestlinechamber.org/event/activate-einsteins-kid-zones-%f0%9f%93%9a-%e2%9c%a8/2027-06-23/
LOCATION:Crestline Branch Library\, 24105 Lake Gregory Dr\, Crestline\, CA\, 92325
CATEGORIES:Community Event,Family Friendly,Lake Gregory
END:VEVENT
BEGIN:VEVENT
DTSTART;TZID=America/Los_Angeles:20270628T140000
DTEND;TZID=America/Los_Angeles:20270628T150000
DTSTAMP:20260424T113800
CREATED:20250127T200806Z
LAST-MODIFIED:20250127T200806Z
UID:10003013-1814191200-1814194800@www.crestlinechamber.org
SUMMARY:Adult Programs\, Yoga 🧘 🙏
DESCRIPTION:🧘‍♀️ Yoga Sessions:\nFind your inner peace with relaxing and rejuvenating yoga classes. Perfect for beginners and seasoned yogis alike\, these sessions are a great way to unwind and recharge. \n📅 Check the library’s calendar for dates and times. Embrace wellness and learning\, all in one place! ✨
URL:https://www.crestlinechamber.org/event/adult-programs-yoga-%f0%9f%a7%98-%f0%9f%99%8f/2027-06-28/
LOCATION:Crestline Branch Library\, 24105 Lake Gregory Dr\, Crestline\, CA\, 92325
CATEGORIES:Community Event,Family Friendly,Lake Gregory
END:VEVENT
BEGIN:VEVENT
DTSTART;TZID=America/Los_Angeles:20270629T113000
DTEND;TZID=America/Los_Angeles:20270629T123000
DTSTAMP:20260424T113800
CREATED:20250127T195254Z
LAST-MODIFIED:20250127T201007Z
UID:10002492-1814268600-1814272200@www.crestlinechamber.org
SUMMARY:Library Beginners\, Active Einsteins  📚🧠
DESCRIPTION:📚🧠 Exciting Programs at the Crestline Branch Library! \n🌟 Library Beginners:\nNew to the library? No problem! Discover how to find books\, use resources\, and explore all the amazing services we offer. A perfect start for lifelong learners! \n🧠 Active Einsteins:\nLet young minds thrive with hands-on STEM activities\, experiments\, and creative learning designed to spark curiosity and inspire the next generation of thinkers! \n📅 Check our schedule for upcoming sessions and programs for all ages. The Crestline Branch Library is where learning meets fun! ✨
URL:https://www.crestlinechamber.org/event/library-beginners-%f0%9f%93%9a/2027-06-29/
LOCATION:Crestline Branch Library\, 24105 Lake Gregory Dr\, Crestline\, CA\, 92325
CATEGORIES:Community Event,Family Friendly
END:VEVENT
BEGIN:VEVENT
DTSTART;TZID=America/Los_Angeles:20270630T150000
DTEND;TZID=America/Los_Angeles:20270630T160000
DTSTAMP:20260424T113800
CREATED:20250127T200257Z
LAST-MODIFIED:20250127T201232Z
UID:10002753-1814367600-1814371200@www.crestlinechamber.org
SUMMARY:Kid Zones\, Discovery Time  📚 ✨
DESCRIPTION:“Welcome to Kid Zones: Discovery Time 📚✨—a space where young minds explore\, create\, and discover the wonders of the world! From hands-on activities to captivating stories\, every moment is an opportunity to learn and grow. Let the adventure begin!”
URL:https://www.crestlinechamber.org/event/activate-einsteins-kid-zones-%f0%9f%93%9a-%e2%9c%a8/2027-06-30/
LOCATION:Crestline Branch Library\, 24105 Lake Gregory Dr\, Crestline\, CA\, 92325
CATEGORIES:Community Event,Family Friendly,Lake Gregory
END:VEVENT
BEGIN:VEVENT
DTSTART;TZID=America/Los_Angeles:20270705T140000
DTEND;TZID=America/Los_Angeles:20270705T150000
DTSTAMP:20260424T113800
CREATED:20250127T200806Z
LAST-MODIFIED:20250127T200806Z
UID:10003014-1814796000-1814799600@www.crestlinechamber.org
SUMMARY:Adult Programs\, Yoga 🧘 🙏
DESCRIPTION:🧘‍♀️ Yoga Sessions:\nFind your inner peace with relaxing and rejuvenating yoga classes. Perfect for beginners and seasoned yogis alike\, these sessions are a great way to unwind and recharge. \n📅 Check the library’s calendar for dates and times. Embrace wellness and learning\, all in one place! ✨
URL:https://www.crestlinechamber.org/event/adult-programs-yoga-%f0%9f%a7%98-%f0%9f%99%8f/2027-07-05/
LOCATION:Crestline Branch Library\, 24105 Lake Gregory Dr\, Crestline\, CA\, 92325
CATEGORIES:Community Event,Family Friendly,Lake Gregory
END:VEVENT
BEGIN:VEVENT
DTSTART;TZID=America/Los_Angeles:20270706T113000
DTEND;TZID=America/Los_Angeles:20270706T123000
DTSTAMP:20260424T113800
CREATED:20250127T195254Z
LAST-MODIFIED:20250127T201007Z
UID:10002493-1814873400-1814877000@www.crestlinechamber.org
SUMMARY:Library Beginners\, Active Einsteins  📚🧠
DESCRIPTION:📚🧠 Exciting Programs at the Crestline Branch Library! \n🌟 Library Beginners:\nNew to the library? No problem! Discover how to find books\, use resources\, and explore all the amazing services we offer. A perfect start for lifelong learners! \n🧠 Active Einsteins:\nLet young minds thrive with hands-on STEM activities\, experiments\, and creative learning designed to spark curiosity and inspire the next generation of thinkers! \n📅 Check our schedule for upcoming sessions and programs for all ages. The Crestline Branch Library is where learning meets fun! ✨
URL:https://www.crestlinechamber.org/event/library-beginners-%f0%9f%93%9a/2027-07-06/
LOCATION:Crestline Branch Library\, 24105 Lake Gregory Dr\, Crestline\, CA\, 92325
CATEGORIES:Community Event,Family Friendly
END:VEVENT
BEGIN:VEVENT
DTSTART;TZID=America/Los_Angeles:20270707T150000
DTEND;TZID=America/Los_Angeles:20270707T160000
DTSTAMP:20260424T113800
CREATED:20250127T200257Z
LAST-MODIFIED:20250127T201232Z
UID:10002754-1814972400-1814976000@www.crestlinechamber.org
SUMMARY:Kid Zones\, Discovery Time  📚 ✨
DESCRIPTION:“Welcome to Kid Zones: Discovery Time 📚✨—a space where young minds explore\, create\, and discover the wonders of the world! From hands-on activities to captivating stories\, every moment is an opportunity to learn and grow. Let the adventure begin!”
URL:https://www.crestlinechamber.org/event/activate-einsteins-kid-zones-%f0%9f%93%9a-%e2%9c%a8/2027-07-07/
LOCATION:Crestline Branch Library\, 24105 Lake Gregory Dr\, Crestline\, CA\, 92325
CATEGORIES:Community Event,Family Friendly,Lake Gregory
END:VEVENT
BEGIN:VEVENT
DTSTART;TZID=America/Los_Angeles:20270712T140000
DTEND;TZID=America/Los_Angeles:20270712T150000
DTSTAMP:20260424T113800
CREATED:20250127T200806Z
LAST-MODIFIED:20250127T200806Z
UID:10003015-1815400800-1815404400@www.crestlinechamber.org
SUMMARY:Adult Programs\, Yoga 🧘 🙏
DESCRIPTION:🧘‍♀️ Yoga Sessions:\nFind your inner peace with relaxing and rejuvenating yoga classes. Perfect for beginners and seasoned yogis alike\, these sessions are a great way to unwind and recharge. \n📅 Check the library’s calendar for dates and times. Embrace wellness and learning\, all in one place! ✨
URL:https://www.crestlinechamber.org/event/adult-programs-yoga-%f0%9f%a7%98-%f0%9f%99%8f/2027-07-12/
LOCATION:Crestline Branch Library\, 24105 Lake Gregory Dr\, Crestline\, CA\, 92325
CATEGORIES:Community Event,Family Friendly,Lake Gregory
END:VEVENT
BEGIN:VEVENT
DTSTART;TZID=America/Los_Angeles:20270713T113000
DTEND;TZID=America/Los_Angeles:20270713T123000
DTSTAMP:20260424T113800
CREATED:20250127T195254Z
LAST-MODIFIED:20250127T201007Z
UID:10002494-1815478200-1815481800@www.crestlinechamber.org
SUMMARY:Library Beginners\, Active Einsteins  📚🧠
DESCRIPTION:📚🧠 Exciting Programs at the Crestline Branch Library! \n🌟 Library Beginners:\nNew to the library? No problem! Discover how to find books\, use resources\, and explore all the amazing services we offer. A perfect start for lifelong learners! \n🧠 Active Einsteins:\nLet young minds thrive with hands-on STEM activities\, experiments\, and creative learning designed to spark curiosity and inspire the next generation of thinkers! \n📅 Check our schedule for upcoming sessions and programs for all ages. The Crestline Branch Library is where learning meets fun! ✨
URL:https://www.crestlinechamber.org/event/library-beginners-%f0%9f%93%9a/2027-07-13/
LOCATION:Crestline Branch Library\, 24105 Lake Gregory Dr\, Crestline\, CA\, 92325
CATEGORIES:Community Event,Family Friendly
END:VEVENT
BEGIN:VEVENT
DTSTART;TZID=America/Los_Angeles:20270714T150000
DTEND;TZID=America/Los_Angeles:20270714T160000
DTSTAMP:20260424T113800
CREATED:20250127T200257Z
LAST-MODIFIED:20250127T201232Z
UID:10002755-1815577200-1815580800@www.crestlinechamber.org
SUMMARY:Kid Zones\, Discovery Time  📚 ✨
DESCRIPTION:“Welcome to Kid Zones: Discovery Time 📚✨—a space where young minds explore\, create\, and discover the wonders of the world! From hands-on activities to captivating stories\, every moment is an opportunity to learn and grow. Let the adventure begin!”
URL:https://www.crestlinechamber.org/event/activate-einsteins-kid-zones-%f0%9f%93%9a-%e2%9c%a8/2027-07-14/
LOCATION:Crestline Branch Library\, 24105 Lake Gregory Dr\, Crestline\, CA\, 92325
CATEGORIES:Community Event,Family Friendly,Lake Gregory
END:VEVENT
BEGIN:VEVENT
DTSTART;TZID=America/Los_Angeles:20270719T140000
DTEND;TZID=America/Los_Angeles:20270719T150000
DTSTAMP:20260424T113800
CREATED:20250127T200806Z
LAST-MODIFIED:20250127T200806Z
UID:10003016-1816005600-1816009200@www.crestlinechamber.org
SUMMARY:Adult Programs\, Yoga 🧘 🙏
DESCRIPTION:🧘‍♀️ Yoga Sessions:\nFind your inner peace with relaxing and rejuvenating yoga classes. Perfect for beginners and seasoned yogis alike\, these sessions are a great way to unwind and recharge. \n📅 Check the library’s calendar for dates and times. Embrace wellness and learning\, all in one place! ✨
URL:https://www.crestlinechamber.org/event/adult-programs-yoga-%f0%9f%a7%98-%f0%9f%99%8f/2027-07-19/
LOCATION:Crestline Branch Library\, 24105 Lake Gregory Dr\, Crestline\, CA\, 92325
CATEGORIES:Community Event,Family Friendly,Lake Gregory
END:VEVENT
BEGIN:VEVENT
DTSTART;TZID=America/Los_Angeles:20270720T113000
DTEND;TZID=America/Los_Angeles:20270720T123000
DTSTAMP:20260424T113800
CREATED:20250127T195254Z
LAST-MODIFIED:20250127T201007Z
UID:10002495-1816083000-1816086600@www.crestlinechamber.org
SUMMARY:Library Beginners\, Active Einsteins  📚🧠
DESCRIPTION:📚🧠 Exciting Programs at the Crestline Branch Library! \n🌟 Library Beginners:\nNew to the library? No problem! Discover how to find books\, use resources\, and explore all the amazing services we offer. A perfect start for lifelong learners! \n🧠 Active Einsteins:\nLet young minds thrive with hands-on STEM activities\, experiments\, and creative learning designed to spark curiosity and inspire the next generation of thinkers! \n📅 Check our schedule for upcoming sessions and programs for all ages. The Crestline Branch Library is where learning meets fun! ✨
URL:https://www.crestlinechamber.org/event/library-beginners-%f0%9f%93%9a/2027-07-20/
LOCATION:Crestline Branch Library\, 24105 Lake Gregory Dr\, Crestline\, CA\, 92325
CATEGORIES:Community Event,Family Friendly
END:VEVENT
BEGIN:VEVENT
DTSTART;TZID=America/Los_Angeles:20270721T150000
DTEND;TZID=America/Los_Angeles:20270721T160000
DTSTAMP:20260424T113800
CREATED:20250127T200257Z
LAST-MODIFIED:20250127T201232Z
UID:10002756-1816182000-1816185600@www.crestlinechamber.org
SUMMARY:Kid Zones\, Discovery Time  📚 ✨
DESCRIPTION:“Welcome to Kid Zones: Discovery Time 📚✨—a space where young minds explore\, create\, and discover the wonders of the world! From hands-on activities to captivating stories\, every moment is an opportunity to learn and grow. Let the adventure begin!”
URL:https://www.crestlinechamber.org/event/activate-einsteins-kid-zones-%f0%9f%93%9a-%e2%9c%a8/2027-07-21/
LOCATION:Crestline Branch Library\, 24105 Lake Gregory Dr\, Crestline\, CA\, 92325
CATEGORIES:Community Event,Family Friendly,Lake Gregory
END:VEVENT
BEGIN:VEVENT
DTSTART;TZID=America/Los_Angeles:20270726T140000
DTEND;TZID=America/Los_Angeles:20270726T150000
DTSTAMP:20260424T113800
CREATED:20250127T200806Z
LAST-MODIFIED:20250127T200806Z
UID:10003017-1816610400-1816614000@www.crestlinechamber.org
SUMMARY:Adult Programs\, Yoga 🧘 🙏
DESCRIPTION:🧘‍♀️ Yoga Sessions:\nFind your inner peace with relaxing and rejuvenating yoga classes. Perfect for beginners and seasoned yogis alike\, these sessions are a great way to unwind and recharge. \n📅 Check the library’s calendar for dates and times. Embrace wellness and learning\, all in one place! ✨
URL:https://www.crestlinechamber.org/event/adult-programs-yoga-%f0%9f%a7%98-%f0%9f%99%8f/2027-07-26/
LOCATION:Crestline Branch Library\, 24105 Lake Gregory Dr\, Crestline\, CA\, 92325
CATEGORIES:Community Event,Family Friendly,Lake Gregory
END:VEVENT
BEGIN:VEVENT
DTSTART;TZID=America/Los_Angeles:20270727T113000
DTEND;TZID=America/Los_Angeles:20270727T123000
DTSTAMP:20260424T113800
CREATED:20250127T195254Z
LAST-MODIFIED:20250127T201007Z
UID:10002496-1816687800-1816691400@www.crestlinechamber.org
SUMMARY:Library Beginners\, Active Einsteins  📚🧠
DESCRIPTION:📚🧠 Exciting Programs at the Crestline Branch Library! \n🌟 Library Beginners:\nNew to the library? No problem! Discover how to find books\, use resources\, and explore all the amazing services we offer. A perfect start for lifelong learners! \n🧠 Active Einsteins:\nLet young minds thrive with hands-on STEM activities\, experiments\, and creative learning designed to spark curiosity and inspire the next generation of thinkers! \n📅 Check our schedule for upcoming sessions and programs for all ages. The Crestline Branch Library is where learning meets fun! ✨
URL:https://www.crestlinechamber.org/event/library-beginners-%f0%9f%93%9a/2027-07-27/
LOCATION:Crestline Branch Library\, 24105 Lake Gregory Dr\, Crestline\, CA\, 92325
CATEGORIES:Community Event,Family Friendly
END:VEVENT
BEGIN:VEVENT
DTSTART;TZID=America/Los_Angeles:20270728T150000
DTEND;TZID=America/Los_Angeles:20270728T160000
DTSTAMP:20260424T113800
CREATED:20250127T200257Z
LAST-MODIFIED:20250127T201232Z
UID:10002757-1816786800-1816790400@www.crestlinechamber.org
SUMMARY:Kid Zones\, Discovery Time  📚 ✨
DESCRIPTION:“Welcome to Kid Zones: Discovery Time 📚✨—a space where young minds explore\, create\, and discover the wonders of the world! From hands-on activities to captivating stories\, every moment is an opportunity to learn and grow. Let the adventure begin!”
URL:https://www.crestlinechamber.org/event/activate-einsteins-kid-zones-%f0%9f%93%9a-%e2%9c%a8/2027-07-28/
LOCATION:Crestline Branch Library\, 24105 Lake Gregory Dr\, Crestline\, CA\, 92325
CATEGORIES:Community Event,Family Friendly,Lake Gregory
END:VEVENT
END:VCALENDAR