BEGIN:VCALENDAR
VERSION:2.0
PRODID:-//Crestline Chamber of Commerce - ECPv6.15.20//NONSGML v1.0//EN
CALSCALE:GREGORIAN
METHOD:PUBLISH
X-ORIGINAL-URL:https://www.crestlinechamber.org
X-WR-CALDESC:Events for Crestline Chamber of Commerce
REFRESH-INTERVAL;VALUE=DURATION:PT1H
X-Robots-Tag:noindex
X-PUBLISHED-TTL:PT1H
BEGIN:VTIMEZONE
TZID:America/Los_Angeles
BEGIN:DAYLIGHT
TZOFFSETFROM:-0800
TZOFFSETTO:-0700
TZNAME:PDT
DTSTART:20250309T100000
END:DAYLIGHT
BEGIN:STANDARD
TZOFFSETFROM:-0700
TZOFFSETTO:-0800
TZNAME:PST
DTSTART:20251102T090000
END:STANDARD
BEGIN:DAYLIGHT
TZOFFSETFROM:-0800
TZOFFSETTO:-0700
TZNAME:PDT
DTSTART:20260308T100000
END:DAYLIGHT
BEGIN:STANDARD
TZOFFSETFROM:-0700
TZOFFSETTO:-0800
TZNAME:PST
DTSTART:20261101T090000
END:STANDARD
BEGIN:DAYLIGHT
TZOFFSETFROM:-0800
TZOFFSETTO:-0700
TZNAME:PDT
DTSTART:20270314T100000
END:DAYLIGHT
BEGIN:STANDARD
TZOFFSETFROM:-0700
TZOFFSETTO:-0800
TZNAME:PST
DTSTART:20271107T090000
END:STANDARD
END:VTIMEZONE
BEGIN:VEVENT
DTSTART;TZID=America/Los_Angeles:20260525T140000
DTEND;TZID=America/Los_Angeles:20260525T150000
DTSTAMP:20260423T153049
CREATED:20250127T200806Z
LAST-MODIFIED:20250127T200806Z
UID:10002956-1779717600-1779721200@www.crestlinechamber.org
SUMMARY:Adult Programs\, Yoga 🧘 🙏
DESCRIPTION:🧘‍♀️ Yoga Sessions:\nFind your inner peace with relaxing and rejuvenating yoga classes. Perfect for beginners and seasoned yogis alike\, these sessions are a great way to unwind and recharge. \n📅 Check the library’s calendar for dates and times. Embrace wellness and learning\, all in one place! ✨
URL:https://www.crestlinechamber.org/event/adult-programs-yoga-%f0%9f%a7%98-%f0%9f%99%8f/2026-05-25/
LOCATION:Crestline Branch Library\, 24105 Lake Gregory Dr\, Crestline\, CA\, 92325
CATEGORIES:Community Event,Family Friendly,Lake Gregory
END:VEVENT
BEGIN:VEVENT
DTSTART;TZID=America/Los_Angeles:20260526T113000
DTEND;TZID=America/Los_Angeles:20260526T123000
DTSTAMP:20260423T153049
CREATED:20250127T195254Z
LAST-MODIFIED:20250127T201007Z
UID:10002435-1779795000-1779798600@www.crestlinechamber.org
SUMMARY:Library Beginners\, Active Einsteins  📚🧠
DESCRIPTION:📚🧠 Exciting Programs at the Crestline Branch Library! \n🌟 Library Beginners:\nNew to the library? No problem! Discover how to find books\, use resources\, and explore all the amazing services we offer. A perfect start for lifelong learners! \n🧠 Active Einsteins:\nLet young minds thrive with hands-on STEM activities\, experiments\, and creative learning designed to spark curiosity and inspire the next generation of thinkers! \n📅 Check our schedule for upcoming sessions and programs for all ages. The Crestline Branch Library is where learning meets fun! ✨
URL:https://www.crestlinechamber.org/event/library-beginners-%f0%9f%93%9a/2026-05-26/
LOCATION:Crestline Branch Library\, 24105 Lake Gregory Dr\, Crestline\, CA\, 92325
CATEGORIES:Community Event,Family Friendly
END:VEVENT
BEGIN:VEVENT
DTSTART;TZID=America/Los_Angeles:20260527T150000
DTEND;TZID=America/Los_Angeles:20260527T160000
DTSTAMP:20260423T153049
CREATED:20250127T200257Z
LAST-MODIFIED:20250127T201232Z
UID:10002696-1779894000-1779897600@www.crestlinechamber.org
SUMMARY:Kid Zones\, Discovery Time  📚 ✨
DESCRIPTION:“Welcome to Kid Zones: Discovery Time 📚✨—a space where young minds explore\, create\, and discover the wonders of the world! From hands-on activities to captivating stories\, every moment is an opportunity to learn and grow. Let the adventure begin!”
URL:https://www.crestlinechamber.org/event/activate-einsteins-kid-zones-%f0%9f%93%9a-%e2%9c%a8/2026-05-27/
LOCATION:Crestline Branch Library\, 24105 Lake Gregory Dr\, Crestline\, CA\, 92325
CATEGORIES:Community Event,Family Friendly,Lake Gregory
END:VEVENT
BEGIN:VEVENT
DTSTART;TZID=America/Los_Angeles:20260601T140000
DTEND;TZID=America/Los_Angeles:20260601T150000
DTSTAMP:20260423T153049
CREATED:20250127T200806Z
LAST-MODIFIED:20250127T200806Z
UID:10002957-1780322400-1780326000@www.crestlinechamber.org
SUMMARY:Adult Programs\, Yoga 🧘 🙏
DESCRIPTION:🧘‍♀️ Yoga Sessions:\nFind your inner peace with relaxing and rejuvenating yoga classes. Perfect for beginners and seasoned yogis alike\, these sessions are a great way to unwind and recharge. \n📅 Check the library’s calendar for dates and times. Embrace wellness and learning\, all in one place! ✨
URL:https://www.crestlinechamber.org/event/adult-programs-yoga-%f0%9f%a7%98-%f0%9f%99%8f/2026-06-01/
LOCATION:Crestline Branch Library\, 24105 Lake Gregory Dr\, Crestline\, CA\, 92325
CATEGORIES:Community Event,Family Friendly,Lake Gregory
END:VEVENT
BEGIN:VEVENT
DTSTART;TZID=America/Los_Angeles:20260602T113000
DTEND;TZID=America/Los_Angeles:20260602T123000
DTSTAMP:20260423T153049
CREATED:20250127T195254Z
LAST-MODIFIED:20250127T201007Z
UID:10002436-1780399800-1780403400@www.crestlinechamber.org
SUMMARY:Library Beginners\, Active Einsteins  📚🧠
DESCRIPTION:📚🧠 Exciting Programs at the Crestline Branch Library! \n🌟 Library Beginners:\nNew to the library? No problem! Discover how to find books\, use resources\, and explore all the amazing services we offer. A perfect start for lifelong learners! \n🧠 Active Einsteins:\nLet young minds thrive with hands-on STEM activities\, experiments\, and creative learning designed to spark curiosity and inspire the next generation of thinkers! \n📅 Check our schedule for upcoming sessions and programs for all ages. The Crestline Branch Library is where learning meets fun! ✨
URL:https://www.crestlinechamber.org/event/library-beginners-%f0%9f%93%9a/2026-06-02/
LOCATION:Crestline Branch Library\, 24105 Lake Gregory Dr\, Crestline\, CA\, 92325
CATEGORIES:Community Event,Family Friendly
END:VEVENT
BEGIN:VEVENT
DTSTART;TZID=America/Los_Angeles:20260603T150000
DTEND;TZID=America/Los_Angeles:20260603T160000
DTSTAMP:20260423T153049
CREATED:20250127T200257Z
LAST-MODIFIED:20250127T201232Z
UID:10002697-1780498800-1780502400@www.crestlinechamber.org
SUMMARY:Kid Zones\, Discovery Time  📚 ✨
DESCRIPTION:“Welcome to Kid Zones: Discovery Time 📚✨—a space where young minds explore\, create\, and discover the wonders of the world! From hands-on activities to captivating stories\, every moment is an opportunity to learn and grow. Let the adventure begin!”
URL:https://www.crestlinechamber.org/event/activate-einsteins-kid-zones-%f0%9f%93%9a-%e2%9c%a8/2026-06-03/
LOCATION:Crestline Branch Library\, 24105 Lake Gregory Dr\, Crestline\, CA\, 92325
CATEGORIES:Community Event,Family Friendly,Lake Gregory
END:VEVENT
BEGIN:VEVENT
DTSTART;TZID=America/Los_Angeles:20260608T140000
DTEND;TZID=America/Los_Angeles:20260608T150000
DTSTAMP:20260423T153049
CREATED:20250127T200806Z
LAST-MODIFIED:20250127T200806Z
UID:10002958-1780927200-1780930800@www.crestlinechamber.org
SUMMARY:Adult Programs\, Yoga 🧘 🙏
DESCRIPTION:🧘‍♀️ Yoga Sessions:\nFind your inner peace with relaxing and rejuvenating yoga classes. Perfect for beginners and seasoned yogis alike\, these sessions are a great way to unwind and recharge. \n📅 Check the library’s calendar for dates and times. Embrace wellness and learning\, all in one place! ✨
URL:https://www.crestlinechamber.org/event/adult-programs-yoga-%f0%9f%a7%98-%f0%9f%99%8f/2026-06-08/
LOCATION:Crestline Branch Library\, 24105 Lake Gregory Dr\, Crestline\, CA\, 92325
CATEGORIES:Community Event,Family Friendly,Lake Gregory
END:VEVENT
BEGIN:VEVENT
DTSTART;TZID=America/Los_Angeles:20260609T113000
DTEND;TZID=America/Los_Angeles:20260609T123000
DTSTAMP:20260423T153049
CREATED:20250127T195254Z
LAST-MODIFIED:20250127T201007Z
UID:10002437-1781004600-1781008200@www.crestlinechamber.org
SUMMARY:Library Beginners\, Active Einsteins  📚🧠
DESCRIPTION:📚🧠 Exciting Programs at the Crestline Branch Library! \n🌟 Library Beginners:\nNew to the library? No problem! Discover how to find books\, use resources\, and explore all the amazing services we offer. A perfect start for lifelong learners! \n🧠 Active Einsteins:\nLet young minds thrive with hands-on STEM activities\, experiments\, and creative learning designed to spark curiosity and inspire the next generation of thinkers! \n📅 Check our schedule for upcoming sessions and programs for all ages. The Crestline Branch Library is where learning meets fun! ✨
URL:https://www.crestlinechamber.org/event/library-beginners-%f0%9f%93%9a/2026-06-09/
LOCATION:Crestline Branch Library\, 24105 Lake Gregory Dr\, Crestline\, CA\, 92325
CATEGORIES:Community Event,Family Friendly
END:VEVENT
BEGIN:VEVENT
DTSTART;TZID=America/Los_Angeles:20260610T150000
DTEND;TZID=America/Los_Angeles:20260610T160000
DTSTAMP:20260423T153049
CREATED:20250127T200257Z
LAST-MODIFIED:20250127T201232Z
UID:10002698-1781103600-1781107200@www.crestlinechamber.org
SUMMARY:Kid Zones\, Discovery Time  📚 ✨
DESCRIPTION:“Welcome to Kid Zones: Discovery Time 📚✨—a space where young minds explore\, create\, and discover the wonders of the world! From hands-on activities to captivating stories\, every moment is an opportunity to learn and grow. Let the adventure begin!”
URL:https://www.crestlinechamber.org/event/activate-einsteins-kid-zones-%f0%9f%93%9a-%e2%9c%a8/2026-06-10/
LOCATION:Crestline Branch Library\, 24105 Lake Gregory Dr\, Crestline\, CA\, 92325
CATEGORIES:Community Event,Family Friendly,Lake Gregory
END:VEVENT
BEGIN:VEVENT
DTSTART;TZID=America/Los_Angeles:20260615T140000
DTEND;TZID=America/Los_Angeles:20260615T150000
DTSTAMP:20260423T153049
CREATED:20250127T200806Z
LAST-MODIFIED:20250127T200806Z
UID:10002959-1781532000-1781535600@www.crestlinechamber.org
SUMMARY:Adult Programs\, Yoga 🧘 🙏
DESCRIPTION:🧘‍♀️ Yoga Sessions:\nFind your inner peace with relaxing and rejuvenating yoga classes. Perfect for beginners and seasoned yogis alike\, these sessions are a great way to unwind and recharge. \n📅 Check the library’s calendar for dates and times. Embrace wellness and learning\, all in one place! ✨
URL:https://www.crestlinechamber.org/event/adult-programs-yoga-%f0%9f%a7%98-%f0%9f%99%8f/2026-06-15/
LOCATION:Crestline Branch Library\, 24105 Lake Gregory Dr\, Crestline\, CA\, 92325
CATEGORIES:Community Event,Family Friendly,Lake Gregory
END:VEVENT
BEGIN:VEVENT
DTSTART;TZID=America/Los_Angeles:20260616T113000
DTEND;TZID=America/Los_Angeles:20260616T123000
DTSTAMP:20260423T153049
CREATED:20250127T195254Z
LAST-MODIFIED:20250127T201007Z
UID:10002438-1781609400-1781613000@www.crestlinechamber.org
SUMMARY:Library Beginners\, Active Einsteins  📚🧠
DESCRIPTION:📚🧠 Exciting Programs at the Crestline Branch Library! \n🌟 Library Beginners:\nNew to the library? No problem! Discover how to find books\, use resources\, and explore all the amazing services we offer. A perfect start for lifelong learners! \n🧠 Active Einsteins:\nLet young minds thrive with hands-on STEM activities\, experiments\, and creative learning designed to spark curiosity and inspire the next generation of thinkers! \n📅 Check our schedule for upcoming sessions and programs for all ages. The Crestline Branch Library is where learning meets fun! ✨
URL:https://www.crestlinechamber.org/event/library-beginners-%f0%9f%93%9a/2026-06-16/
LOCATION:Crestline Branch Library\, 24105 Lake Gregory Dr\, Crestline\, CA\, 92325
CATEGORIES:Community Event,Family Friendly
END:VEVENT
BEGIN:VEVENT
DTSTART;TZID=America/Los_Angeles:20260617T150000
DTEND;TZID=America/Los_Angeles:20260617T160000
DTSTAMP:20260423T153049
CREATED:20250127T200257Z
LAST-MODIFIED:20250127T201232Z
UID:10002699-1781708400-1781712000@www.crestlinechamber.org
SUMMARY:Kid Zones\, Discovery Time  📚 ✨
DESCRIPTION:“Welcome to Kid Zones: Discovery Time 📚✨—a space where young minds explore\, create\, and discover the wonders of the world! From hands-on activities to captivating stories\, every moment is an opportunity to learn and grow. Let the adventure begin!”
URL:https://www.crestlinechamber.org/event/activate-einsteins-kid-zones-%f0%9f%93%9a-%e2%9c%a8/2026-06-17/
LOCATION:Crestline Branch Library\, 24105 Lake Gregory Dr\, Crestline\, CA\, 92325
CATEGORIES:Community Event,Family Friendly,Lake Gregory
END:VEVENT
BEGIN:VEVENT
DTSTART;TZID=America/Los_Angeles:20260622T140000
DTEND;TZID=America/Los_Angeles:20260622T150000
DTSTAMP:20260423T153049
CREATED:20250127T200806Z
LAST-MODIFIED:20250127T200806Z
UID:10002960-1782136800-1782140400@www.crestlinechamber.org
SUMMARY:Adult Programs\, Yoga 🧘 🙏
DESCRIPTION:🧘‍♀️ Yoga Sessions:\nFind your inner peace with relaxing and rejuvenating yoga classes. Perfect for beginners and seasoned yogis alike\, these sessions are a great way to unwind and recharge. \n📅 Check the library’s calendar for dates and times. Embrace wellness and learning\, all in one place! ✨
URL:https://www.crestlinechamber.org/event/adult-programs-yoga-%f0%9f%a7%98-%f0%9f%99%8f/2026-06-22/
LOCATION:Crestline Branch Library\, 24105 Lake Gregory Dr\, Crestline\, CA\, 92325
CATEGORIES:Community Event,Family Friendly,Lake Gregory
END:VEVENT
BEGIN:VEVENT
DTSTART;TZID=America/Los_Angeles:20260623T113000
DTEND;TZID=America/Los_Angeles:20260623T123000
DTSTAMP:20260423T153049
CREATED:20250127T195254Z
LAST-MODIFIED:20250127T201007Z
UID:10002439-1782214200-1782217800@www.crestlinechamber.org
SUMMARY:Library Beginners\, Active Einsteins  📚🧠
DESCRIPTION:📚🧠 Exciting Programs at the Crestline Branch Library! \n🌟 Library Beginners:\nNew to the library? No problem! Discover how to find books\, use resources\, and explore all the amazing services we offer. A perfect start for lifelong learners! \n🧠 Active Einsteins:\nLet young minds thrive with hands-on STEM activities\, experiments\, and creative learning designed to spark curiosity and inspire the next generation of thinkers! \n📅 Check our schedule for upcoming sessions and programs for all ages. The Crestline Branch Library is where learning meets fun! ✨
URL:https://www.crestlinechamber.org/event/library-beginners-%f0%9f%93%9a/2026-06-23/
LOCATION:Crestline Branch Library\, 24105 Lake Gregory Dr\, Crestline\, CA\, 92325
CATEGORIES:Community Event,Family Friendly
END:VEVENT
BEGIN:VEVENT
DTSTART;TZID=America/Los_Angeles:20260624T150000
DTEND;TZID=America/Los_Angeles:20260624T160000
DTSTAMP:20260423T153049
CREATED:20250127T200257Z
LAST-MODIFIED:20250127T201232Z
UID:10002700-1782313200-1782316800@www.crestlinechamber.org
SUMMARY:Kid Zones\, Discovery Time  📚 ✨
DESCRIPTION:“Welcome to Kid Zones: Discovery Time 📚✨—a space where young minds explore\, create\, and discover the wonders of the world! From hands-on activities to captivating stories\, every moment is an opportunity to learn and grow. Let the adventure begin!”
URL:https://www.crestlinechamber.org/event/activate-einsteins-kid-zones-%f0%9f%93%9a-%e2%9c%a8/2026-06-24/
LOCATION:Crestline Branch Library\, 24105 Lake Gregory Dr\, Crestline\, CA\, 92325
CATEGORIES:Community Event,Family Friendly,Lake Gregory
END:VEVENT
BEGIN:VEVENT
DTSTART;TZID=America/Los_Angeles:20260629T140000
DTEND;TZID=America/Los_Angeles:20260629T150000
DTSTAMP:20260423T153049
CREATED:20250127T200806Z
LAST-MODIFIED:20250127T200806Z
UID:10002961-1782741600-1782745200@www.crestlinechamber.org
SUMMARY:Adult Programs\, Yoga 🧘 🙏
DESCRIPTION:🧘‍♀️ Yoga Sessions:\nFind your inner peace with relaxing and rejuvenating yoga classes. Perfect for beginners and seasoned yogis alike\, these sessions are a great way to unwind and recharge. \n📅 Check the library’s calendar for dates and times. Embrace wellness and learning\, all in one place! ✨
URL:https://www.crestlinechamber.org/event/adult-programs-yoga-%f0%9f%a7%98-%f0%9f%99%8f/2026-06-29/
LOCATION:Crestline Branch Library\, 24105 Lake Gregory Dr\, Crestline\, CA\, 92325
CATEGORIES:Community Event,Family Friendly,Lake Gregory
END:VEVENT
BEGIN:VEVENT
DTSTART;TZID=America/Los_Angeles:20260630T113000
DTEND;TZID=America/Los_Angeles:20260630T123000
DTSTAMP:20260423T153049
CREATED:20250127T195254Z
LAST-MODIFIED:20250127T201007Z
UID:10002440-1782819000-1782822600@www.crestlinechamber.org
SUMMARY:Library Beginners\, Active Einsteins  📚🧠
DESCRIPTION:📚🧠 Exciting Programs at the Crestline Branch Library! \n🌟 Library Beginners:\nNew to the library? No problem! Discover how to find books\, use resources\, and explore all the amazing services we offer. A perfect start for lifelong learners! \n🧠 Active Einsteins:\nLet young minds thrive with hands-on STEM activities\, experiments\, and creative learning designed to spark curiosity and inspire the next generation of thinkers! \n📅 Check our schedule for upcoming sessions and programs for all ages. The Crestline Branch Library is where learning meets fun! ✨
URL:https://www.crestlinechamber.org/event/library-beginners-%f0%9f%93%9a/2026-06-30/
LOCATION:Crestline Branch Library\, 24105 Lake Gregory Dr\, Crestline\, CA\, 92325
CATEGORIES:Community Event,Family Friendly
END:VEVENT
BEGIN:VEVENT
DTSTART;TZID=America/Los_Angeles:20260701T150000
DTEND;TZID=America/Los_Angeles:20260701T160000
DTSTAMP:20260423T153049
CREATED:20250127T200257Z
LAST-MODIFIED:20250127T201232Z
UID:10002701-1782918000-1782921600@www.crestlinechamber.org
SUMMARY:Kid Zones\, Discovery Time  📚 ✨
DESCRIPTION:“Welcome to Kid Zones: Discovery Time 📚✨—a space where young minds explore\, create\, and discover the wonders of the world! From hands-on activities to captivating stories\, every moment is an opportunity to learn and grow. Let the adventure begin!”
URL:https://www.crestlinechamber.org/event/activate-einsteins-kid-zones-%f0%9f%93%9a-%e2%9c%a8/2026-07-01/
LOCATION:Crestline Branch Library\, 24105 Lake Gregory Dr\, Crestline\, CA\, 92325
CATEGORIES:Community Event,Family Friendly,Lake Gregory
END:VEVENT
BEGIN:VEVENT
DTSTART;TZID=America/Los_Angeles:20260706T140000
DTEND;TZID=America/Los_Angeles:20260706T150000
DTSTAMP:20260423T153049
CREATED:20250127T200806Z
LAST-MODIFIED:20250127T200806Z
UID:10002962-1783346400-1783350000@www.crestlinechamber.org
SUMMARY:Adult Programs\, Yoga 🧘 🙏
DESCRIPTION:🧘‍♀️ Yoga Sessions:\nFind your inner peace with relaxing and rejuvenating yoga classes. Perfect for beginners and seasoned yogis alike\, these sessions are a great way to unwind and recharge. \n📅 Check the library’s calendar for dates and times. Embrace wellness and learning\, all in one place! ✨
URL:https://www.crestlinechamber.org/event/adult-programs-yoga-%f0%9f%a7%98-%f0%9f%99%8f/2026-07-06/
LOCATION:Crestline Branch Library\, 24105 Lake Gregory Dr\, Crestline\, CA\, 92325
CATEGORIES:Community Event,Family Friendly,Lake Gregory
END:VEVENT
BEGIN:VEVENT
DTSTART;TZID=America/Los_Angeles:20260707T113000
DTEND;TZID=America/Los_Angeles:20260707T123000
DTSTAMP:20260423T153049
CREATED:20250127T195254Z
LAST-MODIFIED:20250127T201007Z
UID:10002441-1783423800-1783427400@www.crestlinechamber.org
SUMMARY:Library Beginners\, Active Einsteins  📚🧠
DESCRIPTION:📚🧠 Exciting Programs at the Crestline Branch Library! \n🌟 Library Beginners:\nNew to the library? No problem! Discover how to find books\, use resources\, and explore all the amazing services we offer. A perfect start for lifelong learners! \n🧠 Active Einsteins:\nLet young minds thrive with hands-on STEM activities\, experiments\, and creative learning designed to spark curiosity and inspire the next generation of thinkers! \n📅 Check our schedule for upcoming sessions and programs for all ages. The Crestline Branch Library is where learning meets fun! ✨
URL:https://www.crestlinechamber.org/event/library-beginners-%f0%9f%93%9a/2026-07-07/
LOCATION:Crestline Branch Library\, 24105 Lake Gregory Dr\, Crestline\, CA\, 92325
CATEGORIES:Community Event,Family Friendly
END:VEVENT
BEGIN:VEVENT
DTSTART;TZID=America/Los_Angeles:20260708T150000
DTEND;TZID=America/Los_Angeles:20260708T160000
DTSTAMP:20260423T153049
CREATED:20250127T200257Z
LAST-MODIFIED:20250127T201232Z
UID:10002702-1783522800-1783526400@www.crestlinechamber.org
SUMMARY:Kid Zones\, Discovery Time  📚 ✨
DESCRIPTION:“Welcome to Kid Zones: Discovery Time 📚✨—a space where young minds explore\, create\, and discover the wonders of the world! From hands-on activities to captivating stories\, every moment is an opportunity to learn and grow. Let the adventure begin!”
URL:https://www.crestlinechamber.org/event/activate-einsteins-kid-zones-%f0%9f%93%9a-%e2%9c%a8/2026-07-08/
LOCATION:Crestline Branch Library\, 24105 Lake Gregory Dr\, Crestline\, CA\, 92325
CATEGORIES:Community Event,Family Friendly,Lake Gregory
END:VEVENT
BEGIN:VEVENT
DTSTART;TZID=America/Los_Angeles:20260713T140000
DTEND;TZID=America/Los_Angeles:20260713T150000
DTSTAMP:20260423T153049
CREATED:20250127T200806Z
LAST-MODIFIED:20250127T200806Z
UID:10002963-1783951200-1783954800@www.crestlinechamber.org
SUMMARY:Adult Programs\, Yoga 🧘 🙏
DESCRIPTION:🧘‍♀️ Yoga Sessions:\nFind your inner peace with relaxing and rejuvenating yoga classes. Perfect for beginners and seasoned yogis alike\, these sessions are a great way to unwind and recharge. \n📅 Check the library’s calendar for dates and times. Embrace wellness and learning\, all in one place! ✨
URL:https://www.crestlinechamber.org/event/adult-programs-yoga-%f0%9f%a7%98-%f0%9f%99%8f/2026-07-13/
LOCATION:Crestline Branch Library\, 24105 Lake Gregory Dr\, Crestline\, CA\, 92325
CATEGORIES:Community Event,Family Friendly,Lake Gregory
END:VEVENT
BEGIN:VEVENT
DTSTART;TZID=America/Los_Angeles:20260714T113000
DTEND;TZID=America/Los_Angeles:20260714T123000
DTSTAMP:20260423T153049
CREATED:20250127T195254Z
LAST-MODIFIED:20250127T201007Z
UID:10002442-1784028600-1784032200@www.crestlinechamber.org
SUMMARY:Library Beginners\, Active Einsteins  📚🧠
DESCRIPTION:📚🧠 Exciting Programs at the Crestline Branch Library! \n🌟 Library Beginners:\nNew to the library? No problem! Discover how to find books\, use resources\, and explore all the amazing services we offer. A perfect start for lifelong learners! \n🧠 Active Einsteins:\nLet young minds thrive with hands-on STEM activities\, experiments\, and creative learning designed to spark curiosity and inspire the next generation of thinkers! \n📅 Check our schedule for upcoming sessions and programs for all ages. The Crestline Branch Library is where learning meets fun! ✨
URL:https://www.crestlinechamber.org/event/library-beginners-%f0%9f%93%9a/2026-07-14/
LOCATION:Crestline Branch Library\, 24105 Lake Gregory Dr\, Crestline\, CA\, 92325
CATEGORIES:Community Event,Family Friendly
END:VEVENT
BEGIN:VEVENT
DTSTART;TZID=America/Los_Angeles:20260715T150000
DTEND;TZID=America/Los_Angeles:20260715T160000
DTSTAMP:20260423T153049
CREATED:20250127T200257Z
LAST-MODIFIED:20250127T201232Z
UID:10002703-1784127600-1784131200@www.crestlinechamber.org
SUMMARY:Kid Zones\, Discovery Time  📚 ✨
DESCRIPTION:“Welcome to Kid Zones: Discovery Time 📚✨—a space where young minds explore\, create\, and discover the wonders of the world! From hands-on activities to captivating stories\, every moment is an opportunity to learn and grow. Let the adventure begin!”
URL:https://www.crestlinechamber.org/event/activate-einsteins-kid-zones-%f0%9f%93%9a-%e2%9c%a8/2026-07-15/
LOCATION:Crestline Branch Library\, 24105 Lake Gregory Dr\, Crestline\, CA\, 92325
CATEGORIES:Community Event,Family Friendly,Lake Gregory
END:VEVENT
BEGIN:VEVENT
DTSTART;TZID=America/Los_Angeles:20260720T140000
DTEND;TZID=America/Los_Angeles:20260720T150000
DTSTAMP:20260423T153049
CREATED:20250127T200806Z
LAST-MODIFIED:20250127T200806Z
UID:10002964-1784556000-1784559600@www.crestlinechamber.org
SUMMARY:Adult Programs\, Yoga 🧘 🙏
DESCRIPTION:🧘‍♀️ Yoga Sessions:\nFind your inner peace with relaxing and rejuvenating yoga classes. Perfect for beginners and seasoned yogis alike\, these sessions are a great way to unwind and recharge. \n📅 Check the library’s calendar for dates and times. Embrace wellness and learning\, all in one place! ✨
URL:https://www.crestlinechamber.org/event/adult-programs-yoga-%f0%9f%a7%98-%f0%9f%99%8f/2026-07-20/
LOCATION:Crestline Branch Library\, 24105 Lake Gregory Dr\, Crestline\, CA\, 92325
CATEGORIES:Community Event,Family Friendly,Lake Gregory
END:VEVENT
BEGIN:VEVENT
DTSTART;TZID=America/Los_Angeles:20260721T113000
DTEND;TZID=America/Los_Angeles:20260721T123000
DTSTAMP:20260423T153049
CREATED:20250127T195254Z
LAST-MODIFIED:20250127T201007Z
UID:10002443-1784633400-1784637000@www.crestlinechamber.org
SUMMARY:Library Beginners\, Active Einsteins  📚🧠
DESCRIPTION:📚🧠 Exciting Programs at the Crestline Branch Library! \n🌟 Library Beginners:\nNew to the library? No problem! Discover how to find books\, use resources\, and explore all the amazing services we offer. A perfect start for lifelong learners! \n🧠 Active Einsteins:\nLet young minds thrive with hands-on STEM activities\, experiments\, and creative learning designed to spark curiosity and inspire the next generation of thinkers! \n📅 Check our schedule for upcoming sessions and programs for all ages. The Crestline Branch Library is where learning meets fun! ✨
URL:https://www.crestlinechamber.org/event/library-beginners-%f0%9f%93%9a/2026-07-21/
LOCATION:Crestline Branch Library\, 24105 Lake Gregory Dr\, Crestline\, CA\, 92325
CATEGORIES:Community Event,Family Friendly
END:VEVENT
BEGIN:VEVENT
DTSTART;TZID=America/Los_Angeles:20260722T150000
DTEND;TZID=America/Los_Angeles:20260722T160000
DTSTAMP:20260423T153049
CREATED:20250127T200257Z
LAST-MODIFIED:20250127T201232Z
UID:10002704-1784732400-1784736000@www.crestlinechamber.org
SUMMARY:Kid Zones\, Discovery Time  📚 ✨
DESCRIPTION:“Welcome to Kid Zones: Discovery Time 📚✨—a space where young minds explore\, create\, and discover the wonders of the world! From hands-on activities to captivating stories\, every moment is an opportunity to learn and grow. Let the adventure begin!”
URL:https://www.crestlinechamber.org/event/activate-einsteins-kid-zones-%f0%9f%93%9a-%e2%9c%a8/2026-07-22/
LOCATION:Crestline Branch Library\, 24105 Lake Gregory Dr\, Crestline\, CA\, 92325
CATEGORIES:Community Event,Family Friendly,Lake Gregory
END:VEVENT
BEGIN:VEVENT
DTSTART;TZID=America/Los_Angeles:20260727T140000
DTEND;TZID=America/Los_Angeles:20260727T150000
DTSTAMP:20260423T153049
CREATED:20250127T200806Z
LAST-MODIFIED:20250127T200806Z
UID:10002965-1785160800-1785164400@www.crestlinechamber.org
SUMMARY:Adult Programs\, Yoga 🧘 🙏
DESCRIPTION:🧘‍♀️ Yoga Sessions:\nFind your inner peace with relaxing and rejuvenating yoga classes. Perfect for beginners and seasoned yogis alike\, these sessions are a great way to unwind and recharge. \n📅 Check the library’s calendar for dates and times. Embrace wellness and learning\, all in one place! ✨
URL:https://www.crestlinechamber.org/event/adult-programs-yoga-%f0%9f%a7%98-%f0%9f%99%8f/2026-07-27/
LOCATION:Crestline Branch Library\, 24105 Lake Gregory Dr\, Crestline\, CA\, 92325
CATEGORIES:Community Event,Family Friendly,Lake Gregory
END:VEVENT
BEGIN:VEVENT
DTSTART;TZID=America/Los_Angeles:20260728T113000
DTEND;TZID=America/Los_Angeles:20260728T123000
DTSTAMP:20260423T153049
CREATED:20250127T195254Z
LAST-MODIFIED:20250127T201007Z
UID:10002444-1785238200-1785241800@www.crestlinechamber.org
SUMMARY:Library Beginners\, Active Einsteins  📚🧠
DESCRIPTION:📚🧠 Exciting Programs at the Crestline Branch Library! \n🌟 Library Beginners:\nNew to the library? No problem! Discover how to find books\, use resources\, and explore all the amazing services we offer. A perfect start for lifelong learners! \n🧠 Active Einsteins:\nLet young minds thrive with hands-on STEM activities\, experiments\, and creative learning designed to spark curiosity and inspire the next generation of thinkers! \n📅 Check our schedule for upcoming sessions and programs for all ages. The Crestline Branch Library is where learning meets fun! ✨
URL:https://www.crestlinechamber.org/event/library-beginners-%f0%9f%93%9a/2026-07-28/
LOCATION:Crestline Branch Library\, 24105 Lake Gregory Dr\, Crestline\, CA\, 92325
CATEGORIES:Community Event,Family Friendly
END:VEVENT
BEGIN:VEVENT
DTSTART;TZID=America/Los_Angeles:20260729T150000
DTEND;TZID=America/Los_Angeles:20260729T160000
DTSTAMP:20260423T153049
CREATED:20250127T200257Z
LAST-MODIFIED:20250127T201232Z
UID:10002705-1785337200-1785340800@www.crestlinechamber.org
SUMMARY:Kid Zones\, Discovery Time  📚 ✨
DESCRIPTION:“Welcome to Kid Zones: Discovery Time 📚✨—a space where young minds explore\, create\, and discover the wonders of the world! From hands-on activities to captivating stories\, every moment is an opportunity to learn and grow. Let the adventure begin!”
URL:https://www.crestlinechamber.org/event/activate-einsteins-kid-zones-%f0%9f%93%9a-%e2%9c%a8/2026-07-29/
LOCATION:Crestline Branch Library\, 24105 Lake Gregory Dr\, Crestline\, CA\, 92325
CATEGORIES:Community Event,Family Friendly,Lake Gregory
END:VEVENT
END:VCALENDAR