BEGIN:VCALENDAR
VERSION:2.0
PRODID:-//Crestline Chamber of Commerce - ECPv6.15.20//NONSGML v1.0//EN
CALSCALE:GREGORIAN
METHOD:PUBLISH
X-WR-CALNAME:Crestline Chamber of Commerce
X-ORIGINAL-URL:https://www.crestlinechamber.org
X-WR-CALDESC:Events for Crestline Chamber of Commerce
REFRESH-INTERVAL;VALUE=DURATION:PT1H
X-Robots-Tag:noindex
X-PUBLISHED-TTL:PT1H
BEGIN:VTIMEZONE
TZID:America/Los_Angeles
BEGIN:DAYLIGHT
TZOFFSETFROM:-0800
TZOFFSETTO:-0700
TZNAME:PDT
DTSTART:20250309T100000
END:DAYLIGHT
BEGIN:STANDARD
TZOFFSETFROM:-0700
TZOFFSETTO:-0800
TZNAME:PST
DTSTART:20251102T090000
END:STANDARD
BEGIN:DAYLIGHT
TZOFFSETFROM:-0800
TZOFFSETTO:-0700
TZNAME:PDT
DTSTART:20260308T100000
END:DAYLIGHT
BEGIN:STANDARD
TZOFFSETFROM:-0700
TZOFFSETTO:-0800
TZNAME:PST
DTSTART:20261101T090000
END:STANDARD
BEGIN:DAYLIGHT
TZOFFSETFROM:-0800
TZOFFSETTO:-0700
TZNAME:PDT
DTSTART:20270314T100000
END:DAYLIGHT
BEGIN:STANDARD
TZOFFSETFROM:-0700
TZOFFSETTO:-0800
TZNAME:PST
DTSTART:20271107T090000
END:STANDARD
BEGIN:DAYLIGHT
TZOFFSETFROM:-0800
TZOFFSETTO:-0700
TZNAME:PDT
DTSTART:20280312T100000
END:DAYLIGHT
BEGIN:STANDARD
TZOFFSETFROM:-0700
TZOFFSETTO:-0800
TZNAME:PST
DTSTART:20281105T090000
END:STANDARD
END:VTIMEZONE
BEGIN:VEVENT
DTSTART;TZID=America/Los_Angeles:20261109T140000
DTEND;TZID=America/Los_Angeles:20261109T150000
DTSTAMP:20260424T005031
CREATED:20250127T200806Z
LAST-MODIFIED:20250127T200806Z
UID:10002980-1794232800-1794236400@www.crestlinechamber.org
SUMMARY:Adult Programs\, Yoga 🧘 🙏
DESCRIPTION:🧘‍♀️ Yoga Sessions:\nFind your inner peace with relaxing and rejuvenating yoga classes. Perfect for beginners and seasoned yogis alike\, these sessions are a great way to unwind and recharge. \n📅 Check the library’s calendar for dates and times. Embrace wellness and learning\, all in one place! ✨
URL:https://www.crestlinechamber.org/event/adult-programs-yoga-%f0%9f%a7%98-%f0%9f%99%8f/2026-11-09/
LOCATION:Crestline Branch Library\, 24105 Lake Gregory Dr\, Crestline\, CA\, 92325
CATEGORIES:Community Event,Family Friendly,Lake Gregory
END:VEVENT
BEGIN:VEVENT
DTSTART;TZID=America/Los_Angeles:20261110T113000
DTEND;TZID=America/Los_Angeles:20261110T123000
DTSTAMP:20260424T005031
CREATED:20250127T195254Z
LAST-MODIFIED:20250127T201007Z
UID:10002459-1794310200-1794313800@www.crestlinechamber.org
SUMMARY:Library Beginners\, Active Einsteins  📚🧠
DESCRIPTION:📚🧠 Exciting Programs at the Crestline Branch Library! \n🌟 Library Beginners:\nNew to the library? No problem! Discover how to find books\, use resources\, and explore all the amazing services we offer. A perfect start for lifelong learners! \n🧠 Active Einsteins:\nLet young minds thrive with hands-on STEM activities\, experiments\, and creative learning designed to spark curiosity and inspire the next generation of thinkers! \n📅 Check our schedule for upcoming sessions and programs for all ages. The Crestline Branch Library is where learning meets fun! ✨
URL:https://www.crestlinechamber.org/event/library-beginners-%f0%9f%93%9a/2026-11-10/
LOCATION:Crestline Branch Library\, 24105 Lake Gregory Dr\, Crestline\, CA\, 92325
CATEGORIES:Community Event,Family Friendly
END:VEVENT
BEGIN:VEVENT
DTSTART;TZID=America/Los_Angeles:20261111T150000
DTEND;TZID=America/Los_Angeles:20261111T160000
DTSTAMP:20260424T005031
CREATED:20250127T200257Z
LAST-MODIFIED:20250127T201232Z
UID:10002720-1794409200-1794412800@www.crestlinechamber.org
SUMMARY:Kid Zones\, Discovery Time  📚 ✨
DESCRIPTION:“Welcome to Kid Zones: Discovery Time 📚✨—a space where young minds explore\, create\, and discover the wonders of the world! From hands-on activities to captivating stories\, every moment is an opportunity to learn and grow. Let the adventure begin!”
URL:https://www.crestlinechamber.org/event/activate-einsteins-kid-zones-%f0%9f%93%9a-%e2%9c%a8/2026-11-11/
LOCATION:Crestline Branch Library\, 24105 Lake Gregory Dr\, Crestline\, CA\, 92325
CATEGORIES:Community Event,Family Friendly,Lake Gregory
END:VEVENT
BEGIN:VEVENT
DTSTART;TZID=America/Los_Angeles:20261116T140000
DTEND;TZID=America/Los_Angeles:20261116T150000
DTSTAMP:20260424T005031
CREATED:20250127T200806Z
LAST-MODIFIED:20250127T200806Z
UID:10002981-1794837600-1794841200@www.crestlinechamber.org
SUMMARY:Adult Programs\, Yoga 🧘 🙏
DESCRIPTION:🧘‍♀️ Yoga Sessions:\nFind your inner peace with relaxing and rejuvenating yoga classes. Perfect for beginners and seasoned yogis alike\, these sessions are a great way to unwind and recharge. \n📅 Check the library’s calendar for dates and times. Embrace wellness and learning\, all in one place! ✨
URL:https://www.crestlinechamber.org/event/adult-programs-yoga-%f0%9f%a7%98-%f0%9f%99%8f/2026-11-16/
LOCATION:Crestline Branch Library\, 24105 Lake Gregory Dr\, Crestline\, CA\, 92325
CATEGORIES:Community Event,Family Friendly,Lake Gregory
END:VEVENT
BEGIN:VEVENT
DTSTART;TZID=America/Los_Angeles:20261117T113000
DTEND;TZID=America/Los_Angeles:20261117T123000
DTSTAMP:20260424T005031
CREATED:20250127T195254Z
LAST-MODIFIED:20250127T201007Z
UID:10002460-1794915000-1794918600@www.crestlinechamber.org
SUMMARY:Library Beginners\, Active Einsteins  📚🧠
DESCRIPTION:📚🧠 Exciting Programs at the Crestline Branch Library! \n🌟 Library Beginners:\nNew to the library? No problem! Discover how to find books\, use resources\, and explore all the amazing services we offer. A perfect start for lifelong learners! \n🧠 Active Einsteins:\nLet young minds thrive with hands-on STEM activities\, experiments\, and creative learning designed to spark curiosity and inspire the next generation of thinkers! \n📅 Check our schedule for upcoming sessions and programs for all ages. The Crestline Branch Library is where learning meets fun! ✨
URL:https://www.crestlinechamber.org/event/library-beginners-%f0%9f%93%9a/2026-11-17/
LOCATION:Crestline Branch Library\, 24105 Lake Gregory Dr\, Crestline\, CA\, 92325
CATEGORIES:Community Event,Family Friendly
END:VEVENT
BEGIN:VEVENT
DTSTART;TZID=America/Los_Angeles:20261118T150000
DTEND;TZID=America/Los_Angeles:20261118T160000
DTSTAMP:20260424T005031
CREATED:20250127T200257Z
LAST-MODIFIED:20250127T201232Z
UID:10002721-1795014000-1795017600@www.crestlinechamber.org
SUMMARY:Kid Zones\, Discovery Time  📚 ✨
DESCRIPTION:“Welcome to Kid Zones: Discovery Time 📚✨—a space where young minds explore\, create\, and discover the wonders of the world! From hands-on activities to captivating stories\, every moment is an opportunity to learn and grow. Let the adventure begin!”
URL:https://www.crestlinechamber.org/event/activate-einsteins-kid-zones-%f0%9f%93%9a-%e2%9c%a8/2026-11-18/
LOCATION:Crestline Branch Library\, 24105 Lake Gregory Dr\, Crestline\, CA\, 92325
CATEGORIES:Community Event,Family Friendly,Lake Gregory
END:VEVENT
BEGIN:VEVENT
DTSTART;TZID=America/Los_Angeles:20261123T140000
DTEND;TZID=America/Los_Angeles:20261123T150000
DTSTAMP:20260424T005031
CREATED:20250127T200806Z
LAST-MODIFIED:20250127T200806Z
UID:10002982-1795442400-1795446000@www.crestlinechamber.org
SUMMARY:Adult Programs\, Yoga 🧘 🙏
DESCRIPTION:🧘‍♀️ Yoga Sessions:\nFind your inner peace with relaxing and rejuvenating yoga classes. Perfect for beginners and seasoned yogis alike\, these sessions are a great way to unwind and recharge. \n📅 Check the library’s calendar for dates and times. Embrace wellness and learning\, all in one place! ✨
URL:https://www.crestlinechamber.org/event/adult-programs-yoga-%f0%9f%a7%98-%f0%9f%99%8f/2026-11-23/
LOCATION:Crestline Branch Library\, 24105 Lake Gregory Dr\, Crestline\, CA\, 92325
CATEGORIES:Community Event,Family Friendly,Lake Gregory
END:VEVENT
BEGIN:VEVENT
DTSTART;TZID=America/Los_Angeles:20261124T113000
DTEND;TZID=America/Los_Angeles:20261124T123000
DTSTAMP:20260424T005031
CREATED:20250127T195254Z
LAST-MODIFIED:20250127T201007Z
UID:10002461-1795519800-1795523400@www.crestlinechamber.org
SUMMARY:Library Beginners\, Active Einsteins  📚🧠
DESCRIPTION:📚🧠 Exciting Programs at the Crestline Branch Library! \n🌟 Library Beginners:\nNew to the library? No problem! Discover how to find books\, use resources\, and explore all the amazing services we offer. A perfect start for lifelong learners! \n🧠 Active Einsteins:\nLet young minds thrive with hands-on STEM activities\, experiments\, and creative learning designed to spark curiosity and inspire the next generation of thinkers! \n📅 Check our schedule for upcoming sessions and programs for all ages. The Crestline Branch Library is where learning meets fun! ✨
URL:https://www.crestlinechamber.org/event/library-beginners-%f0%9f%93%9a/2026-11-24/
LOCATION:Crestline Branch Library\, 24105 Lake Gregory Dr\, Crestline\, CA\, 92325
CATEGORIES:Community Event,Family Friendly
END:VEVENT
BEGIN:VEVENT
DTSTART;TZID=America/Los_Angeles:20261125T150000
DTEND;TZID=America/Los_Angeles:20261125T160000
DTSTAMP:20260424T005031
CREATED:20250127T200257Z
LAST-MODIFIED:20250127T201232Z
UID:10002722-1795618800-1795622400@www.crestlinechamber.org
SUMMARY:Kid Zones\, Discovery Time  📚 ✨
DESCRIPTION:“Welcome to Kid Zones: Discovery Time 📚✨—a space where young minds explore\, create\, and discover the wonders of the world! From hands-on activities to captivating stories\, every moment is an opportunity to learn and grow. Let the adventure begin!”
URL:https://www.crestlinechamber.org/event/activate-einsteins-kid-zones-%f0%9f%93%9a-%e2%9c%a8/2026-11-25/
LOCATION:Crestline Branch Library\, 24105 Lake Gregory Dr\, Crestline\, CA\, 92325
CATEGORIES:Community Event,Family Friendly,Lake Gregory
END:VEVENT
BEGIN:VEVENT
DTSTART;TZID=America/Los_Angeles:20261130T140000
DTEND;TZID=America/Los_Angeles:20261130T150000
DTSTAMP:20260424T005031
CREATED:20250127T200806Z
LAST-MODIFIED:20250127T200806Z
UID:10002983-1796047200-1796050800@www.crestlinechamber.org
SUMMARY:Adult Programs\, Yoga 🧘 🙏
DESCRIPTION:🧘‍♀️ Yoga Sessions:\nFind your inner peace with relaxing and rejuvenating yoga classes. Perfect for beginners and seasoned yogis alike\, these sessions are a great way to unwind and recharge. \n📅 Check the library’s calendar for dates and times. Embrace wellness and learning\, all in one place! ✨
URL:https://www.crestlinechamber.org/event/adult-programs-yoga-%f0%9f%a7%98-%f0%9f%99%8f/2026-11-30/
LOCATION:Crestline Branch Library\, 24105 Lake Gregory Dr\, Crestline\, CA\, 92325
CATEGORIES:Community Event,Family Friendly,Lake Gregory
END:VEVENT
BEGIN:VEVENT
DTSTART;TZID=America/Los_Angeles:20261201T113000
DTEND;TZID=America/Los_Angeles:20261201T123000
DTSTAMP:20260424T005031
CREATED:20250127T195254Z
LAST-MODIFIED:20250127T201007Z
UID:10002462-1796124600-1796128200@www.crestlinechamber.org
SUMMARY:Library Beginners\, Active Einsteins  📚🧠
DESCRIPTION:📚🧠 Exciting Programs at the Crestline Branch Library! \n🌟 Library Beginners:\nNew to the library? No problem! Discover how to find books\, use resources\, and explore all the amazing services we offer. A perfect start for lifelong learners! \n🧠 Active Einsteins:\nLet young minds thrive with hands-on STEM activities\, experiments\, and creative learning designed to spark curiosity and inspire the next generation of thinkers! \n📅 Check our schedule for upcoming sessions and programs for all ages. The Crestline Branch Library is where learning meets fun! ✨
URL:https://www.crestlinechamber.org/event/library-beginners-%f0%9f%93%9a/2026-12-01/
LOCATION:Crestline Branch Library\, 24105 Lake Gregory Dr\, Crestline\, CA\, 92325
CATEGORIES:Community Event,Family Friendly
END:VEVENT
BEGIN:VEVENT
DTSTART;TZID=America/Los_Angeles:20261202T150000
DTEND;TZID=America/Los_Angeles:20261202T160000
DTSTAMP:20260424T005031
CREATED:20250127T200257Z
LAST-MODIFIED:20250127T201232Z
UID:10002723-1796223600-1796227200@www.crestlinechamber.org
SUMMARY:Kid Zones\, Discovery Time  📚 ✨
DESCRIPTION:“Welcome to Kid Zones: Discovery Time 📚✨—a space where young minds explore\, create\, and discover the wonders of the world! From hands-on activities to captivating stories\, every moment is an opportunity to learn and grow. Let the adventure begin!”
URL:https://www.crestlinechamber.org/event/activate-einsteins-kid-zones-%f0%9f%93%9a-%e2%9c%a8/2026-12-02/
LOCATION:Crestline Branch Library\, 24105 Lake Gregory Dr\, Crestline\, CA\, 92325
CATEGORIES:Community Event,Family Friendly,Lake Gregory
END:VEVENT
BEGIN:VEVENT
DTSTART;TZID=America/Los_Angeles:20261207T140000
DTEND;TZID=America/Los_Angeles:20261207T150000
DTSTAMP:20260424T005031
CREATED:20250127T200806Z
LAST-MODIFIED:20250127T200806Z
UID:10002984-1796652000-1796655600@www.crestlinechamber.org
SUMMARY:Adult Programs\, Yoga 🧘 🙏
DESCRIPTION:🧘‍♀️ Yoga Sessions:\nFind your inner peace with relaxing and rejuvenating yoga classes. Perfect for beginners and seasoned yogis alike\, these sessions are a great way to unwind and recharge. \n📅 Check the library’s calendar for dates and times. Embrace wellness and learning\, all in one place! ✨
URL:https://www.crestlinechamber.org/event/adult-programs-yoga-%f0%9f%a7%98-%f0%9f%99%8f/2026-12-07/
LOCATION:Crestline Branch Library\, 24105 Lake Gregory Dr\, Crestline\, CA\, 92325
CATEGORIES:Community Event,Family Friendly,Lake Gregory
END:VEVENT
BEGIN:VEVENT
DTSTART;TZID=America/Los_Angeles:20261208T113000
DTEND;TZID=America/Los_Angeles:20261208T123000
DTSTAMP:20260424T005031
CREATED:20250127T195254Z
LAST-MODIFIED:20250127T201007Z
UID:10002463-1796729400-1796733000@www.crestlinechamber.org
SUMMARY:Library Beginners\, Active Einsteins  📚🧠
DESCRIPTION:📚🧠 Exciting Programs at the Crestline Branch Library! \n🌟 Library Beginners:\nNew to the library? No problem! Discover how to find books\, use resources\, and explore all the amazing services we offer. A perfect start for lifelong learners! \n🧠 Active Einsteins:\nLet young minds thrive with hands-on STEM activities\, experiments\, and creative learning designed to spark curiosity and inspire the next generation of thinkers! \n📅 Check our schedule for upcoming sessions and programs for all ages. The Crestline Branch Library is where learning meets fun! ✨
URL:https://www.crestlinechamber.org/event/library-beginners-%f0%9f%93%9a/2026-12-08/
LOCATION:Crestline Branch Library\, 24105 Lake Gregory Dr\, Crestline\, CA\, 92325
CATEGORIES:Community Event,Family Friendly
END:VEVENT
BEGIN:VEVENT
DTSTART;TZID=America/Los_Angeles:20261209T150000
DTEND;TZID=America/Los_Angeles:20261209T160000
DTSTAMP:20260424T005031
CREATED:20250127T200257Z
LAST-MODIFIED:20250127T201232Z
UID:10002724-1796828400-1796832000@www.crestlinechamber.org
SUMMARY:Kid Zones\, Discovery Time  📚 ✨
DESCRIPTION:“Welcome to Kid Zones: Discovery Time 📚✨—a space where young minds explore\, create\, and discover the wonders of the world! From hands-on activities to captivating stories\, every moment is an opportunity to learn and grow. Let the adventure begin!”
URL:https://www.crestlinechamber.org/event/activate-einsteins-kid-zones-%f0%9f%93%9a-%e2%9c%a8/2026-12-09/
LOCATION:Crestline Branch Library\, 24105 Lake Gregory Dr\, Crestline\, CA\, 92325
CATEGORIES:Community Event,Family Friendly,Lake Gregory
END:VEVENT
BEGIN:VEVENT
DTSTART;TZID=America/Los_Angeles:20261214T140000
DTEND;TZID=America/Los_Angeles:20261214T150000
DTSTAMP:20260424T005031
CREATED:20250127T200806Z
LAST-MODIFIED:20250127T200806Z
UID:10002985-1797256800-1797260400@www.crestlinechamber.org
SUMMARY:Adult Programs\, Yoga 🧘 🙏
DESCRIPTION:🧘‍♀️ Yoga Sessions:\nFind your inner peace with relaxing and rejuvenating yoga classes. Perfect for beginners and seasoned yogis alike\, these sessions are a great way to unwind and recharge. \n📅 Check the library’s calendar for dates and times. Embrace wellness and learning\, all in one place! ✨
URL:https://www.crestlinechamber.org/event/adult-programs-yoga-%f0%9f%a7%98-%f0%9f%99%8f/2026-12-14/
LOCATION:Crestline Branch Library\, 24105 Lake Gregory Dr\, Crestline\, CA\, 92325
CATEGORIES:Community Event,Family Friendly,Lake Gregory
END:VEVENT
BEGIN:VEVENT
DTSTART;TZID=America/Los_Angeles:20261215T113000
DTEND;TZID=America/Los_Angeles:20261215T123000
DTSTAMP:20260424T005031
CREATED:20250127T195254Z
LAST-MODIFIED:20250127T201007Z
UID:10002464-1797334200-1797337800@www.crestlinechamber.org
SUMMARY:Library Beginners\, Active Einsteins  📚🧠
DESCRIPTION:📚🧠 Exciting Programs at the Crestline Branch Library! \n🌟 Library Beginners:\nNew to the library? No problem! Discover how to find books\, use resources\, and explore all the amazing services we offer. A perfect start for lifelong learners! \n🧠 Active Einsteins:\nLet young minds thrive with hands-on STEM activities\, experiments\, and creative learning designed to spark curiosity and inspire the next generation of thinkers! \n📅 Check our schedule for upcoming sessions and programs for all ages. The Crestline Branch Library is where learning meets fun! ✨
URL:https://www.crestlinechamber.org/event/library-beginners-%f0%9f%93%9a/2026-12-15/
LOCATION:Crestline Branch Library\, 24105 Lake Gregory Dr\, Crestline\, CA\, 92325
CATEGORIES:Community Event,Family Friendly
END:VEVENT
BEGIN:VEVENT
DTSTART;TZID=America/Los_Angeles:20261216T150000
DTEND;TZID=America/Los_Angeles:20261216T160000
DTSTAMP:20260424T005031
CREATED:20250127T200257Z
LAST-MODIFIED:20250127T201232Z
UID:10002725-1797433200-1797436800@www.crestlinechamber.org
SUMMARY:Kid Zones\, Discovery Time  📚 ✨
DESCRIPTION:“Welcome to Kid Zones: Discovery Time 📚✨—a space where young minds explore\, create\, and discover the wonders of the world! From hands-on activities to captivating stories\, every moment is an opportunity to learn and grow. Let the adventure begin!”
URL:https://www.crestlinechamber.org/event/activate-einsteins-kid-zones-%f0%9f%93%9a-%e2%9c%a8/2026-12-16/
LOCATION:Crestline Branch Library\, 24105 Lake Gregory Dr\, Crestline\, CA\, 92325
CATEGORIES:Community Event,Family Friendly,Lake Gregory
END:VEVENT
BEGIN:VEVENT
DTSTART;TZID=America/Los_Angeles:20261221T140000
DTEND;TZID=America/Los_Angeles:20261221T150000
DTSTAMP:20260424T005031
CREATED:20250127T200806Z
LAST-MODIFIED:20250127T200806Z
UID:10002986-1797861600-1797865200@www.crestlinechamber.org
SUMMARY:Adult Programs\, Yoga 🧘 🙏
DESCRIPTION:🧘‍♀️ Yoga Sessions:\nFind your inner peace with relaxing and rejuvenating yoga classes. Perfect for beginners and seasoned yogis alike\, these sessions are a great way to unwind and recharge. \n📅 Check the library’s calendar for dates and times. Embrace wellness and learning\, all in one place! ✨
URL:https://www.crestlinechamber.org/event/adult-programs-yoga-%f0%9f%a7%98-%f0%9f%99%8f/2026-12-21/
LOCATION:Crestline Branch Library\, 24105 Lake Gregory Dr\, Crestline\, CA\, 92325
CATEGORIES:Community Event,Family Friendly,Lake Gregory
END:VEVENT
BEGIN:VEVENT
DTSTART;TZID=America/Los_Angeles:20261222T113000
DTEND;TZID=America/Los_Angeles:20261222T123000
DTSTAMP:20260424T005031
CREATED:20250127T195254Z
LAST-MODIFIED:20250127T201007Z
UID:10002465-1797939000-1797942600@www.crestlinechamber.org
SUMMARY:Library Beginners\, Active Einsteins  📚🧠
DESCRIPTION:📚🧠 Exciting Programs at the Crestline Branch Library! \n🌟 Library Beginners:\nNew to the library? No problem! Discover how to find books\, use resources\, and explore all the amazing services we offer. A perfect start for lifelong learners! \n🧠 Active Einsteins:\nLet young minds thrive with hands-on STEM activities\, experiments\, and creative learning designed to spark curiosity and inspire the next generation of thinkers! \n📅 Check our schedule for upcoming sessions and programs for all ages. The Crestline Branch Library is where learning meets fun! ✨
URL:https://www.crestlinechamber.org/event/library-beginners-%f0%9f%93%9a/2026-12-22/
LOCATION:Crestline Branch Library\, 24105 Lake Gregory Dr\, Crestline\, CA\, 92325
CATEGORIES:Community Event,Family Friendly
END:VEVENT
BEGIN:VEVENT
DTSTART;TZID=America/Los_Angeles:20261223T150000
DTEND;TZID=America/Los_Angeles:20261223T160000
DTSTAMP:20260424T005031
CREATED:20250127T200257Z
LAST-MODIFIED:20250127T201232Z
UID:10002726-1798038000-1798041600@www.crestlinechamber.org
SUMMARY:Kid Zones\, Discovery Time  📚 ✨
DESCRIPTION:“Welcome to Kid Zones: Discovery Time 📚✨—a space where young minds explore\, create\, and discover the wonders of the world! From hands-on activities to captivating stories\, every moment is an opportunity to learn and grow. Let the adventure begin!”
URL:https://www.crestlinechamber.org/event/activate-einsteins-kid-zones-%f0%9f%93%9a-%e2%9c%a8/2026-12-23/
LOCATION:Crestline Branch Library\, 24105 Lake Gregory Dr\, Crestline\, CA\, 92325
CATEGORIES:Community Event,Family Friendly,Lake Gregory
END:VEVENT
BEGIN:VEVENT
DTSTART;TZID=America/Los_Angeles:20261228T140000
DTEND;TZID=America/Los_Angeles:20261228T150000
DTSTAMP:20260424T005031
CREATED:20250127T200806Z
LAST-MODIFIED:20250127T200806Z
UID:10002987-1798466400-1798470000@www.crestlinechamber.org
SUMMARY:Adult Programs\, Yoga 🧘 🙏
DESCRIPTION:🧘‍♀️ Yoga Sessions:\nFind your inner peace with relaxing and rejuvenating yoga classes. Perfect for beginners and seasoned yogis alike\, these sessions are a great way to unwind and recharge. \n📅 Check the library’s calendar for dates and times. Embrace wellness and learning\, all in one place! ✨
URL:https://www.crestlinechamber.org/event/adult-programs-yoga-%f0%9f%a7%98-%f0%9f%99%8f/2026-12-28/
LOCATION:Crestline Branch Library\, 24105 Lake Gregory Dr\, Crestline\, CA\, 92325
CATEGORIES:Community Event,Family Friendly,Lake Gregory
END:VEVENT
BEGIN:VEVENT
DTSTART;TZID=America/Los_Angeles:20261229T113000
DTEND;TZID=America/Los_Angeles:20261229T123000
DTSTAMP:20260424T005031
CREATED:20250127T195254Z
LAST-MODIFIED:20250127T201007Z
UID:10002466-1798543800-1798547400@www.crestlinechamber.org
SUMMARY:Library Beginners\, Active Einsteins  📚🧠
DESCRIPTION:📚🧠 Exciting Programs at the Crestline Branch Library! \n🌟 Library Beginners:\nNew to the library? No problem! Discover how to find books\, use resources\, and explore all the amazing services we offer. A perfect start for lifelong learners! \n🧠 Active Einsteins:\nLet young minds thrive with hands-on STEM activities\, experiments\, and creative learning designed to spark curiosity and inspire the next generation of thinkers! \n📅 Check our schedule for upcoming sessions and programs for all ages. The Crestline Branch Library is where learning meets fun! ✨
URL:https://www.crestlinechamber.org/event/library-beginners-%f0%9f%93%9a/2026-12-29/
LOCATION:Crestline Branch Library\, 24105 Lake Gregory Dr\, Crestline\, CA\, 92325
CATEGORIES:Community Event,Family Friendly
END:VEVENT
BEGIN:VEVENT
DTSTART;TZID=America/Los_Angeles:20261230T150000
DTEND;TZID=America/Los_Angeles:20261230T160000
DTSTAMP:20260424T005031
CREATED:20250127T200257Z
LAST-MODIFIED:20250127T201232Z
UID:10002727-1798642800-1798646400@www.crestlinechamber.org
SUMMARY:Kid Zones\, Discovery Time  📚 ✨
DESCRIPTION:“Welcome to Kid Zones: Discovery Time 📚✨—a space where young minds explore\, create\, and discover the wonders of the world! From hands-on activities to captivating stories\, every moment is an opportunity to learn and grow. Let the adventure begin!”
URL:https://www.crestlinechamber.org/event/activate-einsteins-kid-zones-%f0%9f%93%9a-%e2%9c%a8/2026-12-30/
LOCATION:Crestline Branch Library\, 24105 Lake Gregory Dr\, Crestline\, CA\, 92325
CATEGORIES:Community Event,Family Friendly,Lake Gregory
END:VEVENT
BEGIN:VEVENT
DTSTART;TZID=America/Los_Angeles:20270104T140000
DTEND;TZID=America/Los_Angeles:20270104T150000
DTSTAMP:20260424T005031
CREATED:20250127T200806Z
LAST-MODIFIED:20250127T200806Z
UID:10002988-1799071200-1799074800@www.crestlinechamber.org
SUMMARY:Adult Programs\, Yoga 🧘 🙏
DESCRIPTION:🧘‍♀️ Yoga Sessions:\nFind your inner peace with relaxing and rejuvenating yoga classes. Perfect for beginners and seasoned yogis alike\, these sessions are a great way to unwind and recharge. \n📅 Check the library’s calendar for dates and times. Embrace wellness and learning\, all in one place! ✨
URL:https://www.crestlinechamber.org/event/adult-programs-yoga-%f0%9f%a7%98-%f0%9f%99%8f/2027-01-04/
LOCATION:Crestline Branch Library\, 24105 Lake Gregory Dr\, Crestline\, CA\, 92325
CATEGORIES:Community Event,Family Friendly,Lake Gregory
END:VEVENT
BEGIN:VEVENT
DTSTART;TZID=America/Los_Angeles:20270105T113000
DTEND;TZID=America/Los_Angeles:20270105T123000
DTSTAMP:20260424T005031
CREATED:20250127T195254Z
LAST-MODIFIED:20250127T201007Z
UID:10002467-1799148600-1799152200@www.crestlinechamber.org
SUMMARY:Library Beginners\, Active Einsteins  📚🧠
DESCRIPTION:📚🧠 Exciting Programs at the Crestline Branch Library! \n🌟 Library Beginners:\nNew to the library? No problem! Discover how to find books\, use resources\, and explore all the amazing services we offer. A perfect start for lifelong learners! \n🧠 Active Einsteins:\nLet young minds thrive with hands-on STEM activities\, experiments\, and creative learning designed to spark curiosity and inspire the next generation of thinkers! \n📅 Check our schedule for upcoming sessions and programs for all ages. The Crestline Branch Library is where learning meets fun! ✨
URL:https://www.crestlinechamber.org/event/library-beginners-%f0%9f%93%9a/2027-01-05/
LOCATION:Crestline Branch Library\, 24105 Lake Gregory Dr\, Crestline\, CA\, 92325
CATEGORIES:Community Event,Family Friendly
END:VEVENT
BEGIN:VEVENT
DTSTART;TZID=America/Los_Angeles:20270106T150000
DTEND;TZID=America/Los_Angeles:20270106T160000
DTSTAMP:20260424T005031
CREATED:20250127T200257Z
LAST-MODIFIED:20250127T201232Z
UID:10002728-1799247600-1799251200@www.crestlinechamber.org
SUMMARY:Kid Zones\, Discovery Time  📚 ✨
DESCRIPTION:“Welcome to Kid Zones: Discovery Time 📚✨—a space where young minds explore\, create\, and discover the wonders of the world! From hands-on activities to captivating stories\, every moment is an opportunity to learn and grow. Let the adventure begin!”
URL:https://www.crestlinechamber.org/event/activate-einsteins-kid-zones-%f0%9f%93%9a-%e2%9c%a8/2027-01-06/
LOCATION:Crestline Branch Library\, 24105 Lake Gregory Dr\, Crestline\, CA\, 92325
CATEGORIES:Community Event,Family Friendly,Lake Gregory
END:VEVENT
BEGIN:VEVENT
DTSTART;TZID=America/Los_Angeles:20270111T140000
DTEND;TZID=America/Los_Angeles:20270111T150000
DTSTAMP:20260424T005031
CREATED:20250127T200806Z
LAST-MODIFIED:20250127T200806Z
UID:10002989-1799676000-1799679600@www.crestlinechamber.org
SUMMARY:Adult Programs\, Yoga 🧘 🙏
DESCRIPTION:🧘‍♀️ Yoga Sessions:\nFind your inner peace with relaxing and rejuvenating yoga classes. Perfect for beginners and seasoned yogis alike\, these sessions are a great way to unwind and recharge. \n📅 Check the library’s calendar for dates and times. Embrace wellness and learning\, all in one place! ✨
URL:https://www.crestlinechamber.org/event/adult-programs-yoga-%f0%9f%a7%98-%f0%9f%99%8f/2027-01-11/
LOCATION:Crestline Branch Library\, 24105 Lake Gregory Dr\, Crestline\, CA\, 92325
CATEGORIES:Community Event,Family Friendly,Lake Gregory
END:VEVENT
BEGIN:VEVENT
DTSTART;TZID=America/Los_Angeles:20270112T113000
DTEND;TZID=America/Los_Angeles:20270112T123000
DTSTAMP:20260424T005031
CREATED:20250127T195254Z
LAST-MODIFIED:20250127T201007Z
UID:10002468-1799753400-1799757000@www.crestlinechamber.org
SUMMARY:Library Beginners\, Active Einsteins  📚🧠
DESCRIPTION:📚🧠 Exciting Programs at the Crestline Branch Library! \n🌟 Library Beginners:\nNew to the library? No problem! Discover how to find books\, use resources\, and explore all the amazing services we offer. A perfect start for lifelong learners! \n🧠 Active Einsteins:\nLet young minds thrive with hands-on STEM activities\, experiments\, and creative learning designed to spark curiosity and inspire the next generation of thinkers! \n📅 Check our schedule for upcoming sessions and programs for all ages. The Crestline Branch Library is where learning meets fun! ✨
URL:https://www.crestlinechamber.org/event/library-beginners-%f0%9f%93%9a/2027-01-12/
LOCATION:Crestline Branch Library\, 24105 Lake Gregory Dr\, Crestline\, CA\, 92325
CATEGORIES:Community Event,Family Friendly
END:VEVENT
BEGIN:VEVENT
DTSTART;TZID=America/Los_Angeles:20270113T150000
DTEND;TZID=America/Los_Angeles:20270113T160000
DTSTAMP:20260424T005031
CREATED:20250127T200257Z
LAST-MODIFIED:20250127T201232Z
UID:10002729-1799852400-1799856000@www.crestlinechamber.org
SUMMARY:Kid Zones\, Discovery Time  📚 ✨
DESCRIPTION:“Welcome to Kid Zones: Discovery Time 📚✨—a space where young minds explore\, create\, and discover the wonders of the world! From hands-on activities to captivating stories\, every moment is an opportunity to learn and grow. Let the adventure begin!”
URL:https://www.crestlinechamber.org/event/activate-einsteins-kid-zones-%f0%9f%93%9a-%e2%9c%a8/2027-01-13/
LOCATION:Crestline Branch Library\, 24105 Lake Gregory Dr\, Crestline\, CA\, 92325
CATEGORIES:Community Event,Family Friendly,Lake Gregory
END:VEVENT
END:VCALENDAR