BEGIN:VCALENDAR
VERSION:2.0
PRODID:-//Crestline Chamber of Commerce - ECPv6.15.20//NONSGML v1.0//EN
CALSCALE:GREGORIAN
METHOD:PUBLISH
X-ORIGINAL-URL:https://www.crestlinechamber.org
X-WR-CALDESC:Events for Crestline Chamber of Commerce
REFRESH-INTERVAL;VALUE=DURATION:PT1H
X-Robots-Tag:noindex
X-PUBLISHED-TTL:PT1H
BEGIN:VTIMEZONE
TZID:America/Los_Angeles
BEGIN:DAYLIGHT
TZOFFSETFROM:-0800
TZOFFSETTO:-0700
TZNAME:PDT
DTSTART:20230312T100000
END:DAYLIGHT
BEGIN:STANDARD
TZOFFSETFROM:-0700
TZOFFSETTO:-0800
TZNAME:PST
DTSTART:20231105T090000
END:STANDARD
BEGIN:DAYLIGHT
TZOFFSETFROM:-0800
TZOFFSETTO:-0700
TZNAME:PDT
DTSTART:20240310T100000
END:DAYLIGHT
BEGIN:STANDARD
TZOFFSETFROM:-0700
TZOFFSETTO:-0800
TZNAME:PST
DTSTART:20241103T090000
END:STANDARD
BEGIN:DAYLIGHT
TZOFFSETFROM:-0800
TZOFFSETTO:-0700
TZNAME:PDT
DTSTART:20250309T100000
END:DAYLIGHT
BEGIN:STANDARD
TZOFFSETFROM:-0700
TZOFFSETTO:-0800
TZNAME:PST
DTSTART:20251102T090000
END:STANDARD
END:VTIMEZONE
BEGIN:VEVENT
DTSTART;TZID=America/Los_Angeles:20240504T103000
DTEND;TZID=America/Los_Angeles:20240504T103000
DTSTAMP:20260424T010859
CREATED:20240429T215012Z
LAST-MODIFIED:20240429T215202Z
UID:10001311-1714818600-1714818600@www.crestlinechamber.org
SUMMARY:Crestline Comics Ribbon Cutting and Grand Opening
DESCRIPTION:Get ready for the grand launch of our store at 580 Forest Shade Rd\, Unit 10\, Crestline\, CA 92325. The Celebration will kick off with a Crestline Chamber of Commerce Ribbon-Cutting ceremony at 10:30am. \nCalling all Star Wars Cosplayers! We want Storm Troopers\, Mandalorians\, Rebels and more to join us for this special moment. Not only will you be part of our memorable photo\, but we’d love for you to interact with the kids too! We’re also hosting a Cosplay Contest with amazing prizes for kids and adults. It’s not limited to Star Wars\, so feel free to dress up as your favorite characters. Just remember to keep the costumes family-friendly! \nThe fun doesn’t stop there! We’ll have popcorn\, free comics\, trivia games\, and even a raffle for an R2D2 statue. We’re also stocking up on Pokémon & Magic The Gathering cards\, fun new board games\, and a selection of toys. \nWe’re hustling to get everything ready in time. Most importantly\, we want to extend a huge ‘Thank you!’ for all your support and suggestions. We’re excited to create a vibrant\, safe\, and welcoming space for our community.
URL:https://www.crestlinechamber.org/event/crestline-comics-ribbon-cutting-and-grand-opening/
LOCATION:Crestline Comics\, 580 Forest Shade Rd\, Unit 10\, Crestline\,\, CA\, 92325
CATEGORIES:Community Event,Family Friendly
END:VEVENT
END:VCALENDAR