BEGIN:VCALENDAR
VERSION:2.0
PRODID:-//Crestline Chamber of Commerce - ECPv6.15.20//NONSGML v1.0//EN
CALSCALE:GREGORIAN
METHOD:PUBLISH
X-ORIGINAL-URL:https://www.crestlinechamber.org
X-WR-CALDESC:Events for Crestline Chamber of Commerce
REFRESH-INTERVAL;VALUE=DURATION:PT1H
X-Robots-Tag:noindex
X-PUBLISHED-TTL:PT1H
BEGIN:VTIMEZONE
TZID:America/Los_Angeles
BEGIN:DAYLIGHT
TZOFFSETFROM:-0800
TZOFFSETTO:-0700
TZNAME:PDT
DTSTART:20220313T100000
END:DAYLIGHT
BEGIN:STANDARD
TZOFFSETFROM:-0700
TZOFFSETTO:-0800
TZNAME:PST
DTSTART:20221106T090000
END:STANDARD
BEGIN:DAYLIGHT
TZOFFSETFROM:-0800
TZOFFSETTO:-0700
TZNAME:PDT
DTSTART:20230312T100000
END:DAYLIGHT
BEGIN:STANDARD
TZOFFSETFROM:-0700
TZOFFSETTO:-0800
TZNAME:PST
DTSTART:20231105T090000
END:STANDARD
BEGIN:DAYLIGHT
TZOFFSETFROM:-0800
TZOFFSETTO:-0700
TZNAME:PDT
DTSTART:20240310T100000
END:DAYLIGHT
BEGIN:STANDARD
TZOFFSETFROM:-0700
TZOFFSETTO:-0800
TZNAME:PST
DTSTART:20241103T090000
END:STANDARD
END:VTIMEZONE
BEGIN:VEVENT
DTSTART;TZID=America/Los_Angeles:20230520T160000
DTEND;TZID=America/Los_Angeles:20230520T200000
DTSTAMP:20260424T021243
CREATED:20230515T161802Z
LAST-MODIFIED:20230515T171921Z
UID:10000242-1684598400-1684612800@www.crestlinechamber.org
SUMMARY:Encompass Antiques 7th Anniversary Party
DESCRIPTION:Mark your calendars for May 20th from 4-8pm for an evening full of celebration! @hilarywatsonmusic will be preforming that evening\, @wearsthemountain will be selling their awesome swag\, and encompass will have special deals and will be donating a portion of sales back to @rimeducationfoundation! We hope you will join them as they kick pff summer and celebrate 7 years of being a part of this amazing mountain!
URL:https://www.crestlinechamber.org/event/encompass-antiques-7th-anniversary-party/
LOCATION:Encompass Antiques\, 23775 Lake Dr\,\, Crestline\, 92325\, United States
CATEGORIES:Family Friendly,Live Music
END:VEVENT
END:VCALENDAR