BEGIN:VCALENDAR
VERSION:2.0
PRODID:-//Crestline Chamber of Commerce - ECPv6.15.20//NONSGML v1.0//EN
CALSCALE:GREGORIAN
METHOD:PUBLISH
X-ORIGINAL-URL:https://www.crestlinechamber.org
X-WR-CALDESC:Events for Crestline Chamber of Commerce
REFRESH-INTERVAL;VALUE=DURATION:PT1H
X-Robots-Tag:noindex
X-PUBLISHED-TTL:PT1H
BEGIN:VTIMEZONE
TZID:America/Los_Angeles
BEGIN:DAYLIGHT
TZOFFSETFROM:-0800
TZOFFSETTO:-0700
TZNAME:PDT
DTSTART:20240310T100000
END:DAYLIGHT
BEGIN:STANDARD
TZOFFSETFROM:-0700
TZOFFSETTO:-0800
TZNAME:PST
DTSTART:20241103T090000
END:STANDARD
BEGIN:DAYLIGHT
TZOFFSETFROM:-0800
TZOFFSETTO:-0700
TZNAME:PDT
DTSTART:20250309T100000
END:DAYLIGHT
BEGIN:STANDARD
TZOFFSETFROM:-0700
TZOFFSETTO:-0800
TZNAME:PST
DTSTART:20251102T090000
END:STANDARD
BEGIN:DAYLIGHT
TZOFFSETFROM:-0800
TZOFFSETTO:-0700
TZNAME:PDT
DTSTART:20260308T100000
END:DAYLIGHT
BEGIN:STANDARD
TZOFFSETFROM:-0700
TZOFFSETTO:-0800
TZNAME:PST
DTSTART:20261101T090000
END:STANDARD
END:VTIMEZONE
BEGIN:VEVENT
DTSTART;TZID=America/Los_Angeles:20250226T100000
DTEND;TZID=America/Los_Angeles:20250226T120000
DTSTAMP:20260424T032521
CREATED:20250114T172735Z
LAST-MODIFIED:20250114T174820Z
UID:10002024-1740564000-1740571200@www.crestlinechamber.org
SUMMARY:America's SBDC Workshop: Elevate Your Business (Four-Part Series)
DESCRIPTION:Elevate Your Business is a dynamic four-part course designed to equip business owners with the essential skills and knowledge to build a resilient and successful business \nIn-Person & FREE!
URL:https://www.crestlinechamber.org/event/americas-sbdc-workshop-elevate-your-business-four-part-series/
LOCATION:Entrepreneurial Resource Center – Temecula\, 43200 Business Park Drive 2nd Floor\, Temecula\, CA\, 92590\, United States
CATEGORIES:Community Event
END:VEVENT
END:VCALENDAR