BEGIN:VCALENDAR
VERSION:2.0
PRODID:-//Crestline Chamber of Commerce - ECPv6.15.20//NONSGML v1.0//EN
CALSCALE:GREGORIAN
METHOD:PUBLISH
X-WR-CALNAME:Crestline Chamber of Commerce
X-ORIGINAL-URL:https://www.crestlinechamber.org
X-WR-CALDESC:Events for Crestline Chamber of Commerce
REFRESH-INTERVAL;VALUE=DURATION:PT1H
X-Robots-Tag:noindex
X-PUBLISHED-TTL:PT1H
BEGIN:VTIMEZONE
TZID:America/Los_Angeles
BEGIN:DAYLIGHT
TZOFFSETFROM:-0800
TZOFFSETTO:-0700
TZNAME:PDT
DTSTART:20210314T100000
END:DAYLIGHT
BEGIN:STANDARD
TZOFFSETFROM:-0700
TZOFFSETTO:-0800
TZNAME:PST
DTSTART:20211107T090000
END:STANDARD
BEGIN:DAYLIGHT
TZOFFSETFROM:-0800
TZOFFSETTO:-0700
TZNAME:PDT
DTSTART:20220313T100000
END:DAYLIGHT
BEGIN:STANDARD
TZOFFSETFROM:-0700
TZOFFSETTO:-0800
TZNAME:PST
DTSTART:20221106T090000
END:STANDARD
BEGIN:DAYLIGHT
TZOFFSETFROM:-0800
TZOFFSETTO:-0700
TZNAME:PDT
DTSTART:20230312T100000
END:DAYLIGHT
BEGIN:STANDARD
TZOFFSETFROM:-0700
TZOFFSETTO:-0800
TZNAME:PST
DTSTART:20231105T090000
END:STANDARD
BEGIN:DAYLIGHT
TZOFFSETFROM:-0800
TZOFFSETTO:-0700
TZNAME:PDT
DTSTART:20240310T100000
END:DAYLIGHT
BEGIN:STANDARD
TZOFFSETFROM:-0700
TZOFFSETTO:-0800
TZNAME:PST
DTSTART:20241103T090000
END:STANDARD
BEGIN:DAYLIGHT
TZOFFSETFROM:-0800
TZOFFSETTO:-0700
TZNAME:PDT
DTSTART:20250309T100000
END:DAYLIGHT
BEGIN:STANDARD
TZOFFSETFROM:-0700
TZOFFSETTO:-0800
TZNAME:PST
DTSTART:20251102T090000
END:STANDARD
BEGIN:DAYLIGHT
TZOFFSETFROM:-0800
TZOFFSETTO:-0700
TZNAME:PDT
DTSTART:20260308T100000
END:DAYLIGHT
BEGIN:STANDARD
TZOFFSETFROM:-0700
TZOFFSETTO:-0800
TZNAME:PST
DTSTART:20261101T090000
END:STANDARD
END:VTIMEZONE
BEGIN:VEVENT
DTSTART;TZID=America/Los_Angeles:20250816T110000
DTEND;TZID=America/Los_Angeles:20250816T150000
DTSTAMP:20260423T195807
CREATED:20250619T181322Z
LAST-MODIFIED:20250619T183021Z
UID:10005480-1755342000-1755356400@www.crestlinechamber.org
SUMMARY:SoCal Vintage Baseball Game ⚾️
DESCRIPTION:
URL:https://www.crestlinechamber.org/event/socal-vintage-baseball-game-%e2%9a%be%ef%b8%8f/2025-08-16/
LOCATION:Harich Field\, 675 Grandview Rd\, Twin Peaks\, CA\, 92391\, United States
CATEGORIES:Community Event,Family Friendly
GEO:34.2410012;-117.2378948
X-APPLE-STRUCTURED-LOCATION;VALUE=URI;X-ADDRESS=Harich Field 675 Grandview Rd Twin Peaks CA 92391 United States;X-APPLE-RADIUS=500;X-TITLE=675 Grandview Rd:geo:-117.2378948,34.2410012
END:VEVENT
BEGIN:VEVENT
DTSTART;TZID=America/Los_Angeles:20250802T110000
DTEND;TZID=America/Los_Angeles:20250802T150000
DTSTAMP:20260423T195807
CREATED:20250619T181322Z
LAST-MODIFIED:20250619T183021Z
UID:10005479-1754132400-1754146800@www.crestlinechamber.org
SUMMARY:SoCal Vintage Baseball Game ⚾️
DESCRIPTION:
URL:https://www.crestlinechamber.org/event/socal-vintage-baseball-game-%e2%9a%be%ef%b8%8f/2025-08-02/
LOCATION:Harich Field\, 675 Grandview Rd\, Twin Peaks\, CA\, 92391\, United States
CATEGORIES:Community Event,Family Friendly
GEO:34.2410012;-117.2378948
X-APPLE-STRUCTURED-LOCATION;VALUE=URI;X-ADDRESS=Harich Field 675 Grandview Rd Twin Peaks CA 92391 United States;X-APPLE-RADIUS=500;X-TITLE=675 Grandview Rd:geo:-117.2378948,34.2410012
END:VEVENT
BEGIN:VEVENT
DTSTART;TZID=America/Los_Angeles:20220910T170000
DTEND;TZID=America/Los_Angeles:20220910T170000
DTSTAMP:20260423T195807
CREATED:20220901T201107Z
LAST-MODIFIED:20220901T201107Z
UID:10000161-1662829200-1662829200@www.crestlinechamber.org
SUMMARY:Southern California Vintage Baseball League
DESCRIPTION:Crestline Highlanders host Riverside Smudge Pots on Saturday Sept 10 @ 5pm. Match is 1st round of playoffs and will be played at Harch Field 675 Grandview Rd. Twin Peaks
URL:https://www.crestlinechamber.org/event/southern-california-vintage-baseball-league/
LOCATION:Harich Field\, 675 Grandview Rd\, Twin Peaks\, CA\, 92391\, United States
GEO:34.2410012;-117.2378948
X-APPLE-STRUCTURED-LOCATION;VALUE=URI;X-ADDRESS=Harich Field 675 Grandview Rd Twin Peaks CA 92391 United States;X-APPLE-RADIUS=500;X-TITLE=675 Grandview Rd:geo:-117.2378948,34.2410012
END:VEVENT
END:VCALENDAR