BEGIN:VCALENDAR
VERSION:2.0
PRODID:-//Crestline Chamber of Commerce - ECPv6.15.20//NONSGML v1.0//EN
CALSCALE:GREGORIAN
METHOD:PUBLISH
X-ORIGINAL-URL:https://www.crestlinechamber.org
X-WR-CALDESC:Events for Crestline Chamber of Commerce
REFRESH-INTERVAL;VALUE=DURATION:PT1H
X-Robots-Tag:noindex
X-PUBLISHED-TTL:PT1H
BEGIN:VTIMEZONE
TZID:America/Los_Angeles
BEGIN:DAYLIGHT
TZOFFSETFROM:-0800
TZOFFSETTO:-0700
TZNAME:PDT
DTSTART:20230312T100000
END:DAYLIGHT
BEGIN:STANDARD
TZOFFSETFROM:-0700
TZOFFSETTO:-0800
TZNAME:PST
DTSTART:20231105T090000
END:STANDARD
BEGIN:DAYLIGHT
TZOFFSETFROM:-0800
TZOFFSETTO:-0700
TZNAME:PDT
DTSTART:20240310T100000
END:DAYLIGHT
BEGIN:STANDARD
TZOFFSETFROM:-0700
TZOFFSETTO:-0800
TZNAME:PST
DTSTART:20241103T090000
END:STANDARD
BEGIN:DAYLIGHT
TZOFFSETFROM:-0800
TZOFFSETTO:-0700
TZNAME:PDT
DTSTART:20250309T100000
END:DAYLIGHT
BEGIN:STANDARD
TZOFFSETFROM:-0700
TZOFFSETTO:-0800
TZNAME:PST
DTSTART:20251102T090000
END:STANDARD
END:VTIMEZONE
BEGIN:VEVENT
DTSTART;TZID=America/Los_Angeles:20241005T150000
DTEND;TZID=America/Los_Angeles:20241005T200000
DTSTAMP:20260423T215547
CREATED:20240529T235845Z
LAST-MODIFIED:20240529T235845Z
UID:10001328-1728140400-1728158400@www.crestlinechamber.org
SUMMARY:Corks & Hops
DESCRIPTION:
URL:https://www.crestlinechamber.org/event/corks-hops-3/2024-10-05/
LOCATION:Higher Grounds Coffee House\, 23776 Lake Dr\, Crestline\, CA\, 92325\, United States
CATEGORIES:Community Event
GEO:34.2431716;-117.2845808
X-APPLE-STRUCTURED-LOCATION;VALUE=URI;X-ADDRESS=Higher Grounds Coffee House 23776 Lake Dr Crestline CA 92325 United States;X-APPLE-RADIUS=500;X-TITLE=23776 Lake Dr:geo:-117.2845808,34.2431716
END:VEVENT
BEGIN:VEVENT
DTSTART;TZID=America/Los_Angeles:20240907T150000
DTEND;TZID=America/Los_Angeles:20240907T200000
DTSTAMP:20260423T215547
CREATED:20240529T235845Z
LAST-MODIFIED:20240529T235845Z
UID:10001327-1725721200-1725739200@www.crestlinechamber.org
SUMMARY:Corks & Hops
DESCRIPTION:
URL:https://www.crestlinechamber.org/event/corks-hops-3/2024-09-07/
LOCATION:Higher Grounds Coffee House\, 23776 Lake Dr\, Crestline\, CA\, 92325\, United States
CATEGORIES:Community Event
GEO:34.2431716;-117.2845808
X-APPLE-STRUCTURED-LOCATION;VALUE=URI;X-ADDRESS=Higher Grounds Coffee House 23776 Lake Dr Crestline CA 92325 United States;X-APPLE-RADIUS=500;X-TITLE=23776 Lake Dr:geo:-117.2845808,34.2431716
END:VEVENT
BEGIN:VEVENT
DTSTART;TZID=America/Los_Angeles:20240803T150000
DTEND;TZID=America/Los_Angeles:20240803T200000
DTSTAMP:20260423T215547
CREATED:20240529T235845Z
LAST-MODIFIED:20240529T235845Z
UID:10001326-1722697200-1722715200@www.crestlinechamber.org
SUMMARY:Corks & Hops
DESCRIPTION:
URL:https://www.crestlinechamber.org/event/corks-hops-3/2024-08-03/
LOCATION:Higher Grounds Coffee House\, 23776 Lake Dr\, Crestline\, CA\, 92325\, United States
CATEGORIES:Community Event
GEO:34.2431716;-117.2845808
X-APPLE-STRUCTURED-LOCATION;VALUE=URI;X-ADDRESS=Higher Grounds Coffee House 23776 Lake Dr Crestline CA 92325 United States;X-APPLE-RADIUS=500;X-TITLE=23776 Lake Dr:geo:-117.2845808,34.2431716
END:VEVENT
BEGIN:VEVENT
DTSTART;TZID=America/Los_Angeles:20240713T150000
DTEND;TZID=America/Los_Angeles:20240713T200000
DTSTAMP:20260423T215547
CREATED:20240529T235845Z
LAST-MODIFIED:20240529T235845Z
UID:10001325-1720882800-1720900800@www.crestlinechamber.org
SUMMARY:Corks & Hops
DESCRIPTION:
URL:https://www.crestlinechamber.org/event/corks-hops-3/2024-07-13/
LOCATION:Higher Grounds Coffee House\, 23776 Lake Dr\, Crestline\, CA\, 92325\, United States
CATEGORIES:Community Event
GEO:34.2431716;-117.2845808
X-APPLE-STRUCTURED-LOCATION;VALUE=URI;X-ADDRESS=Higher Grounds Coffee House 23776 Lake Dr Crestline CA 92325 United States;X-APPLE-RADIUS=500;X-TITLE=23776 Lake Dr:geo:-117.2845808,34.2431716
END:VEVENT
BEGIN:VEVENT
DTSTART;TZID=America/Los_Angeles:20240601T150000
DTEND;TZID=America/Los_Angeles:20240601T200000
DTSTAMP:20260423T215547
CREATED:20240529T235845Z
LAST-MODIFIED:20240529T235845Z
UID:10001324-1717254000-1717272000@www.crestlinechamber.org
SUMMARY:Corks & Hops
DESCRIPTION:
URL:https://www.crestlinechamber.org/event/corks-hops-3/2024-06-01/
LOCATION:Higher Grounds Coffee House\, 23776 Lake Dr\, Crestline\, CA\, 92325\, United States
CATEGORIES:Community Event
GEO:34.2431716;-117.2845808
X-APPLE-STRUCTURED-LOCATION;VALUE=URI;X-ADDRESS=Higher Grounds Coffee House 23776 Lake Dr Crestline CA 92325 United States;X-APPLE-RADIUS=500;X-TITLE=23776 Lake Dr:geo:-117.2845808,34.2431716
END:VEVENT
END:VCALENDAR