BEGIN:VCALENDAR
VERSION:2.0
PRODID:-//Crestline Chamber of Commerce - ECPv6.15.20//NONSGML v1.0//EN
CALSCALE:GREGORIAN
METHOD:PUBLISH
X-WR-CALNAME:Crestline Chamber of Commerce
X-ORIGINAL-URL:https://www.crestlinechamber.org
X-WR-CALDESC:Events for Crestline Chamber of Commerce
REFRESH-INTERVAL;VALUE=DURATION:PT1H
X-Robots-Tag:noindex
X-PUBLISHED-TTL:PT1H
BEGIN:VTIMEZONE
TZID:America/Los_Angeles
BEGIN:DAYLIGHT
TZOFFSETFROM:-0800
TZOFFSETTO:-0700
TZNAME:PDT
DTSTART:20240310T100000
END:DAYLIGHT
BEGIN:STANDARD
TZOFFSETFROM:-0700
TZOFFSETTO:-0800
TZNAME:PST
DTSTART:20241103T090000
END:STANDARD
BEGIN:DAYLIGHT
TZOFFSETFROM:-0800
TZOFFSETTO:-0700
TZNAME:PDT
DTSTART:20250309T100000
END:DAYLIGHT
BEGIN:STANDARD
TZOFFSETFROM:-0700
TZOFFSETTO:-0800
TZNAME:PST
DTSTART:20251102T090000
END:STANDARD
BEGIN:DAYLIGHT
TZOFFSETFROM:-0800
TZOFFSETTO:-0700
TZNAME:PDT
DTSTART:20260308T100000
END:DAYLIGHT
BEGIN:STANDARD
TZOFFSETFROM:-0700
TZOFFSETTO:-0800
TZNAME:PST
DTSTART:20261101T090000
END:STANDARD
END:VTIMEZONE
BEGIN:VEVENT
DTSTART;TZID=America/Los_Angeles:20251016T170000
DTEND;TZID=America/Los_Angeles:20251016T190000
DTSTAMP:20260423T193800
CREATED:20250924T154735Z
LAST-MODIFIED:20250924T155052Z
UID:10006941-1760634000-1760641200@www.crestlinechamber.org
SUMMARY:Tri-Chamber Mixer 👽 🌟 🚀
DESCRIPTION:
URL:https://www.crestlinechamber.org/event/tri-chamber-mixer-%f0%9f%91%bd-%f0%9f%8c%9f-%f0%9f%9a%80/
LOCATION:Hootman Community Center\, 2929 Running Springs School Rd\, Running springs\, CA\, 92382\, United States
CATEGORIES:Chamber Mixer,Community Event,Crestline Chamber Event,Family Friendly
END:VEVENT
BEGIN:VEVENT
DTSTART;TZID=America/Los_Angeles:20250214T170000
DTEND;TZID=America/Los_Angeles:20250214T210000
DTSTAMP:20260423T193800
CREATED:20250210T191635Z
LAST-MODIFIED:20250210T191635Z
UID:10005364-1739552400-1739566800@www.crestlinechamber.org
SUMMARY:Bingo to Brilliance! 🧠 ❤️✨
DESCRIPTION:🎉 Bingo to Brilliance – Join Us for a Night of Fun & Giving! 🎉 \nExciting news for our Mountain community! Bingo to Brilliance\, a 501(c)(3) nonprofit dedicated to supporting local students in their pursuit of higher education\, is launching Bingo Nights at the Hootman Community Center—starting this Valentine’s Day! \nThis event isn’t just about fun—it’s about making a difference. All proceeds will go toward scholarships for Mountain students\, helping to alleviate financial stress and open doors to brighter futures.
URL:https://www.crestlinechamber.org/event/bingo-to-brilliance-%f0%9f%a7%a0-%e2%9d%a4%ef%b8%8f%e2%9c%a8/
LOCATION:Hootman Community Center\, 2929 Running Springs School Rd\, Running springs\, CA\, 92382\, United States
CATEGORIES:Community Event,Family Friendly
ORGANIZER;CN="Bingo to Brilliance":MAILTO:isaiah@bingotobrilliance.com
END:VEVENT
END:VCALENDAR