BEGIN:VCALENDAR
VERSION:2.0
PRODID:-//Crestline Chamber of Commerce - ECPv6.15.20//NONSGML v1.0//EN
CALSCALE:GREGORIAN
METHOD:PUBLISH
X-WR-CALNAME:Crestline Chamber of Commerce
X-ORIGINAL-URL:https://www.crestlinechamber.org
X-WR-CALDESC:Events for Crestline Chamber of Commerce
REFRESH-INTERVAL;VALUE=DURATION:PT1H
X-Robots-Tag:noindex
X-PUBLISHED-TTL:PT1H
BEGIN:VTIMEZONE
TZID:America/Los_Angeles
BEGIN:DAYLIGHT
TZOFFSETFROM:-0800
TZOFFSETTO:-0700
TZNAME:PDT
DTSTART:20240310T100000
END:DAYLIGHT
BEGIN:STANDARD
TZOFFSETFROM:-0700
TZOFFSETTO:-0800
TZNAME:PST
DTSTART:20241103T090000
END:STANDARD
BEGIN:DAYLIGHT
TZOFFSETFROM:-0800
TZOFFSETTO:-0700
TZNAME:PDT
DTSTART:20250309T100000
END:DAYLIGHT
BEGIN:STANDARD
TZOFFSETFROM:-0700
TZOFFSETTO:-0800
TZNAME:PST
DTSTART:20251102T090000
END:STANDARD
BEGIN:DAYLIGHT
TZOFFSETFROM:-0800
TZOFFSETTO:-0700
TZNAME:PDT
DTSTART:20260308T100000
END:DAYLIGHT
BEGIN:STANDARD
TZOFFSETFROM:-0700
TZOFFSETTO:-0800
TZNAME:PST
DTSTART:20261101T090000
END:STANDARD
END:VTIMEZONE
BEGIN:VEVENT
DTSTART;TZID=America/Los_Angeles:20250220T170000
DTEND;TZID=America/Los_Angeles:20250220T200000
DTSTAMP:20260423T200012
CREATED:20250219T232005Z
LAST-MODIFIED:20250219T232005Z
UID:10005366-1740070800-1740081600@www.crestlinechamber.org
SUMMARY:Crestline Chamber Mixer ✨❤️
DESCRIPTION:🌟 Join Us for the Chamber Mixer at Lake Arrowhead Brewing Co.! 🌟 \nGet ready for a fun and engaging evening of networking at our Chamber Mixer\, happening 2/20/25 at Lake Arrowhead Brewing Co.! 🍻✨ \n📅 Date: 2/20/25\n📍 Location: Lake Arrowhead Brewing Co.\n⏰ Time: 5pm \nThis is a fantastic opportunity to connect with fellow local business owners\, share ideas\, and build valuable relationships in our mountain community. Enjoy a relaxed atmosphere\, great craft beer\, and meaningful conversations that help strengthen our local economy. \nDon’t miss out—let’s come together to support and celebrate our vibrant business community. We can’t wait to see you there! \n#ChamberMixer #SupportLocal #LakeArrowheadBusiness
URL:https://www.crestlinechamber.org/event/crestline-chamber-mixer-%e2%9c%a8%e2%9d%a4%ef%b8%8f/
LOCATION:Lake Arrowhead Brewing Co.\, 329 Villa\, Lake Arrowhead\, CA\, 92352\, United States
CATEGORIES:Chamber Mixer,Community Event,Crestline Chamber Event
ATTACH;FMTTYPE=image/webp:https://www.crestlinechamber.org/wp-content/uploads/2025/02/Logo_NoBackground_2890x-scaled.webp
END:VEVENT
END:VCALENDAR