BEGIN:VCALENDAR
VERSION:2.0
PRODID:-//Crestline Chamber of Commerce - ECPv6.15.20//NONSGML v1.0//EN
CALSCALE:GREGORIAN
METHOD:PUBLISH
X-ORIGINAL-URL:https://www.crestlinechamber.org
X-WR-CALDESC:Events for Crestline Chamber of Commerce
REFRESH-INTERVAL;VALUE=DURATION:PT1H
X-Robots-Tag:noindex
X-PUBLISHED-TTL:PT1H
BEGIN:VTIMEZONE
TZID:America/Los_Angeles
BEGIN:DAYLIGHT
TZOFFSETFROM:-0800
TZOFFSETTO:-0700
TZNAME:PDT
DTSTART:20220313T100000
END:DAYLIGHT
BEGIN:STANDARD
TZOFFSETFROM:-0700
TZOFFSETTO:-0800
TZNAME:PST
DTSTART:20221106T090000
END:STANDARD
BEGIN:DAYLIGHT
TZOFFSETFROM:-0800
TZOFFSETTO:-0700
TZNAME:PDT
DTSTART:20230312T100000
END:DAYLIGHT
BEGIN:STANDARD
TZOFFSETFROM:-0700
TZOFFSETTO:-0800
TZNAME:PST
DTSTART:20231105T090000
END:STANDARD
BEGIN:DAYLIGHT
TZOFFSETFROM:-0800
TZOFFSETTO:-0700
TZNAME:PDT
DTSTART:20240310T100000
END:DAYLIGHT
BEGIN:STANDARD
TZOFFSETFROM:-0700
TZOFFSETTO:-0800
TZNAME:PST
DTSTART:20241103T090000
END:STANDARD
BEGIN:DAYLIGHT
TZOFFSETFROM:-0800
TZOFFSETTO:-0700
TZNAME:PDT
DTSTART:20250309T100000
END:DAYLIGHT
BEGIN:STANDARD
TZOFFSETFROM:-0700
TZOFFSETTO:-0800
TZNAME:PST
DTSTART:20251102T090000
END:STANDARD
BEGIN:DAYLIGHT
TZOFFSETFROM:-0800
TZOFFSETTO:-0700
TZNAME:PDT
DTSTART:20260308T100000
END:DAYLIGHT
BEGIN:STANDARD
TZOFFSETFROM:-0700
TZOFFSETTO:-0800
TZNAME:PST
DTSTART:20261101T090000
END:STANDARD
END:VTIMEZONE
BEGIN:VEVENT
DTSTART;TZID=America/Los_Angeles:20250823T100000
DTEND;TZID=America/Los_Angeles:20250823T130000
DTSTAMP:20260423T215722
CREATED:20250619T191818Z
LAST-MODIFIED:20250619T191818Z
UID:10005768-1755943200-1755954000@www.crestlinechamber.org
SUMMARY:Tunnel Tour: Lake Arrowhead
DESCRIPTION:This is a MEMBERS ONLY EVENT!
URL:https://www.crestlinechamber.org/event/tunnel-tour-lake-arrowhead/2025-08-23/
LOCATION:Lake Arrowhead Village\, 28200 CA-189\,\, Lake Arrowhead\, CA\, 92352\, United States
CATEGORIES:Family Friendly
ORGANIZER;CN="Rim of the World Historical Society":MAILTO:museum@mtnmuseum.org
GEO:34.251330205605;-117.18858076188
X-APPLE-STRUCTURED-LOCATION;VALUE=URI;X-ADDRESS=Lake Arrowhead Village 28200 CA-189 Lake Arrowhead CA 92352 United States;X-APPLE-RADIUS=500;X-TITLE=28200 CA-189\,:geo:-117.18858076188,34.251330205605
END:VEVENT
BEGIN:VEVENT
DTSTART;TZID=America/Los_Angeles:20250809T100000
DTEND;TZID=America/Los_Angeles:20250809T130000
DTSTAMP:20260423T215722
CREATED:20250619T191818Z
LAST-MODIFIED:20250619T191818Z
UID:10005767-1754733600-1754744400@www.crestlinechamber.org
SUMMARY:Tunnel Tour: Lake Arrowhead
DESCRIPTION:This is a MEMBERS ONLY EVENT!
URL:https://www.crestlinechamber.org/event/tunnel-tour-lake-arrowhead/2025-08-09/
LOCATION:Lake Arrowhead Village\, 28200 CA-189\,\, Lake Arrowhead\, CA\, 92352\, United States
CATEGORIES:Family Friendly
ORGANIZER;CN="Rim of the World Historical Society":MAILTO:museum@mtnmuseum.org
GEO:34.251330205605;-117.18858076188
X-APPLE-STRUCTURED-LOCATION;VALUE=URI;X-ADDRESS=Lake Arrowhead Village 28200 CA-189 Lake Arrowhead CA 92352 United States;X-APPLE-RADIUS=500;X-TITLE=28200 CA-189\,:geo:-117.18858076188,34.251330205605
END:VEVENT
BEGIN:VEVENT
DTSTART;TZID=America/Los_Angeles:20250726T100000
DTEND;TZID=America/Los_Angeles:20250726T130000
DTSTAMP:20260423T215722
CREATED:20250619T191818Z
LAST-MODIFIED:20250619T191818Z
UID:10005766-1753524000-1753534800@www.crestlinechamber.org
SUMMARY:Tunnel Tour: Lake Arrowhead
DESCRIPTION:This is a MEMBERS ONLY EVENT!
URL:https://www.crestlinechamber.org/event/tunnel-tour-lake-arrowhead/2025-07-26/
LOCATION:Lake Arrowhead Village\, 28200 CA-189\,\, Lake Arrowhead\, CA\, 92352\, United States
CATEGORIES:Family Friendly
ORGANIZER;CN="Rim of the World Historical Society":MAILTO:museum@mtnmuseum.org
GEO:34.251330205605;-117.18858076188
X-APPLE-STRUCTURED-LOCATION;VALUE=URI;X-ADDRESS=Lake Arrowhead Village 28200 CA-189 Lake Arrowhead CA 92352 United States;X-APPLE-RADIUS=500;X-TITLE=28200 CA-189\,:geo:-117.18858076188,34.251330205605
END:VEVENT
BEGIN:VEVENT
DTSTART;TZID=America/Los_Angeles:20250712T100000
DTEND;TZID=America/Los_Angeles:20250712T130000
DTSTAMP:20260423T215722
CREATED:20250619T191818Z
LAST-MODIFIED:20250619T191818Z
UID:10005765-1752314400-1752325200@www.crestlinechamber.org
SUMMARY:Tunnel Tour: Lake Arrowhead
DESCRIPTION:This is a MEMBERS ONLY EVENT!
URL:https://www.crestlinechamber.org/event/tunnel-tour-lake-arrowhead/2025-07-12/
LOCATION:Lake Arrowhead Village\, 28200 CA-189\,\, Lake Arrowhead\, CA\, 92352\, United States
CATEGORIES:Family Friendly
ORGANIZER;CN="Rim of the World Historical Society":MAILTO:museum@mtnmuseum.org
GEO:34.251330205605;-117.18858076188
X-APPLE-STRUCTURED-LOCATION;VALUE=URI;X-ADDRESS=Lake Arrowhead Village 28200 CA-189 Lake Arrowhead CA 92352 United States;X-APPLE-RADIUS=500;X-TITLE=28200 CA-189\,:geo:-117.18858076188,34.251330205605
END:VEVENT
BEGIN:VEVENT
DTSTART;TZID=America/Los_Angeles:20250627T170000
DTEND;TZID=America/Los_Angeles:20250627T193000
DTSTAMP:20260423T215722
CREATED:20250619T191132Z
LAST-MODIFIED:20250619T191132Z
UID:10005764-1751043600-1751052600@www.crestlinechamber.org
SUMMARY:Celebrity Cruise at Lake Arrowhead Village
DESCRIPTION:
URL:https://www.crestlinechamber.org/event/celebrity-cruise-at-lake-arrowhead-village/
LOCATION:Lake Arrowhead Village\, 28200 CA-189\,\, Lake Arrowhead\, CA\, 92352\, United States
CATEGORIES:Community Event,Family Friendly
ORGANIZER;CN="Rim of the World Historical Society":MAILTO:museum@mtnmuseum.org
GEO:34.251330205605;-117.18858076188
X-APPLE-STRUCTURED-LOCATION;VALUE=URI;X-ADDRESS=Lake Arrowhead Village 28200 CA-189 Lake Arrowhead CA 92352 United States;X-APPLE-RADIUS=500;X-TITLE=28200 CA-189\,:geo:-117.18858076188,34.251330205605
END:VEVENT
BEGIN:VEVENT
DTSTART;TZID=America/Los_Angeles:20231213T170000
DTEND;TZID=America/Los_Angeles:20231213T210000
DTSTAMP:20260423T215722
CREATED:20231130T010534Z
LAST-MODIFIED:20231130T011550Z
UID:10000888-1702486800-1702501200@www.crestlinechamber.org
SUMMARY:Lake Arrowhead Village Annual Bonfire
DESCRIPTION:  \n\n \nLake Arrowhead Village Annual Bonfire \nDecember 13\, 2023 5-9pm \nFree hotdogs\, hot coffee and hot cocoa will be provided. Please consider bringing a new unwrapped toy to donate to the Spark of Love Toy Drive and make Christmas magical for our local kids in need. Event brought to you by Lake Arrowhead Village\, Local 935 and the San Bernardino Firefighters.
URL:https://www.crestlinechamber.org/event/lake-arrowhead-village-annual-bonfire/
LOCATION:Lake Arrowhead Village\, 28200 CA-189\,\, Lake Arrowhead\, CA\, 92352\, United States
CATEGORIES:Community Event,Family Friendly,Live Music
GEO:34.251330205605;-117.18858076188
X-APPLE-STRUCTURED-LOCATION;VALUE=URI;X-ADDRESS=Lake Arrowhead Village 28200 CA-189 Lake Arrowhead CA 92352 United States;X-APPLE-RADIUS=500;X-TITLE=28200 CA-189\,:geo:-117.18858076188,34.251330205605
END:VEVENT
END:VCALENDAR