BEGIN:VCALENDAR
VERSION:2.0
PRODID:-//Crestline Chamber of Commerce - ECPv6.15.20//NONSGML v1.0//EN
CALSCALE:GREGORIAN
METHOD:PUBLISH
X-ORIGINAL-URL:https://www.crestlinechamber.org
X-WR-CALDESC:Events for Crestline Chamber of Commerce
REFRESH-INTERVAL;VALUE=DURATION:PT1H
X-Robots-Tag:noindex
X-PUBLISHED-TTL:PT1H
BEGIN:VTIMEZONE
TZID:America/Los_Angeles
BEGIN:DAYLIGHT
TZOFFSETFROM:-0800
TZOFFSETTO:-0700
TZNAME:PDT
DTSTART:20250309T100000
END:DAYLIGHT
BEGIN:STANDARD
TZOFFSETFROM:-0700
TZOFFSETTO:-0800
TZNAME:PST
DTSTART:20251102T090000
END:STANDARD
BEGIN:DAYLIGHT
TZOFFSETFROM:-0800
TZOFFSETTO:-0700
TZNAME:PDT
DTSTART:20260308T100000
END:DAYLIGHT
BEGIN:STANDARD
TZOFFSETFROM:-0700
TZOFFSETTO:-0800
TZNAME:PST
DTSTART:20261101T090000
END:STANDARD
BEGIN:DAYLIGHT
TZOFFSETFROM:-0800
TZOFFSETTO:-0700
TZNAME:PDT
DTSTART:20270314T100000
END:DAYLIGHT
BEGIN:STANDARD
TZOFFSETFROM:-0700
TZOFFSETTO:-0800
TZNAME:PST
DTSTART:20271107T090000
END:STANDARD
END:VTIMEZONE
BEGIN:VEVENT
DTSTART;TZID=America/Los_Angeles:20260606T150000
DTEND;TZID=America/Los_Angeles:20260606T200000
DTSTAMP:20260423T131842
CREATED:20260409T151933Z
LAST-MODIFIED:20260409T151933Z
UID:10007565-1780758000-1780776000@www.crestlinechamber.org
SUMMARY:Corks N Hops 🍺🍷
DESCRIPTION:Summer starts here\, and you’re going to want to be part of every unforgettable moment ☀️🍷🍻  \n🎟️ Tickets are LIVE—secure yours today!\nNo stress\, no FOMO… just lock it in and get ready for an incredible night 💛 \nAnd if you already know you don’t want to miss a single one… \n✨ Season Passes are available! ✨\n✔️ Every event\, already secured\n✔️ No last-minute scrambling\n✔️ Just show up and enjoy the best nights of summer \n🍹🌺 Don’t wait—grab your tickets now and get ready for the ultimate summer experience!
URL:https://www.crestlinechamber.org/event/corks-n-hops-%f0%9f%8d%ba%f0%9f%8d%b7/2026-06-06/
LOCATION:Lake Drive & Crest Forest Drive
CATEGORIES:Community Event,Crestline Chamber Event,Family Friendly,Live Music
ATTACH;FMTTYPE=image/jpeg:https://www.crestlinechamber.org/wp-content/uploads/2026/04/Coaster-Front.jpeg
END:VEVENT
BEGIN:VEVENT
DTSTART;TZID=America/Los_Angeles:20260801T150000
DTEND;TZID=America/Los_Angeles:20260801T200000
DTSTAMP:20260423T131842
CREATED:20260409T151933Z
LAST-MODIFIED:20260409T151933Z
UID:10007566-1785596400-1785614400@www.crestlinechamber.org
SUMMARY:Corks N Hops 🍺🍷
DESCRIPTION:Summer starts here\, and you’re going to want to be part of every unforgettable moment ☀️🍷🍻  \n🎟️ Tickets are LIVE—secure yours today!\nNo stress\, no FOMO… just lock it in and get ready for an incredible night 💛 \nAnd if you already know you don’t want to miss a single one… \n✨ Season Passes are available! ✨\n✔️ Every event\, already secured\n✔️ No last-minute scrambling\n✔️ Just show up and enjoy the best nights of summer \n🍹🌺 Don’t wait—grab your tickets now and get ready for the ultimate summer experience!
URL:https://www.crestlinechamber.org/event/corks-n-hops-%f0%9f%8d%ba%f0%9f%8d%b7/2026-08-01/
LOCATION:Lake Drive & Crest Forest Drive
CATEGORIES:Community Event,Crestline Chamber Event,Family Friendly,Live Music
ATTACH;FMTTYPE=image/jpeg:https://www.crestlinechamber.org/wp-content/uploads/2026/04/Coaster-Front.jpeg
END:VEVENT
BEGIN:VEVENT
DTSTART;TZID=America/Los_Angeles:20260905T150000
DTEND;TZID=America/Los_Angeles:20260905T200000
DTSTAMP:20260423T131842
CREATED:20260409T151933Z
LAST-MODIFIED:20260409T151933Z
UID:10007567-1788620400-1788638400@www.crestlinechamber.org
SUMMARY:Corks N Hops 🍺🍷
DESCRIPTION:Summer starts here\, and you’re going to want to be part of every unforgettable moment ☀️🍷🍻  \n🎟️ Tickets are LIVE—secure yours today!\nNo stress\, no FOMO… just lock it in and get ready for an incredible night 💛 \nAnd if you already know you don’t want to miss a single one… \n✨ Season Passes are available! ✨\n✔️ Every event\, already secured\n✔️ No last-minute scrambling\n✔️ Just show up and enjoy the best nights of summer \n🍹🌺 Don’t wait—grab your tickets now and get ready for the ultimate summer experience!
URL:https://www.crestlinechamber.org/event/corks-n-hops-%f0%9f%8d%ba%f0%9f%8d%b7/2026-09-05/
LOCATION:Lake Drive & Crest Forest Drive
CATEGORIES:Community Event,Crestline Chamber Event,Family Friendly,Live Music
ATTACH;FMTTYPE=image/jpeg:https://www.crestlinechamber.org/wp-content/uploads/2026/04/Coaster-Front.jpeg
END:VEVENT
BEGIN:VEVENT
DTSTART;TZID=America/Los_Angeles:20261003T150000
DTEND;TZID=America/Los_Angeles:20261003T200000
DTSTAMP:20260423T131842
CREATED:20260409T151933Z
LAST-MODIFIED:20260409T151933Z
UID:10007568-1791039600-1791057600@www.crestlinechamber.org
SUMMARY:Corks N Hops 🍺🍷
DESCRIPTION:Summer starts here\, and you’re going to want to be part of every unforgettable moment ☀️🍷🍻  \n🎟️ Tickets are LIVE—secure yours today!\nNo stress\, no FOMO… just lock it in and get ready for an incredible night 💛 \nAnd if you already know you don’t want to miss a single one… \n✨ Season Passes are available! ✨\n✔️ Every event\, already secured\n✔️ No last-minute scrambling\n✔️ Just show up and enjoy the best nights of summer \n🍹🌺 Don’t wait—grab your tickets now and get ready for the ultimate summer experience!
URL:https://www.crestlinechamber.org/event/corks-n-hops-%f0%9f%8d%ba%f0%9f%8d%b7/2026-10-03/
LOCATION:Lake Drive & Crest Forest Drive
CATEGORIES:Community Event,Crestline Chamber Event,Family Friendly,Live Music
ATTACH;FMTTYPE=image/jpeg:https://www.crestlinechamber.org/wp-content/uploads/2026/04/Coaster-Front.jpeg
END:VEVENT
END:VCALENDAR