BEGIN:VCALENDAR
VERSION:2.0
PRODID:-//Crestline Chamber of Commerce - ECPv6.15.20//NONSGML v1.0//EN
CALSCALE:GREGORIAN
METHOD:PUBLISH
X-ORIGINAL-URL:https://www.crestlinechamber.org
X-WR-CALDESC:Events for Crestline Chamber of Commerce
REFRESH-INTERVAL;VALUE=DURATION:PT1H
X-Robots-Tag:noindex
X-PUBLISHED-TTL:PT1H
BEGIN:VTIMEZONE
TZID:America/Los_Angeles
BEGIN:DAYLIGHT
TZOFFSETFROM:-0800
TZOFFSETTO:-0700
TZNAME:PDT
DTSTART:20290311T100000
END:DAYLIGHT
BEGIN:STANDARD
TZOFFSETFROM:-0700
TZOFFSETTO:-0800
TZNAME:PST
DTSTART:20291104T090000
END:STANDARD
BEGIN:DAYLIGHT
TZOFFSETFROM:-0800
TZOFFSETTO:-0700
TZNAME:PDT
DTSTART:20300310T100000
END:DAYLIGHT
BEGIN:STANDARD
TZOFFSETFROM:-0700
TZOFFSETTO:-0800
TZNAME:PST
DTSTART:20301103T090000
END:STANDARD
BEGIN:DAYLIGHT
TZOFFSETFROM:-0800
TZOFFSETTO:-0700
TZNAME:PDT
DTSTART:20310309T100000
END:DAYLIGHT
BEGIN:STANDARD
TZOFFSETFROM:-0700
TZOFFSETTO:-0800
TZNAME:PST
DTSTART:20311102T090000
END:STANDARD
END:VTIMEZONE
BEGIN:VEVENT
DTSTART;TZID=America/Los_Angeles:20300102T093000
DTEND;TZID=America/Los_Angeles:20300102T113000
DTSTAMP:20260424T150227
CREATED:20250128T173855Z
LAST-MODIFIED:20250128T174018Z
UID:10003988-1893576600-1893583800@www.crestlinechamber.org
SUMMARY:Community Bible Study for Women 🙏
DESCRIPTION:Ladies\, join us for a time of fellowship\, learning\, and spiritual growth at our Community Bible Study for Women. Dive into God’s Word\, connect with others\, and be encouraged in your faith journey. \nThis welcoming and supportive group is open to women of all ages and stages of life. Come as you are\, and let’s grow together in faith and friendship! 🙏✨ \nRegister at sanbernardino.cbsclass.org. Email\, call\, or text Cherie at SBMCBSCherie@gmail.com or (909) 499-3920
URL:https://www.crestlinechamber.org/event/community-bible-study-for-women-%f0%9f%99%8f/2030-01-02/
LOCATION:Lake Gregory Church\, 460 Pine Drive\, Crestline\, CA\, 92325\, United States
CATEGORIES:Community Event,Community Meeting,Family Friendly
ATTACH;FMTTYPE=image/png:https://www.crestlinechamber.org/wp-content/uploads/2025/01/Lake-gregory-church.png
ORGANIZER;CN="Lake Gregory Church":MAILTO:info@lakegregorychurch.com
GEO:34.2436348;-117.2575993
X-APPLE-STRUCTURED-LOCATION;VALUE=URI;X-ADDRESS=Lake Gregory Church 460 Pine Drive Crestline CA 92325 United States;X-APPLE-RADIUS=500;X-TITLE=460 Pine Drive:geo:-117.2575993,34.2436348
END:VEVENT
BEGIN:VEVENT
DTSTART;TZID=America/Los_Angeles:20300109T093000
DTEND;TZID=America/Los_Angeles:20300109T113000
DTSTAMP:20260424T150227
CREATED:20250128T173855Z
LAST-MODIFIED:20250128T174018Z
UID:10003989-1894181400-1894188600@www.crestlinechamber.org
SUMMARY:Community Bible Study for Women 🙏
DESCRIPTION:Ladies\, join us for a time of fellowship\, learning\, and spiritual growth at our Community Bible Study for Women. Dive into God’s Word\, connect with others\, and be encouraged in your faith journey. \nThis welcoming and supportive group is open to women of all ages and stages of life. Come as you are\, and let’s grow together in faith and friendship! 🙏✨ \nRegister at sanbernardino.cbsclass.org. Email\, call\, or text Cherie at SBMCBSCherie@gmail.com or (909) 499-3920
URL:https://www.crestlinechamber.org/event/community-bible-study-for-women-%f0%9f%99%8f/2030-01-09/
LOCATION:Lake Gregory Church\, 460 Pine Drive\, Crestline\, CA\, 92325\, United States
CATEGORIES:Community Event,Community Meeting,Family Friendly
ATTACH;FMTTYPE=image/png:https://www.crestlinechamber.org/wp-content/uploads/2025/01/Lake-gregory-church.png
ORGANIZER;CN="Lake Gregory Church":MAILTO:info@lakegregorychurch.com
GEO:34.2436348;-117.2575993
X-APPLE-STRUCTURED-LOCATION;VALUE=URI;X-ADDRESS=Lake Gregory Church 460 Pine Drive Crestline CA 92325 United States;X-APPLE-RADIUS=500;X-TITLE=460 Pine Drive:geo:-117.2575993,34.2436348
END:VEVENT
BEGIN:VEVENT
DTSTART;TZID=America/Los_Angeles:20300116T093000
DTEND;TZID=America/Los_Angeles:20300116T113000
DTSTAMP:20260424T150227
CREATED:20250128T173855Z
LAST-MODIFIED:20250128T174018Z
UID:10003990-1894786200-1894793400@www.crestlinechamber.org
SUMMARY:Community Bible Study for Women 🙏
DESCRIPTION:Ladies\, join us for a time of fellowship\, learning\, and spiritual growth at our Community Bible Study for Women. Dive into God’s Word\, connect with others\, and be encouraged in your faith journey. \nThis welcoming and supportive group is open to women of all ages and stages of life. Come as you are\, and let’s grow together in faith and friendship! 🙏✨ \nRegister at sanbernardino.cbsclass.org. Email\, call\, or text Cherie at SBMCBSCherie@gmail.com or (909) 499-3920
URL:https://www.crestlinechamber.org/event/community-bible-study-for-women-%f0%9f%99%8f/2030-01-16/
LOCATION:Lake Gregory Church\, 460 Pine Drive\, Crestline\, CA\, 92325\, United States
CATEGORIES:Community Event,Community Meeting,Family Friendly
ATTACH;FMTTYPE=image/png:https://www.crestlinechamber.org/wp-content/uploads/2025/01/Lake-gregory-church.png
ORGANIZER;CN="Lake Gregory Church":MAILTO:info@lakegregorychurch.com
GEO:34.2436348;-117.2575993
X-APPLE-STRUCTURED-LOCATION;VALUE=URI;X-ADDRESS=Lake Gregory Church 460 Pine Drive Crestline CA 92325 United States;X-APPLE-RADIUS=500;X-TITLE=460 Pine Drive:geo:-117.2575993,34.2436348
END:VEVENT
BEGIN:VEVENT
DTSTART;TZID=America/Los_Angeles:20300123T093000
DTEND;TZID=America/Los_Angeles:20300123T113000
DTSTAMP:20260424T150227
CREATED:20250128T173855Z
LAST-MODIFIED:20250128T174018Z
UID:10003991-1895391000-1895398200@www.crestlinechamber.org
SUMMARY:Community Bible Study for Women 🙏
DESCRIPTION:Ladies\, join us for a time of fellowship\, learning\, and spiritual growth at our Community Bible Study for Women. Dive into God’s Word\, connect with others\, and be encouraged in your faith journey. \nThis welcoming and supportive group is open to women of all ages and stages of life. Come as you are\, and let’s grow together in faith and friendship! 🙏✨ \nRegister at sanbernardino.cbsclass.org. Email\, call\, or text Cherie at SBMCBSCherie@gmail.com or (909) 499-3920
URL:https://www.crestlinechamber.org/event/community-bible-study-for-women-%f0%9f%99%8f/2030-01-23/
LOCATION:Lake Gregory Church\, 460 Pine Drive\, Crestline\, CA\, 92325\, United States
CATEGORIES:Community Event,Community Meeting,Family Friendly
ATTACH;FMTTYPE=image/png:https://www.crestlinechamber.org/wp-content/uploads/2025/01/Lake-gregory-church.png
ORGANIZER;CN="Lake Gregory Church":MAILTO:info@lakegregorychurch.com
GEO:34.2436348;-117.2575993
X-APPLE-STRUCTURED-LOCATION;VALUE=URI;X-ADDRESS=Lake Gregory Church 460 Pine Drive Crestline CA 92325 United States;X-APPLE-RADIUS=500;X-TITLE=460 Pine Drive:geo:-117.2575993,34.2436348
END:VEVENT
END:VCALENDAR