BEGIN:VCALENDAR
VERSION:2.0
PRODID:-//Crestline Chamber of Commerce - ECPv6.15.20//NONSGML v1.0//EN
CALSCALE:GREGORIAN
METHOD:PUBLISH
X-ORIGINAL-URL:https://www.crestlinechamber.org
X-WR-CALDESC:Events for Crestline Chamber of Commerce
REFRESH-INTERVAL;VALUE=DURATION:PT1H
X-Robots-Tag:noindex
X-PUBLISHED-TTL:PT1H
BEGIN:VTIMEZONE
TZID:America/Los_Angeles
BEGIN:DAYLIGHT
TZOFFSETFROM:-0800
TZOFFSETTO:-0700
TZNAME:PDT
DTSTART:20210314T100000
END:DAYLIGHT
BEGIN:STANDARD
TZOFFSETFROM:-0700
TZOFFSETTO:-0800
TZNAME:PST
DTSTART:20211107T090000
END:STANDARD
BEGIN:DAYLIGHT
TZOFFSETFROM:-0800
TZOFFSETTO:-0700
TZNAME:PDT
DTSTART:20220313T100000
END:DAYLIGHT
BEGIN:STANDARD
TZOFFSETFROM:-0700
TZOFFSETTO:-0800
TZNAME:PST
DTSTART:20221106T090000
END:STANDARD
BEGIN:DAYLIGHT
TZOFFSETFROM:-0800
TZOFFSETTO:-0700
TZNAME:PDT
DTSTART:20230312T100000
END:DAYLIGHT
BEGIN:STANDARD
TZOFFSETFROM:-0700
TZOFFSETTO:-0800
TZNAME:PST
DTSTART:20231105T090000
END:STANDARD
BEGIN:DAYLIGHT
TZOFFSETFROM:-0800
TZOFFSETTO:-0700
TZNAME:PDT
DTSTART:20240310T100000
END:DAYLIGHT
BEGIN:STANDARD
TZOFFSETFROM:-0700
TZOFFSETTO:-0800
TZNAME:PST
DTSTART:20241103T090000
END:STANDARD
END:VTIMEZONE
BEGIN:VEVENT
DTSTART;TZID=America/Los_Angeles:20230119T180000
DTEND;TZID=America/Los_Angeles:20230119T200000
DTSTAMP:20260424T005726
CREATED:20230111T173507Z
LAST-MODIFIED:20230111T173507Z
UID:10000210-1674151200-1674158400@www.crestlinechamber.org
SUMMARY:How Money Works Presents a Wealth Building Workshop for Women
DESCRIPTION:How Money Works Presents a Wealth Building Workshop for Women on Thursday\, January 19th 6pm – 8pm at The Yacht Club 606 Forest Shade\, Crestline
URL:https://www.crestlinechamber.org/event/how-money-works-presents-a-wealth-building-workshop-for-women/
LOCATION:Lake Gregory Yacht Club\, 606 Forest Shade\, Crestline\, CA\, United States
GEO:34.2424128;-117.2781975
X-APPLE-STRUCTURED-LOCATION;VALUE=URI;X-ADDRESS=Lake Gregory Yacht Club 606 Forest Shade Crestline CA United States;X-APPLE-RADIUS=500;X-TITLE=606 Forest Shade:geo:-117.2781975,34.2424128
END:VEVENT
BEGIN:VEVENT
DTSTART;TZID=America/Los_Angeles:20220520T180000
DTEND;TZID=America/Los_Angeles:20220520T190000
DTSTAMP:20260424T005726
CREATED:20220409T033710Z
LAST-MODIFIED:20220409T033903Z
UID:10000108-1653069600-1653073200@www.crestlinechamber.org
SUMMARY:Bear Aware Presentation
DESCRIPTION:Free presentation by Nancy Anderson\, senior bear keeper at Wildhaven. Provides information on how to live in harmony with the Black Bears of our mountain. Presentation is free to the community and will last about an hour. \nEvent will be held at Lake Gregory Yacht Club\, 606 Forest Shade (opposite the tennis courts)\, Crestline.
URL:https://www.crestlinechamber.org/event/bear-aware-presentation/
LOCATION:Lake Gregory Yacht Club\, 606 Forest Shade\, Crestline\, CA\, United States
CATEGORIES:Family Friendly
GEO:34.2424128;-117.2781975
X-APPLE-STRUCTURED-LOCATION;VALUE=URI;X-ADDRESS=Lake Gregory Yacht Club 606 Forest Shade Crestline CA United States;X-APPLE-RADIUS=500;X-TITLE=606 Forest Shade:geo:-117.2781975,34.2424128
END:VEVENT
BEGIN:VEVENT
DTSTART;TZID=America/Los_Angeles:20220416T170000
DTEND;TZID=America/Los_Angeles:20220416T200000
DTSTAMP:20260424T005726
CREATED:20220405T182237Z
LAST-MODIFIED:20220405T183948Z
UID:10000106-1650128400-1650139200@www.crestlinechamber.org
SUMMARY:LIBRARIAN’S DAY EVENT
DESCRIPTION:The Lake Gregory Yacht Club will host a celebration of our Librarians in honor of National Librarians Day\, April 16th\, 5pm. Bring a desert or appetizer and your own beverage. Awards Ceremony at 6pm. The Lake Gregory Yacht Club is located at 606 Forest Shade in Crestline (across from tennis courts and Boys and Girls Club). There is no charge for this event. RSVP to virginiapaleno@aol.com.
URL:https://www.crestlinechamber.org/event/librarians-day-event/
LOCATION:Lake Gregory Yacht Club\, 606 Forest Shade\, Crestline\, CA\, United States
GEO:34.2424128;-117.2781975
X-APPLE-STRUCTURED-LOCATION;VALUE=URI;X-ADDRESS=Lake Gregory Yacht Club 606 Forest Shade Crestline CA United States;X-APPLE-RADIUS=500;X-TITLE=606 Forest Shade:geo:-117.2781975,34.2424128
END:VEVENT
END:VCALENDAR