BEGIN:VCALENDAR
VERSION:2.0
PRODID:-//Crestline Chamber of Commerce - ECPv6.15.20//NONSGML v1.0//EN
CALSCALE:GREGORIAN
METHOD:PUBLISH
X-WR-CALNAME:Crestline Chamber of Commerce
X-ORIGINAL-URL:https://www.crestlinechamber.org
X-WR-CALDESC:Events for Crestline Chamber of Commerce
REFRESH-INTERVAL;VALUE=DURATION:PT1H
X-Robots-Tag:noindex
X-PUBLISHED-TTL:PT1H
BEGIN:VTIMEZONE
TZID:America/Los_Angeles
BEGIN:DAYLIGHT
TZOFFSETFROM:-0800
TZOFFSETTO:-0700
TZNAME:PDT
DTSTART:20280312T100000
END:DAYLIGHT
BEGIN:STANDARD
TZOFFSETFROM:-0700
TZOFFSETTO:-0800
TZNAME:PST
DTSTART:20281105T090000
END:STANDARD
BEGIN:DAYLIGHT
TZOFFSETFROM:-0800
TZOFFSETTO:-0700
TZNAME:PDT
DTSTART:20290311T100000
END:DAYLIGHT
BEGIN:STANDARD
TZOFFSETFROM:-0700
TZOFFSETTO:-0800
TZNAME:PST
DTSTART:20291104T090000
END:STANDARD
BEGIN:DAYLIGHT
TZOFFSETFROM:-0800
TZOFFSETTO:-0700
TZNAME:PDT
DTSTART:20300310T100000
END:DAYLIGHT
BEGIN:STANDARD
TZOFFSETFROM:-0700
TZOFFSETTO:-0800
TZNAME:PST
DTSTART:20301103T090000
END:STANDARD
BEGIN:DAYLIGHT
TZOFFSETFROM:-0800
TZOFFSETTO:-0700
TZNAME:PDT
DTSTART:20310309T100000
END:DAYLIGHT
BEGIN:STANDARD
TZOFFSETFROM:-0700
TZOFFSETTO:-0800
TZNAME:PST
DTSTART:20311102T090000
END:STANDARD
END:VTIMEZONE
BEGIN:VEVENT
DTSTART;TZID=America/Los_Angeles:20290406T170000
DTEND;TZID=America/Los_Angeles:20290406T193000
DTSTAMP:20260424T010907
CREATED:20250127T193036Z
LAST-MODIFIED:20250127T193036Z
UID:10002296-1870189200-1870198200@www.crestlinechamber.org
SUMMARY:Leisure Shores: Bingo Night! 🎰
DESCRIPTION:Get ready for an evening of fun\, friends\, and fabulous prizes! Join us for Bingo Night at Leisure Shores\, where the excitement is always just one number away. \nCash prizes\, a snack bar with hot dogs\, lasagna\, chicken tenders\, garlic bread\, and much more! 🌭🍗🍪🥤 \nFor $25\, you’ll get to participate in 10 games and have an opportunity to meet with others within the community! \nDon’t miss your chance to shout “BINGO!” and enjoy a great time with the community. Bring your lucky charm and join the fun—see you there! 🎊✨
URL:https://www.crestlinechamber.org/event/leisure-shores-bingo-night-%f0%9f%8e%b0/2029-04-06/
LOCATION:Crest Forest Senior Citizens Club\, 24658 San Moritz Dr.\, Crestline\, 92325\, United States
CATEGORIES:Community Event,Family Friendly,Lake Gregory
GEO:34.2431624;-117.2610605
X-APPLE-STRUCTURED-LOCATION;VALUE=URI;X-ADDRESS=Crest Forest Senior Citizens Club 24658 San Moritz Dr. Crestline 92325 United States;X-APPLE-RADIUS=500;X-TITLE=24658 San Moritz Dr.:geo:-117.2610605,34.2431624
END:VEVENT
BEGIN:VEVENT
DTSTART;TZID=America/Los_Angeles:20290424T183000
DTEND;TZID=America/Los_Angeles:20290424T200000
DTSTAMP:20260424T010907
CREATED:20250128T173504Z
LAST-MODIFIED:20250128T173504Z
UID:10003721-1871749800-1871755200@www.crestlinechamber.org
SUMMARY:Crestline Lions Club Meeting 📅
DESCRIPTION:Be a part of the amazing work happening in our community with the Crestline Lions Club! Connect with passionate neighbors\, share ideas\, and help make a difference. \nFrom supporting local projects to planning events\, there’s always something meaningful to do. New members are always welcome—come see how you can get involved! 🦁✨
URL:https://www.crestlinechamber.org/event/crestline-lions-club-meeting-%f0%9f%93%85/2029-04-24/
LOCATION:Crest Forest Senior Citizens Club\, 24658 San Moritz Dr.\, Crestline\, 92325\, United States
CATEGORIES:Community Event,Community Meeting,Family Friendly
GEO:34.2431624;-117.2610605
X-APPLE-STRUCTURED-LOCATION;VALUE=URI;X-ADDRESS=Crest Forest Senior Citizens Club 24658 San Moritz Dr. Crestline 92325 United States;X-APPLE-RADIUS=500;X-TITLE=24658 San Moritz Dr.:geo:-117.2610605,34.2431624
END:VEVENT
BEGIN:VEVENT
DTSTART;TZID=America/Los_Angeles:20290504T170000
DTEND;TZID=America/Los_Angeles:20290504T193000
DTSTAMP:20260424T010907
CREATED:20250127T193036Z
LAST-MODIFIED:20250127T193036Z
UID:10002297-1872608400-1872617400@www.crestlinechamber.org
SUMMARY:Leisure Shores: Bingo Night! 🎰
DESCRIPTION:Get ready for an evening of fun\, friends\, and fabulous prizes! Join us for Bingo Night at Leisure Shores\, where the excitement is always just one number away. \nCash prizes\, a snack bar with hot dogs\, lasagna\, chicken tenders\, garlic bread\, and much more! 🌭🍗🍪🥤 \nFor $25\, you’ll get to participate in 10 games and have an opportunity to meet with others within the community! \nDon’t miss your chance to shout “BINGO!” and enjoy a great time with the community. Bring your lucky charm and join the fun—see you there! 🎊✨
URL:https://www.crestlinechamber.org/event/leisure-shores-bingo-night-%f0%9f%8e%b0/2029-05-04/
LOCATION:Crest Forest Senior Citizens Club\, 24658 San Moritz Dr.\, Crestline\, 92325\, United States
CATEGORIES:Community Event,Family Friendly,Lake Gregory
GEO:34.2431624;-117.2610605
X-APPLE-STRUCTURED-LOCATION;VALUE=URI;X-ADDRESS=Crest Forest Senior Citizens Club 24658 San Moritz Dr. Crestline 92325 United States;X-APPLE-RADIUS=500;X-TITLE=24658 San Moritz Dr.:geo:-117.2610605,34.2431624
END:VEVENT
BEGIN:VEVENT
DTSTART;TZID=America/Los_Angeles:20290522T183000
DTEND;TZID=America/Los_Angeles:20290522T200000
DTSTAMP:20260424T010907
CREATED:20250128T173504Z
LAST-MODIFIED:20250128T173504Z
UID:10003722-1874169000-1874174400@www.crestlinechamber.org
SUMMARY:Crestline Lions Club Meeting 📅
DESCRIPTION:Be a part of the amazing work happening in our community with the Crestline Lions Club! Connect with passionate neighbors\, share ideas\, and help make a difference. \nFrom supporting local projects to planning events\, there’s always something meaningful to do. New members are always welcome—come see how you can get involved! 🦁✨
URL:https://www.crestlinechamber.org/event/crestline-lions-club-meeting-%f0%9f%93%85/2029-05-22/
LOCATION:Crest Forest Senior Citizens Club\, 24658 San Moritz Dr.\, Crestline\, 92325\, United States
CATEGORIES:Community Event,Community Meeting,Family Friendly
GEO:34.2431624;-117.2610605
X-APPLE-STRUCTURED-LOCATION;VALUE=URI;X-ADDRESS=Crest Forest Senior Citizens Club 24658 San Moritz Dr. Crestline 92325 United States;X-APPLE-RADIUS=500;X-TITLE=24658 San Moritz Dr.:geo:-117.2610605,34.2431624
END:VEVENT
BEGIN:VEVENT
DTSTART;TZID=America/Los_Angeles:20290601T170000
DTEND;TZID=America/Los_Angeles:20290601T193000
DTSTAMP:20260424T010907
CREATED:20250127T193036Z
LAST-MODIFIED:20250127T193036Z
UID:10002298-1875027600-1875036600@www.crestlinechamber.org
SUMMARY:Leisure Shores: Bingo Night! 🎰
DESCRIPTION:Get ready for an evening of fun\, friends\, and fabulous prizes! Join us for Bingo Night at Leisure Shores\, where the excitement is always just one number away. \nCash prizes\, a snack bar with hot dogs\, lasagna\, chicken tenders\, garlic bread\, and much more! 🌭🍗🍪🥤 \nFor $25\, you’ll get to participate in 10 games and have an opportunity to meet with others within the community! \nDon’t miss your chance to shout “BINGO!” and enjoy a great time with the community. Bring your lucky charm and join the fun—see you there! 🎊✨
URL:https://www.crestlinechamber.org/event/leisure-shores-bingo-night-%f0%9f%8e%b0/2029-06-01/
LOCATION:Crest Forest Senior Citizens Club\, 24658 San Moritz Dr.\, Crestline\, 92325\, United States
CATEGORIES:Community Event,Family Friendly,Lake Gregory
GEO:34.2431624;-117.2610605
X-APPLE-STRUCTURED-LOCATION;VALUE=URI;X-ADDRESS=Crest Forest Senior Citizens Club 24658 San Moritz Dr. Crestline 92325 United States;X-APPLE-RADIUS=500;X-TITLE=24658 San Moritz Dr.:geo:-117.2610605,34.2431624
END:VEVENT
BEGIN:VEVENT
DTSTART;TZID=America/Los_Angeles:20290626T183000
DTEND;TZID=America/Los_Angeles:20290626T200000
DTSTAMP:20260424T010907
CREATED:20250128T173504Z
LAST-MODIFIED:20250128T173504Z
UID:10003723-1877193000-1877198400@www.crestlinechamber.org
SUMMARY:Crestline Lions Club Meeting 📅
DESCRIPTION:Be a part of the amazing work happening in our community with the Crestline Lions Club! Connect with passionate neighbors\, share ideas\, and help make a difference. \nFrom supporting local projects to planning events\, there’s always something meaningful to do. New members are always welcome—come see how you can get involved! 🦁✨
URL:https://www.crestlinechamber.org/event/crestline-lions-club-meeting-%f0%9f%93%85/2029-06-26/
LOCATION:Crest Forest Senior Citizens Club\, 24658 San Moritz Dr.\, Crestline\, 92325\, United States
CATEGORIES:Community Event,Community Meeting,Family Friendly
GEO:34.2431624;-117.2610605
X-APPLE-STRUCTURED-LOCATION;VALUE=URI;X-ADDRESS=Crest Forest Senior Citizens Club 24658 San Moritz Dr. Crestline 92325 United States;X-APPLE-RADIUS=500;X-TITLE=24658 San Moritz Dr.:geo:-117.2610605,34.2431624
END:VEVENT
BEGIN:VEVENT
DTSTART;TZID=America/Los_Angeles:20290706T170000
DTEND;TZID=America/Los_Angeles:20290706T193000
DTSTAMP:20260424T010907
CREATED:20250127T193036Z
LAST-MODIFIED:20250127T193036Z
UID:10002299-1878051600-1878060600@www.crestlinechamber.org
SUMMARY:Leisure Shores: Bingo Night! 🎰
DESCRIPTION:Get ready for an evening of fun\, friends\, and fabulous prizes! Join us for Bingo Night at Leisure Shores\, where the excitement is always just one number away. \nCash prizes\, a snack bar with hot dogs\, lasagna\, chicken tenders\, garlic bread\, and much more! 🌭🍗🍪🥤 \nFor $25\, you’ll get to participate in 10 games and have an opportunity to meet with others within the community! \nDon’t miss your chance to shout “BINGO!” and enjoy a great time with the community. Bring your lucky charm and join the fun—see you there! 🎊✨
URL:https://www.crestlinechamber.org/event/leisure-shores-bingo-night-%f0%9f%8e%b0/2029-07-06/
LOCATION:Crest Forest Senior Citizens Club\, 24658 San Moritz Dr.\, Crestline\, 92325\, United States
CATEGORIES:Community Event,Family Friendly,Lake Gregory
GEO:34.2431624;-117.2610605
X-APPLE-STRUCTURED-LOCATION;VALUE=URI;X-ADDRESS=Crest Forest Senior Citizens Club 24658 San Moritz Dr. Crestline 92325 United States;X-APPLE-RADIUS=500;X-TITLE=24658 San Moritz Dr.:geo:-117.2610605,34.2431624
END:VEVENT
BEGIN:VEVENT
DTSTART;TZID=America/Los_Angeles:20290724T183000
DTEND;TZID=America/Los_Angeles:20290724T200000
DTSTAMP:20260424T010907
CREATED:20250128T173504Z
LAST-MODIFIED:20250128T173504Z
UID:10003724-1879612200-1879617600@www.crestlinechamber.org
SUMMARY:Crestline Lions Club Meeting 📅
DESCRIPTION:Be a part of the amazing work happening in our community with the Crestline Lions Club! Connect with passionate neighbors\, share ideas\, and help make a difference. \nFrom supporting local projects to planning events\, there’s always something meaningful to do. New members are always welcome—come see how you can get involved! 🦁✨
URL:https://www.crestlinechamber.org/event/crestline-lions-club-meeting-%f0%9f%93%85/2029-07-24/
LOCATION:Crest Forest Senior Citizens Club\, 24658 San Moritz Dr.\, Crestline\, 92325\, United States
CATEGORIES:Community Event,Community Meeting,Family Friendly
GEO:34.2431624;-117.2610605
X-APPLE-STRUCTURED-LOCATION;VALUE=URI;X-ADDRESS=Crest Forest Senior Citizens Club 24658 San Moritz Dr. Crestline 92325 United States;X-APPLE-RADIUS=500;X-TITLE=24658 San Moritz Dr.:geo:-117.2610605,34.2431624
END:VEVENT
BEGIN:VEVENT
DTSTART;TZID=America/Los_Angeles:20290803T170000
DTEND;TZID=America/Los_Angeles:20290803T193000
DTSTAMP:20260424T010907
CREATED:20250127T193036Z
LAST-MODIFIED:20250127T193036Z
UID:10002300-1880470800-1880479800@www.crestlinechamber.org
SUMMARY:Leisure Shores: Bingo Night! 🎰
DESCRIPTION:Get ready for an evening of fun\, friends\, and fabulous prizes! Join us for Bingo Night at Leisure Shores\, where the excitement is always just one number away. \nCash prizes\, a snack bar with hot dogs\, lasagna\, chicken tenders\, garlic bread\, and much more! 🌭🍗🍪🥤 \nFor $25\, you’ll get to participate in 10 games and have an opportunity to meet with others within the community! \nDon’t miss your chance to shout “BINGO!” and enjoy a great time with the community. Bring your lucky charm and join the fun—see you there! 🎊✨
URL:https://www.crestlinechamber.org/event/leisure-shores-bingo-night-%f0%9f%8e%b0/2029-08-03/
LOCATION:Crest Forest Senior Citizens Club\, 24658 San Moritz Dr.\, Crestline\, 92325\, United States
CATEGORIES:Community Event,Family Friendly,Lake Gregory
GEO:34.2431624;-117.2610605
X-APPLE-STRUCTURED-LOCATION;VALUE=URI;X-ADDRESS=Crest Forest Senior Citizens Club 24658 San Moritz Dr. Crestline 92325 United States;X-APPLE-RADIUS=500;X-TITLE=24658 San Moritz Dr.:geo:-117.2610605,34.2431624
END:VEVENT
BEGIN:VEVENT
DTSTART;TZID=America/Los_Angeles:20290828T183000
DTEND;TZID=America/Los_Angeles:20290828T200000
DTSTAMP:20260424T010907
CREATED:20250128T173504Z
LAST-MODIFIED:20250128T173504Z
UID:10003725-1882636200-1882641600@www.crestlinechamber.org
SUMMARY:Crestline Lions Club Meeting 📅
DESCRIPTION:Be a part of the amazing work happening in our community with the Crestline Lions Club! Connect with passionate neighbors\, share ideas\, and help make a difference. \nFrom supporting local projects to planning events\, there’s always something meaningful to do. New members are always welcome—come see how you can get involved! 🦁✨
URL:https://www.crestlinechamber.org/event/crestline-lions-club-meeting-%f0%9f%93%85/2029-08-28/
LOCATION:Crest Forest Senior Citizens Club\, 24658 San Moritz Dr.\, Crestline\, 92325\, United States
CATEGORIES:Community Event,Community Meeting,Family Friendly
GEO:34.2431624;-117.2610605
X-APPLE-STRUCTURED-LOCATION;VALUE=URI;X-ADDRESS=Crest Forest Senior Citizens Club 24658 San Moritz Dr. Crestline 92325 United States;X-APPLE-RADIUS=500;X-TITLE=24658 San Moritz Dr.:geo:-117.2610605,34.2431624
END:VEVENT
BEGIN:VEVENT
DTSTART;TZID=America/Los_Angeles:20290907T170000
DTEND;TZID=America/Los_Angeles:20290907T193000
DTSTAMP:20260424T010907
CREATED:20250127T193036Z
LAST-MODIFIED:20250127T193036Z
UID:10002301-1883494800-1883503800@www.crestlinechamber.org
SUMMARY:Leisure Shores: Bingo Night! 🎰
DESCRIPTION:Get ready for an evening of fun\, friends\, and fabulous prizes! Join us for Bingo Night at Leisure Shores\, where the excitement is always just one number away. \nCash prizes\, a snack bar with hot dogs\, lasagna\, chicken tenders\, garlic bread\, and much more! 🌭🍗🍪🥤 \nFor $25\, you’ll get to participate in 10 games and have an opportunity to meet with others within the community! \nDon’t miss your chance to shout “BINGO!” and enjoy a great time with the community. Bring your lucky charm and join the fun—see you there! 🎊✨
URL:https://www.crestlinechamber.org/event/leisure-shores-bingo-night-%f0%9f%8e%b0/2029-09-07/
LOCATION:Crest Forest Senior Citizens Club\, 24658 San Moritz Dr.\, Crestline\, 92325\, United States
CATEGORIES:Community Event,Family Friendly,Lake Gregory
GEO:34.2431624;-117.2610605
X-APPLE-STRUCTURED-LOCATION;VALUE=URI;X-ADDRESS=Crest Forest Senior Citizens Club 24658 San Moritz Dr. Crestline 92325 United States;X-APPLE-RADIUS=500;X-TITLE=24658 San Moritz Dr.:geo:-117.2610605,34.2431624
END:VEVENT
BEGIN:VEVENT
DTSTART;TZID=America/Los_Angeles:20290925T183000
DTEND;TZID=America/Los_Angeles:20290925T200000
DTSTAMP:20260424T010907
CREATED:20250128T173504Z
LAST-MODIFIED:20250128T173504Z
UID:10003726-1885055400-1885060800@www.crestlinechamber.org
SUMMARY:Crestline Lions Club Meeting 📅
DESCRIPTION:Be a part of the amazing work happening in our community with the Crestline Lions Club! Connect with passionate neighbors\, share ideas\, and help make a difference. \nFrom supporting local projects to planning events\, there’s always something meaningful to do. New members are always welcome—come see how you can get involved! 🦁✨
URL:https://www.crestlinechamber.org/event/crestline-lions-club-meeting-%f0%9f%93%85/2029-09-25/
LOCATION:Crest Forest Senior Citizens Club\, 24658 San Moritz Dr.\, Crestline\, 92325\, United States
CATEGORIES:Community Event,Community Meeting,Family Friendly
GEO:34.2431624;-117.2610605
X-APPLE-STRUCTURED-LOCATION;VALUE=URI;X-ADDRESS=Crest Forest Senior Citizens Club 24658 San Moritz Dr. Crestline 92325 United States;X-APPLE-RADIUS=500;X-TITLE=24658 San Moritz Dr.:geo:-117.2610605,34.2431624
END:VEVENT
BEGIN:VEVENT
DTSTART;TZID=America/Los_Angeles:20291005T170000
DTEND;TZID=America/Los_Angeles:20291005T193000
DTSTAMP:20260424T010907
CREATED:20250127T193036Z
LAST-MODIFIED:20250127T193036Z
UID:10002302-1885914000-1885923000@www.crestlinechamber.org
SUMMARY:Leisure Shores: Bingo Night! 🎰
DESCRIPTION:Get ready for an evening of fun\, friends\, and fabulous prizes! Join us for Bingo Night at Leisure Shores\, where the excitement is always just one number away. \nCash prizes\, a snack bar with hot dogs\, lasagna\, chicken tenders\, garlic bread\, and much more! 🌭🍗🍪🥤 \nFor $25\, you’ll get to participate in 10 games and have an opportunity to meet with others within the community! \nDon’t miss your chance to shout “BINGO!” and enjoy a great time with the community. Bring your lucky charm and join the fun—see you there! 🎊✨
URL:https://www.crestlinechamber.org/event/leisure-shores-bingo-night-%f0%9f%8e%b0/2029-10-05/
LOCATION:Crest Forest Senior Citizens Club\, 24658 San Moritz Dr.\, Crestline\, 92325\, United States
CATEGORIES:Community Event,Family Friendly,Lake Gregory
GEO:34.2431624;-117.2610605
X-APPLE-STRUCTURED-LOCATION;VALUE=URI;X-ADDRESS=Crest Forest Senior Citizens Club 24658 San Moritz Dr. Crestline 92325 United States;X-APPLE-RADIUS=500;X-TITLE=24658 San Moritz Dr.:geo:-117.2610605,34.2431624
END:VEVENT
BEGIN:VEVENT
DTSTART;TZID=America/Los_Angeles:20291023T183000
DTEND;TZID=America/Los_Angeles:20291023T200000
DTSTAMP:20260424T010907
CREATED:20250128T173504Z
LAST-MODIFIED:20250128T173504Z
UID:10003727-1887474600-1887480000@www.crestlinechamber.org
SUMMARY:Crestline Lions Club Meeting 📅
DESCRIPTION:Be a part of the amazing work happening in our community with the Crestline Lions Club! Connect with passionate neighbors\, share ideas\, and help make a difference. \nFrom supporting local projects to planning events\, there’s always something meaningful to do. New members are always welcome—come see how you can get involved! 🦁✨
URL:https://www.crestlinechamber.org/event/crestline-lions-club-meeting-%f0%9f%93%85/2029-10-23/
LOCATION:Crest Forest Senior Citizens Club\, 24658 San Moritz Dr.\, Crestline\, 92325\, United States
CATEGORIES:Community Event,Community Meeting,Family Friendly
GEO:34.2431624;-117.2610605
X-APPLE-STRUCTURED-LOCATION;VALUE=URI;X-ADDRESS=Crest Forest Senior Citizens Club 24658 San Moritz Dr. Crestline 92325 United States;X-APPLE-RADIUS=500;X-TITLE=24658 San Moritz Dr.:geo:-117.2610605,34.2431624
END:VEVENT
BEGIN:VEVENT
DTSTART;TZID=America/Los_Angeles:20291102T170000
DTEND;TZID=America/Los_Angeles:20291102T193000
DTSTAMP:20260424T010907
CREATED:20250127T193036Z
LAST-MODIFIED:20250127T193036Z
UID:10002303-1888333200-1888342200@www.crestlinechamber.org
SUMMARY:Leisure Shores: Bingo Night! 🎰
DESCRIPTION:Get ready for an evening of fun\, friends\, and fabulous prizes! Join us for Bingo Night at Leisure Shores\, where the excitement is always just one number away. \nCash prizes\, a snack bar with hot dogs\, lasagna\, chicken tenders\, garlic bread\, and much more! 🌭🍗🍪🥤 \nFor $25\, you’ll get to participate in 10 games and have an opportunity to meet with others within the community! \nDon’t miss your chance to shout “BINGO!” and enjoy a great time with the community. Bring your lucky charm and join the fun—see you there! 🎊✨
URL:https://www.crestlinechamber.org/event/leisure-shores-bingo-night-%f0%9f%8e%b0/2029-11-02/
LOCATION:Crest Forest Senior Citizens Club\, 24658 San Moritz Dr.\, Crestline\, 92325\, United States
CATEGORIES:Community Event,Family Friendly,Lake Gregory
GEO:34.2431624;-117.2610605
X-APPLE-STRUCTURED-LOCATION;VALUE=URI;X-ADDRESS=Crest Forest Senior Citizens Club 24658 San Moritz Dr. Crestline 92325 United States;X-APPLE-RADIUS=500;X-TITLE=24658 San Moritz Dr.:geo:-117.2610605,34.2431624
END:VEVENT
BEGIN:VEVENT
DTSTART;TZID=America/Los_Angeles:20291127T183000
DTEND;TZID=America/Los_Angeles:20291127T200000
DTSTAMP:20260424T010907
CREATED:20250128T173504Z
LAST-MODIFIED:20250128T173504Z
UID:10003728-1890498600-1890504000@www.crestlinechamber.org
SUMMARY:Crestline Lions Club Meeting 📅
DESCRIPTION:Be a part of the amazing work happening in our community with the Crestline Lions Club! Connect with passionate neighbors\, share ideas\, and help make a difference. \nFrom supporting local projects to planning events\, there’s always something meaningful to do. New members are always welcome—come see how you can get involved! 🦁✨
URL:https://www.crestlinechamber.org/event/crestline-lions-club-meeting-%f0%9f%93%85/2029-11-27/
LOCATION:Crest Forest Senior Citizens Club\, 24658 San Moritz Dr.\, Crestline\, 92325\, United States
CATEGORIES:Community Event,Community Meeting,Family Friendly
GEO:34.2431624;-117.2610605
X-APPLE-STRUCTURED-LOCATION;VALUE=URI;X-ADDRESS=Crest Forest Senior Citizens Club 24658 San Moritz Dr. Crestline 92325 United States;X-APPLE-RADIUS=500;X-TITLE=24658 San Moritz Dr.:geo:-117.2610605,34.2431624
END:VEVENT
BEGIN:VEVENT
DTSTART;TZID=America/Los_Angeles:20291207T170000
DTEND;TZID=America/Los_Angeles:20291207T193000
DTSTAMP:20260424T010907
CREATED:20250127T193036Z
LAST-MODIFIED:20250127T193036Z
UID:10002304-1891357200-1891366200@www.crestlinechamber.org
SUMMARY:Leisure Shores: Bingo Night! 🎰
DESCRIPTION:Get ready for an evening of fun\, friends\, and fabulous prizes! Join us for Bingo Night at Leisure Shores\, where the excitement is always just one number away. \nCash prizes\, a snack bar with hot dogs\, lasagna\, chicken tenders\, garlic bread\, and much more! 🌭🍗🍪🥤 \nFor $25\, you’ll get to participate in 10 games and have an opportunity to meet with others within the community! \nDon’t miss your chance to shout “BINGO!” and enjoy a great time with the community. Bring your lucky charm and join the fun—see you there! 🎊✨
URL:https://www.crestlinechamber.org/event/leisure-shores-bingo-night-%f0%9f%8e%b0/2029-12-07/
LOCATION:Crest Forest Senior Citizens Club\, 24658 San Moritz Dr.\, Crestline\, 92325\, United States
CATEGORIES:Community Event,Family Friendly,Lake Gregory
GEO:34.2431624;-117.2610605
X-APPLE-STRUCTURED-LOCATION;VALUE=URI;X-ADDRESS=Crest Forest Senior Citizens Club 24658 San Moritz Dr. Crestline 92325 United States;X-APPLE-RADIUS=500;X-TITLE=24658 San Moritz Dr.:geo:-117.2610605,34.2431624
END:VEVENT
BEGIN:VEVENT
DTSTART;TZID=America/Los_Angeles:20291225T183000
DTEND;TZID=America/Los_Angeles:20291225T200000
DTSTAMP:20260424T010907
CREATED:20250128T173504Z
LAST-MODIFIED:20250128T173504Z
UID:10003729-1892917800-1892923200@www.crestlinechamber.org
SUMMARY:Crestline Lions Club Meeting 📅
DESCRIPTION:Be a part of the amazing work happening in our community with the Crestline Lions Club! Connect with passionate neighbors\, share ideas\, and help make a difference. \nFrom supporting local projects to planning events\, there’s always something meaningful to do. New members are always welcome—come see how you can get involved! 🦁✨
URL:https://www.crestlinechamber.org/event/crestline-lions-club-meeting-%f0%9f%93%85/2029-12-25/
LOCATION:Crest Forest Senior Citizens Club\, 24658 San Moritz Dr.\, Crestline\, 92325\, United States
CATEGORIES:Community Event,Community Meeting,Family Friendly
GEO:34.2431624;-117.2610605
X-APPLE-STRUCTURED-LOCATION;VALUE=URI;X-ADDRESS=Crest Forest Senior Citizens Club 24658 San Moritz Dr. Crestline 92325 United States;X-APPLE-RADIUS=500;X-TITLE=24658 San Moritz Dr.:geo:-117.2610605,34.2431624
END:VEVENT
BEGIN:VEVENT
DTSTART;TZID=America/Los_Angeles:20300104T170000
DTEND;TZID=America/Los_Angeles:20300104T193000
DTSTAMP:20260424T010907
CREATED:20250127T193036Z
LAST-MODIFIED:20250127T193036Z
UID:10002305-1893776400-1893785400@www.crestlinechamber.org
SUMMARY:Leisure Shores: Bingo Night! 🎰
DESCRIPTION:Get ready for an evening of fun\, friends\, and fabulous prizes! Join us for Bingo Night at Leisure Shores\, where the excitement is always just one number away. \nCash prizes\, a snack bar with hot dogs\, lasagna\, chicken tenders\, garlic bread\, and much more! 🌭🍗🍪🥤 \nFor $25\, you’ll get to participate in 10 games and have an opportunity to meet with others within the community! \nDon’t miss your chance to shout “BINGO!” and enjoy a great time with the community. Bring your lucky charm and join the fun—see you there! 🎊✨
URL:https://www.crestlinechamber.org/event/leisure-shores-bingo-night-%f0%9f%8e%b0/2030-01-04/
LOCATION:Crest Forest Senior Citizens Club\, 24658 San Moritz Dr.\, Crestline\, 92325\, United States
CATEGORIES:Community Event,Family Friendly,Lake Gregory
GEO:34.2431624;-117.2610605
X-APPLE-STRUCTURED-LOCATION;VALUE=URI;X-ADDRESS=Crest Forest Senior Citizens Club 24658 San Moritz Dr. Crestline 92325 United States;X-APPLE-RADIUS=500;X-TITLE=24658 San Moritz Dr.:geo:-117.2610605,34.2431624
END:VEVENT
BEGIN:VEVENT
DTSTART;TZID=America/Los_Angeles:20300122T183000
DTEND;TZID=America/Los_Angeles:20300122T200000
DTSTAMP:20260424T010907
CREATED:20250128T173504Z
LAST-MODIFIED:20250128T173504Z
UID:10003730-1895337000-1895342400@www.crestlinechamber.org
SUMMARY:Crestline Lions Club Meeting 📅
DESCRIPTION:Be a part of the amazing work happening in our community with the Crestline Lions Club! Connect with passionate neighbors\, share ideas\, and help make a difference. \nFrom supporting local projects to planning events\, there’s always something meaningful to do. New members are always welcome—come see how you can get involved! 🦁✨
URL:https://www.crestlinechamber.org/event/crestline-lions-club-meeting-%f0%9f%93%85/2030-01-22/
LOCATION:Crest Forest Senior Citizens Club\, 24658 San Moritz Dr.\, Crestline\, 92325\, United States
CATEGORIES:Community Event,Community Meeting,Family Friendly
GEO:34.2431624;-117.2610605
X-APPLE-STRUCTURED-LOCATION;VALUE=URI;X-ADDRESS=Crest Forest Senior Citizens Club 24658 San Moritz Dr. Crestline 92325 United States;X-APPLE-RADIUS=500;X-TITLE=24658 San Moritz Dr.:geo:-117.2610605,34.2431624
END:VEVENT
END:VCALENDAR