BEGIN:VCALENDAR
VERSION:2.0
PRODID:-//Crestline Chamber of Commerce - ECPv6.15.20//NONSGML v1.0//EN
CALSCALE:GREGORIAN
METHOD:PUBLISH
X-WR-CALNAME:Crestline Chamber of Commerce
X-ORIGINAL-URL:https://www.crestlinechamber.org
X-WR-CALDESC:Events for Crestline Chamber of Commerce
REFRESH-INTERVAL;VALUE=DURATION:PT1H
X-Robots-Tag:noindex
X-PUBLISHED-TTL:PT1H
BEGIN:VTIMEZONE
TZID:America/Los_Angeles
BEGIN:DAYLIGHT
TZOFFSETFROM:-0800
TZOFFSETTO:-0700
TZNAME:PDT
DTSTART:20240310T100000
END:DAYLIGHT
BEGIN:STANDARD
TZOFFSETFROM:-0700
TZOFFSETTO:-0800
TZNAME:PST
DTSTART:20241103T090000
END:STANDARD
BEGIN:DAYLIGHT
TZOFFSETFROM:-0800
TZOFFSETTO:-0700
TZNAME:PDT
DTSTART:20250309T100000
END:DAYLIGHT
BEGIN:STANDARD
TZOFFSETFROM:-0700
TZOFFSETTO:-0800
TZNAME:PST
DTSTART:20251102T090000
END:STANDARD
BEGIN:DAYLIGHT
TZOFFSETFROM:-0800
TZOFFSETTO:-0700
TZNAME:PDT
DTSTART:20260308T100000
END:DAYLIGHT
BEGIN:STANDARD
TZOFFSETFROM:-0700
TZOFFSETTO:-0800
TZNAME:PST
DTSTART:20261101T090000
END:STANDARD
END:VTIMEZONE
BEGIN:VEVENT
DTSTART;TZID=America/Los_Angeles:20250828T180000
DTEND;TZID=America/Los_Angeles:20250828T193000
DTSTAMP:20260423T213544
CREATED:20250731T203749Z
LAST-MODIFIED:20250731T203749Z
UID:10006334-1756404000-1756409400@www.crestlinechamber.org
SUMMARY:Theater Games & Beginning Improv Exercises 🎭
DESCRIPTION:
URL:https://www.crestlinechamber.org/event/theater-games-beginning-improv-exercises-%f0%9f%8e%ad/2025-08-28/
LOCATION:Mountain Couseling & Training HQ\, 340 CA-138\, Crestline\, CA\, 92325
CATEGORIES:Community Event,Community Meeting,Family Friendly
ATTACH;FMTTYPE=image/png:https://www.crestlinechamber.org/wp-content/uploads/2025/07/Improv-Workshop-Flyer-1.png
END:VEVENT
BEGIN:VEVENT
DTSTART;TZID=America/Los_Angeles:20250821T180000
DTEND;TZID=America/Los_Angeles:20250821T193000
DTSTAMP:20260423T213544
CREATED:20250731T203749Z
LAST-MODIFIED:20250731T203749Z
UID:10006333-1755799200-1755804600@www.crestlinechamber.org
SUMMARY:Theater Games & Beginning Improv Exercises 🎭
DESCRIPTION:
URL:https://www.crestlinechamber.org/event/theater-games-beginning-improv-exercises-%f0%9f%8e%ad/2025-08-21/
LOCATION:Mountain Couseling & Training HQ\, 340 CA-138\, Crestline\, CA\, 92325
CATEGORIES:Community Event,Community Meeting,Family Friendly
ATTACH;FMTTYPE=image/png:https://www.crestlinechamber.org/wp-content/uploads/2025/07/Improv-Workshop-Flyer-1.png
END:VEVENT
BEGIN:VEVENT
DTSTART;TZID=America/Los_Angeles:20250814T180000
DTEND;TZID=America/Los_Angeles:20250814T193000
DTSTAMP:20260423T213544
CREATED:20250731T203749Z
LAST-MODIFIED:20250731T203749Z
UID:10006332-1755194400-1755199800@www.crestlinechamber.org
SUMMARY:Theater Games & Beginning Improv Exercises 🎭
DESCRIPTION:
URL:https://www.crestlinechamber.org/event/theater-games-beginning-improv-exercises-%f0%9f%8e%ad/2025-08-14/
LOCATION:Mountain Couseling & Training HQ\, 340 CA-138\, Crestline\, CA\, 92325
CATEGORIES:Community Event,Community Meeting,Family Friendly
ATTACH;FMTTYPE=image/png:https://www.crestlinechamber.org/wp-content/uploads/2025/07/Improv-Workshop-Flyer-1.png
END:VEVENT
BEGIN:VEVENT
DTSTART;TZID=America/Los_Angeles:20250807T180000
DTEND;TZID=America/Los_Angeles:20250807T193000
DTSTAMP:20260423T213544
CREATED:20250731T203749Z
LAST-MODIFIED:20250731T203749Z
UID:10006331-1754589600-1754595000@www.crestlinechamber.org
SUMMARY:Theater Games & Beginning Improv Exercises 🎭
DESCRIPTION:
URL:https://www.crestlinechamber.org/event/theater-games-beginning-improv-exercises-%f0%9f%8e%ad/2025-08-07/
LOCATION:Mountain Couseling & Training HQ\, 340 CA-138\, Crestline\, CA\, 92325
CATEGORIES:Community Event,Community Meeting,Family Friendly
ATTACH;FMTTYPE=image/png:https://www.crestlinechamber.org/wp-content/uploads/2025/07/Improv-Workshop-Flyer-1.png
END:VEVENT
BEGIN:VEVENT
DTSTART;TZID=America/Los_Angeles:20250320T180000
DTEND;TZID=America/Los_Angeles:20250320T193000
DTSTAMP:20260423T213544
CREATED:20250122T232525Z
LAST-MODIFIED:20250122T232525Z
UID:10002104-1742493600-1742499000@www.crestlinechamber.org
SUMMARY:Parenting Doesn't Come With A Manual! - MCT Parenting Workshop ❤️👦 👧
DESCRIPTION:📢 Parenting Doesn’t Come with a Manual\, But This Workshop Can Help! \nJoin the 8-week MCT Parenting Workshop and connect with other parents in a supportive\, judgment-free space to gain confidence in handling the tough moments of parenting. \n📅 Every Thursday Evenings\n🕕 6:00 PM – 7:30 PM\n🗓️ Starting January 30\n📍 Mountain Counseling & Training HQ\n340 CA Highway-138\, Crestline\, CA 92325 \nThis FREE workshop uses the Love & Logic curriculum to provide practical strategies and encouragement from parents who understand. Plus\, bring the kiddos! Fun activities for children ages 3+ are included to help build social-emotional learning during the group. \n✨ Don’t do it alone—find support\, share experiences\, and thrive as a parent! \nRegister by scanning the QR code or calling (909) 336-3330 today. See you there! 🎉
URL:https://www.crestlinechamber.org/event/parenting-doesnt-come-with-a-manual-mct-parenting-workshop-%e2%9d%a4%ef%b8%8f%f0%9f%91%a6-%f0%9f%91%a7/2025-03-20/
LOCATION:Mountain Couseling & Training HQ\, 340 CA-138\, Crestline\, CA\, 92325
CATEGORIES:Community Event,Family Friendly
END:VEVENT
BEGIN:VEVENT
DTSTART;TZID=America/Los_Angeles:20250313T180000
DTEND;TZID=America/Los_Angeles:20250313T193000
DTSTAMP:20260423T213544
CREATED:20250122T232525Z
LAST-MODIFIED:20250122T232525Z
UID:10002103-1741888800-1741894200@www.crestlinechamber.org
SUMMARY:Parenting Doesn't Come With A Manual! - MCT Parenting Workshop ❤️👦 👧
DESCRIPTION:📢 Parenting Doesn’t Come with a Manual\, But This Workshop Can Help! \nJoin the 8-week MCT Parenting Workshop and connect with other parents in a supportive\, judgment-free space to gain confidence in handling the tough moments of parenting. \n📅 Every Thursday Evenings\n🕕 6:00 PM – 7:30 PM\n🗓️ Starting January 30\n📍 Mountain Counseling & Training HQ\n340 CA Highway-138\, Crestline\, CA 92325 \nThis FREE workshop uses the Love & Logic curriculum to provide practical strategies and encouragement from parents who understand. Plus\, bring the kiddos! Fun activities for children ages 3+ are included to help build social-emotional learning during the group. \n✨ Don’t do it alone—find support\, share experiences\, and thrive as a parent! \nRegister by scanning the QR code or calling (909) 336-3330 today. See you there! 🎉
URL:https://www.crestlinechamber.org/event/parenting-doesnt-come-with-a-manual-mct-parenting-workshop-%e2%9d%a4%ef%b8%8f%f0%9f%91%a6-%f0%9f%91%a7/2025-03-13/
LOCATION:Mountain Couseling & Training HQ\, 340 CA-138\, Crestline\, CA\, 92325
CATEGORIES:Community Event,Family Friendly
END:VEVENT
BEGIN:VEVENT
DTSTART;TZID=America/Los_Angeles:20250306T180000
DTEND;TZID=America/Los_Angeles:20250306T193000
DTSTAMP:20260423T213544
CREATED:20250122T232525Z
LAST-MODIFIED:20250122T232525Z
UID:10002102-1741284000-1741289400@www.crestlinechamber.org
SUMMARY:Parenting Doesn't Come With A Manual! - MCT Parenting Workshop ❤️👦 👧
DESCRIPTION:📢 Parenting Doesn’t Come with a Manual\, But This Workshop Can Help! \nJoin the 8-week MCT Parenting Workshop and connect with other parents in a supportive\, judgment-free space to gain confidence in handling the tough moments of parenting. \n📅 Every Thursday Evenings\n🕕 6:00 PM – 7:30 PM\n🗓️ Starting January 30\n📍 Mountain Counseling & Training HQ\n340 CA Highway-138\, Crestline\, CA 92325 \nThis FREE workshop uses the Love & Logic curriculum to provide practical strategies and encouragement from parents who understand. Plus\, bring the kiddos! Fun activities for children ages 3+ are included to help build social-emotional learning during the group. \n✨ Don’t do it alone—find support\, share experiences\, and thrive as a parent! \nRegister by scanning the QR code or calling (909) 336-3330 today. See you there! 🎉
URL:https://www.crestlinechamber.org/event/parenting-doesnt-come-with-a-manual-mct-parenting-workshop-%e2%9d%a4%ef%b8%8f%f0%9f%91%a6-%f0%9f%91%a7/2025-03-06/
LOCATION:Mountain Couseling & Training HQ\, 340 CA-138\, Crestline\, CA\, 92325
CATEGORIES:Community Event,Family Friendly
END:VEVENT
BEGIN:VEVENT
DTSTART;TZID=America/Los_Angeles:20250227T180000
DTEND;TZID=America/Los_Angeles:20250227T193000
DTSTAMP:20260423T213544
CREATED:20250122T232525Z
LAST-MODIFIED:20250122T232525Z
UID:10002101-1740679200-1740684600@www.crestlinechamber.org
SUMMARY:Parenting Doesn't Come With A Manual! - MCT Parenting Workshop ❤️👦 👧
DESCRIPTION:📢 Parenting Doesn’t Come with a Manual\, But This Workshop Can Help! \nJoin the 8-week MCT Parenting Workshop and connect with other parents in a supportive\, judgment-free space to gain confidence in handling the tough moments of parenting. \n📅 Every Thursday Evenings\n🕕 6:00 PM – 7:30 PM\n🗓️ Starting January 30\n📍 Mountain Counseling & Training HQ\n340 CA Highway-138\, Crestline\, CA 92325 \nThis FREE workshop uses the Love & Logic curriculum to provide practical strategies and encouragement from parents who understand. Plus\, bring the kiddos! Fun activities for children ages 3+ are included to help build social-emotional learning during the group. \n✨ Don’t do it alone—find support\, share experiences\, and thrive as a parent! \nRegister by scanning the QR code or calling (909) 336-3330 today. See you there! 🎉
URL:https://www.crestlinechamber.org/event/parenting-doesnt-come-with-a-manual-mct-parenting-workshop-%e2%9d%a4%ef%b8%8f%f0%9f%91%a6-%f0%9f%91%a7/2025-02-27/
LOCATION:Mountain Couseling & Training HQ\, 340 CA-138\, Crestline\, CA\, 92325
CATEGORIES:Community Event,Family Friendly
END:VEVENT
BEGIN:VEVENT
DTSTART;TZID=America/Los_Angeles:20250220T180000
DTEND;TZID=America/Los_Angeles:20250220T193000
DTSTAMP:20260423T213544
CREATED:20250122T232525Z
LAST-MODIFIED:20250122T232525Z
UID:10002100-1740074400-1740079800@www.crestlinechamber.org
SUMMARY:Parenting Doesn't Come With A Manual! - MCT Parenting Workshop ❤️👦 👧
DESCRIPTION:📢 Parenting Doesn’t Come with a Manual\, But This Workshop Can Help! \nJoin the 8-week MCT Parenting Workshop and connect with other parents in a supportive\, judgment-free space to gain confidence in handling the tough moments of parenting. \n📅 Every Thursday Evenings\n🕕 6:00 PM – 7:30 PM\n🗓️ Starting January 30\n📍 Mountain Counseling & Training HQ\n340 CA Highway-138\, Crestline\, CA 92325 \nThis FREE workshop uses the Love & Logic curriculum to provide practical strategies and encouragement from parents who understand. Plus\, bring the kiddos! Fun activities for children ages 3+ are included to help build social-emotional learning during the group. \n✨ Don’t do it alone—find support\, share experiences\, and thrive as a parent! \nRegister by scanning the QR code or calling (909) 336-3330 today. See you there! 🎉
URL:https://www.crestlinechamber.org/event/parenting-doesnt-come-with-a-manual-mct-parenting-workshop-%e2%9d%a4%ef%b8%8f%f0%9f%91%a6-%f0%9f%91%a7/2025-02-20/
LOCATION:Mountain Couseling & Training HQ\, 340 CA-138\, Crestline\, CA\, 92325
CATEGORIES:Community Event,Family Friendly
END:VEVENT
BEGIN:VEVENT
DTSTART;TZID=America/Los_Angeles:20250213T180000
DTEND;TZID=America/Los_Angeles:20250213T193000
DTSTAMP:20260423T213544
CREATED:20250122T232525Z
LAST-MODIFIED:20250122T232525Z
UID:10002099-1739469600-1739475000@www.crestlinechamber.org
SUMMARY:Parenting Doesn't Come With A Manual! - MCT Parenting Workshop ❤️👦 👧
DESCRIPTION:📢 Parenting Doesn’t Come with a Manual\, But This Workshop Can Help! \nJoin the 8-week MCT Parenting Workshop and connect with other parents in a supportive\, judgment-free space to gain confidence in handling the tough moments of parenting. \n📅 Every Thursday Evenings\n🕕 6:00 PM – 7:30 PM\n🗓️ Starting January 30\n📍 Mountain Counseling & Training HQ\n340 CA Highway-138\, Crestline\, CA 92325 \nThis FREE workshop uses the Love & Logic curriculum to provide practical strategies and encouragement from parents who understand. Plus\, bring the kiddos! Fun activities for children ages 3+ are included to help build social-emotional learning during the group. \n✨ Don’t do it alone—find support\, share experiences\, and thrive as a parent! \nRegister by scanning the QR code or calling (909) 336-3330 today. See you there! 🎉
URL:https://www.crestlinechamber.org/event/parenting-doesnt-come-with-a-manual-mct-parenting-workshop-%e2%9d%a4%ef%b8%8f%f0%9f%91%a6-%f0%9f%91%a7/2025-02-13/
LOCATION:Mountain Couseling & Training HQ\, 340 CA-138\, Crestline\, CA\, 92325
CATEGORIES:Community Event,Family Friendly
END:VEVENT
BEGIN:VEVENT
DTSTART;TZID=America/Los_Angeles:20250206T180000
DTEND;TZID=America/Los_Angeles:20250206T193000
DTSTAMP:20260423T213544
CREATED:20250122T232525Z
LAST-MODIFIED:20250122T232525Z
UID:10002098-1738864800-1738870200@www.crestlinechamber.org
SUMMARY:Parenting Doesn't Come With A Manual! - MCT Parenting Workshop ❤️👦 👧
DESCRIPTION:📢 Parenting Doesn’t Come with a Manual\, But This Workshop Can Help! \nJoin the 8-week MCT Parenting Workshop and connect with other parents in a supportive\, judgment-free space to gain confidence in handling the tough moments of parenting. \n📅 Every Thursday Evenings\n🕕 6:00 PM – 7:30 PM\n🗓️ Starting January 30\n📍 Mountain Counseling & Training HQ\n340 CA Highway-138\, Crestline\, CA 92325 \nThis FREE workshop uses the Love & Logic curriculum to provide practical strategies and encouragement from parents who understand. Plus\, bring the kiddos! Fun activities for children ages 3+ are included to help build social-emotional learning during the group. \n✨ Don’t do it alone—find support\, share experiences\, and thrive as a parent! \nRegister by scanning the QR code or calling (909) 336-3330 today. See you there! 🎉
URL:https://www.crestlinechamber.org/event/parenting-doesnt-come-with-a-manual-mct-parenting-workshop-%e2%9d%a4%ef%b8%8f%f0%9f%91%a6-%f0%9f%91%a7/2025-02-06/
LOCATION:Mountain Couseling & Training HQ\, 340 CA-138\, Crestline\, CA\, 92325
CATEGORIES:Community Event,Family Friendly
END:VEVENT
BEGIN:VEVENT
DTSTART;TZID=America/Los_Angeles:20250130T180000
DTEND;TZID=America/Los_Angeles:20250130T193000
DTSTAMP:20260423T213544
CREATED:20250122T232525Z
LAST-MODIFIED:20250122T232525Z
UID:10002097-1738260000-1738265400@www.crestlinechamber.org
SUMMARY:Parenting Doesn't Come With A Manual! - MCT Parenting Workshop ❤️👦 👧
DESCRIPTION:📢 Parenting Doesn’t Come with a Manual\, But This Workshop Can Help! \nJoin the 8-week MCT Parenting Workshop and connect with other parents in a supportive\, judgment-free space to gain confidence in handling the tough moments of parenting. \n📅 Every Thursday Evenings\n🕕 6:00 PM – 7:30 PM\n🗓️ Starting January 30\n📍 Mountain Counseling & Training HQ\n340 CA Highway-138\, Crestline\, CA 92325 \nThis FREE workshop uses the Love & Logic curriculum to provide practical strategies and encouragement from parents who understand. Plus\, bring the kiddos! Fun activities for children ages 3+ are included to help build social-emotional learning during the group. \n✨ Don’t do it alone—find support\, share experiences\, and thrive as a parent! \nRegister by scanning the QR code or calling (909) 336-3330 today. See you there! 🎉
URL:https://www.crestlinechamber.org/event/parenting-doesnt-come-with-a-manual-mct-parenting-workshop-%e2%9d%a4%ef%b8%8f%f0%9f%91%a6-%f0%9f%91%a7/2025-01-30/
LOCATION:Mountain Couseling & Training HQ\, 340 CA-138\, Crestline\, CA\, 92325
CATEGORIES:Community Event,Family Friendly
END:VEVENT
END:VCALENDAR