BEGIN:VCALENDAR
VERSION:2.0
PRODID:-//Crestline Chamber of Commerce - ECPv6.15.20//NONSGML v1.0//EN
CALSCALE:GREGORIAN
METHOD:PUBLISH
X-WR-CALNAME:Crestline Chamber of Commerce
X-ORIGINAL-URL:https://www.crestlinechamber.org
X-WR-CALDESC:Events for Crestline Chamber of Commerce
REFRESH-INTERVAL;VALUE=DURATION:PT1H
X-Robots-Tag:noindex
X-PUBLISHED-TTL:PT1H
BEGIN:VTIMEZONE
TZID:America/Los_Angeles
BEGIN:DAYLIGHT
TZOFFSETFROM:-0800
TZOFFSETTO:-0700
TZNAME:PDT
DTSTART:20210314T100000
END:DAYLIGHT
BEGIN:STANDARD
TZOFFSETFROM:-0700
TZOFFSETTO:-0800
TZNAME:PST
DTSTART:20211107T090000
END:STANDARD
BEGIN:DAYLIGHT
TZOFFSETFROM:-0800
TZOFFSETTO:-0700
TZNAME:PDT
DTSTART:20220313T100000
END:DAYLIGHT
BEGIN:STANDARD
TZOFFSETFROM:-0700
TZOFFSETTO:-0800
TZNAME:PST
DTSTART:20221106T090000
END:STANDARD
BEGIN:DAYLIGHT
TZOFFSETFROM:-0800
TZOFFSETTO:-0700
TZNAME:PDT
DTSTART:20230312T100000
END:DAYLIGHT
BEGIN:STANDARD
TZOFFSETFROM:-0700
TZOFFSETTO:-0800
TZNAME:PST
DTSTART:20231105T090000
END:STANDARD
BEGIN:DAYLIGHT
TZOFFSETFROM:-0800
TZOFFSETTO:-0700
TZNAME:PDT
DTSTART:20240310T100000
END:DAYLIGHT
BEGIN:STANDARD
TZOFFSETFROM:-0700
TZOFFSETTO:-0800
TZNAME:PST
DTSTART:20241103T090000
END:STANDARD
BEGIN:DAYLIGHT
TZOFFSETFROM:-0800
TZOFFSETTO:-0700
TZNAME:PDT
DTSTART:20250309T100000
END:DAYLIGHT
BEGIN:STANDARD
TZOFFSETFROM:-0700
TZOFFSETTO:-0800
TZNAME:PST
DTSTART:20251102T090000
END:STANDARD
BEGIN:DAYLIGHT
TZOFFSETFROM:-0800
TZOFFSETTO:-0700
TZNAME:PDT
DTSTART:20260308T100000
END:DAYLIGHT
BEGIN:STANDARD
TZOFFSETFROM:-0700
TZOFFSETTO:-0800
TZNAME:PST
DTSTART:20261101T090000
END:STANDARD
END:VTIMEZONE
BEGIN:VEVENT
DTSTART;TZID=America/Los_Angeles:20251206T080000
DTEND;TZID=America/Los_Angeles:20251206T170000
DTSTAMP:20260424T024037
CREATED:20251120T193846Z
LAST-MODIFIED:20251120T193846Z
UID:10007349-1765008000-1765040400@www.crestlinechamber.org
SUMMARY:Rim of the World Historical Society Holiday Party!
DESCRIPTION:The Rim Historical Society’s Holiday Party transforms the evening into a festive\, vintage-themed celebration—complete with era-inspired outfits\, cocktails\, appetizers\, a delicious catered buffet\, dancing to American Bandstand favorites\, a lively DJ\, and even an appearance from Elvis for unforgettable selfies! $64 admission.
URL:https://www.crestlinechamber.org/event/rim-of-the-world-historical-society-holiday-party/
LOCATION:Mountain History Museum\, 27176 Peninsula Drive\, Lake Arrowhead\, CA\, United States
CATEGORIES:Community Event,Live Music
ORGANIZER;CN="Rim of the World Historical Society":MAILTO:museum@mtnmuseum.org
GEO:34.2616265;-117.2104016
X-APPLE-STRUCTURED-LOCATION;VALUE=URI;X-ADDRESS=Mountain History Museum 27176 Peninsula Drive Lake Arrowhead CA United States;X-APPLE-RADIUS=500;X-TITLE=27176 Peninsula Drive:geo:-117.2104016,34.2616265
END:VEVENT
BEGIN:VEVENT
DTSTART;TZID=America/Los_Angeles:20250803T120000
DTEND;TZID=America/Los_Angeles:20250803T150000
DTSTAMP:20260424T024037
CREATED:20250619T194844Z
LAST-MODIFIED:20250731T185207Z
UID:10005773-1754222400-1754233200@www.crestlinechamber.org
SUMMARY:Smokey Bear's Birthday Celebration! 🎉 🐻
DESCRIPTION:
URL:https://www.crestlinechamber.org/event/smokey-bears-birthday-celebration-%f0%9f%8e%89-%f0%9f%90%bb/
LOCATION:Mountain History Museum\, 27176 Peninsula Drive\, Lake Arrowhead\, CA\, United States
CATEGORIES:Community Event,Family Friendly
ATTACH;FMTTYPE=image/jpeg:https://www.crestlinechamber.org/wp-content/uploads/2025/06/img20250722_09210696-Medium.jpeg
ORGANIZER;CN="Rim of the World Historical Society":MAILTO:museum@mtnmuseum.org
GEO:34.2616265;-117.2104016
X-APPLE-STRUCTURED-LOCATION;VALUE=URI;X-ADDRESS=Mountain History Museum 27176 Peninsula Drive Lake Arrowhead CA United States;X-APPLE-RADIUS=500;X-TITLE=27176 Peninsula Drive:geo:-117.2104016,34.2616265
END:VEVENT
BEGIN:VEVENT
DTSTART;TZID=America/Los_Angeles:20250704T120000
DTEND;TZID=America/Los_Angeles:20250704T150000
DTSTAMP:20260424T024037
CREATED:20250619T193029Z
LAST-MODIFIED:20250619T193029Z
UID:10005769-1751630400-1751641200@www.crestlinechamber.org
SUMMARY:4th of July Ice Cream Social 🍨 🇺🇸
DESCRIPTION:
URL:https://www.crestlinechamber.org/event/4th-of-july-ice-cream-social-%f0%9f%8d%a8-%f0%9f%87%ba%f0%9f%87%b8/
LOCATION:Mountain History Museum\, 27176 Peninsula Drive\, Lake Arrowhead\, CA\, United States
CATEGORIES:Community Event,Family Friendly
ORGANIZER;CN="Rim of the World Historical Society":MAILTO:museum@mtnmuseum.org
GEO:34.2616265;-117.2104016
X-APPLE-STRUCTURED-LOCATION;VALUE=URI;X-ADDRESS=Mountain History Museum 27176 Peninsula Drive Lake Arrowhead CA United States;X-APPLE-RADIUS=500;X-TITLE=27176 Peninsula Drive:geo:-117.2104016,34.2616265
END:VEVENT
BEGIN:VEVENT
DTSTART;TZID=America/Los_Angeles:20240323T110000
DTEND;TZID=America/Los_Angeles:20240323T160000
DTSTAMP:20260424T024037
CREATED:20240319T004238Z
LAST-MODIFIED:20240319T004528Z
UID:10000992-1711191600-1711209600@www.crestlinechamber.org
SUMMARY:Mountain History Museum Easter Bunny Business
DESCRIPTION:Saturday\, March 23\, 2024 (11:00 AM – 4:00 PM) (PDT)
URL:https://www.crestlinechamber.org/event/mountain-history-museum-easter-bunny-business/
LOCATION:Mountain History Museum\, 27176 Peninsula Drive\, Lake Arrowhead\, CA\, United States
CATEGORIES:Community Event,Family Friendly
GEO:34.2616265;-117.2104016
X-APPLE-STRUCTURED-LOCATION;VALUE=URI;X-ADDRESS=Mountain History Museum 27176 Peninsula Drive Lake Arrowhead CA United States;X-APPLE-RADIUS=500;X-TITLE=27176 Peninsula Drive:geo:-117.2104016,34.2616265
END:VEVENT
BEGIN:VEVENT
DTSTART;TZID=America/Los_Angeles:20230218T110000
DTEND;TZID=America/Los_Angeles:20230220T160000
DTSTAMP:20260424T024037
CREATED:20230128T195916Z
LAST-MODIFIED:20230128T195916Z
UID:10000212-1676718000-1676908800@www.crestlinechamber.org
SUMMARY:Presidents Day at the Museum
DESCRIPTION:The Mountain History Museum will be open for visitors for only one weekend in February; Presidents Day weekend from 11 a.m. to 4 p.m. There will be children’s activities and some of the new summer exhibits are being set up for visitors. See the regular exhibits as well including the movies made on the mountain in the theater\, sit in a replica Blue Jay Excursion boat and take a selfie\,  the general store and USFS maps of the forest and wildfires. Learn about the history of the towns and the lumbering industry.  All for FREE\, with free off-street parking; 27176 Peninsula Drive at the corner of Rhine Road in Lake Arrowhead.  Weather permitting.
URL:https://www.crestlinechamber.org/event/presidents-day-at-the-museum/2023-02-18/2/
LOCATION:Mountain History Museum\, 27176 Peninsula Drive\, Lake Arrowhead\, CA\, United States
CATEGORIES:Family Friendly
ORGANIZER;CN="Rim of the World Historical Society":MAILTO:museum@mtnmuseum.org
GEO:34.2616265;-117.2104016
X-APPLE-STRUCTURED-LOCATION;VALUE=URI;X-ADDRESS=Mountain History Museum 27176 Peninsula Drive Lake Arrowhead CA United States;X-APPLE-RADIUS=500;X-TITLE=27176 Peninsula Drive:geo:-117.2104016,34.2616265
END:VEVENT
BEGIN:VEVENT
DTSTART;TZID=America/Los_Angeles:20230218T080000
DTEND;TZID=America/Los_Angeles:20230218T170000
DTSTAMP:20260424T024037
CREATED:20230128T195916Z
LAST-MODIFIED:20230128T195916Z
UID:10000211-1676707200-1676739600@www.crestlinechamber.org
SUMMARY:Presidents Day at the Museum
DESCRIPTION:The Mountain History Museum will be open for visitors for only one weekend in February; Presidents Day weekend from 11 a.m. to 4 p.m. There will be children’s activities and some of the new summer exhibits are being set up for visitors. See the regular exhibits as well including the movies made on the mountain in the theater\, sit in a replica Blue Jay Excursion boat and take a selfie\,  the general store and USFS maps of the forest and wildfires. Learn about the history of the towns and the lumbering industry.  All for FREE\, with free off-street parking; 27176 Peninsula Drive at the corner of Rhine Road in Lake Arrowhead.  Weather permitting.
URL:https://www.crestlinechamber.org/event/presidents-day-at-the-museum/2023-02-18/1/
LOCATION:Mountain History Museum\, 27176 Peninsula Drive\, Lake Arrowhead\, CA\, United States
CATEGORIES:Family Friendly
ORGANIZER;CN="Rim of the World Historical Society":MAILTO:museum@mtnmuseum.org
GEO:34.2616265;-117.2104016
X-APPLE-STRUCTURED-LOCATION;VALUE=URI;X-ADDRESS=Mountain History Museum 27176 Peninsula Drive Lake Arrowhead CA United States;X-APPLE-RADIUS=500;X-TITLE=27176 Peninsula Drive:geo:-117.2104016,34.2616265
END:VEVENT
BEGIN:VEVENT
DTSTART;TZID=America/Los_Angeles:20221211T110000
DTEND;TZID=America/Los_Angeles:20221211T160000
DTSTAMP:20260424T024037
CREATED:20221130T215525Z
LAST-MODIFIED:20221130T215525Z
UID:10000197-1670756400-1670774400@www.crestlinechamber.org
SUMMARY:The Mountain History Museum "Open House"
DESCRIPTION:Santa Claus is Coming to the Museum! Holiday crafts and a showing of “Charlie Brown’s Christmas” with popcorn in the Theater for younger visitors. There will be a special exhibit featuring original Santa’s Village memorabilia. Check out the museum store for holiday gifts\, including historical books and unique stocking stuffers. Refreshments will be served.
URL:https://www.crestlinechamber.org/event/the-mountain-history-museum-open-house/2022-12-11/
LOCATION:Mountain History Museum\, 27176 Peninsula Drive\, Lake Arrowhead\, CA\, United States
CATEGORIES:Family Friendly
GEO:34.2616265;-117.2104016
X-APPLE-STRUCTURED-LOCATION;VALUE=URI;X-ADDRESS=Mountain History Museum 27176 Peninsula Drive Lake Arrowhead CA United States;X-APPLE-RADIUS=500;X-TITLE=27176 Peninsula Drive:geo:-117.2104016,34.2616265
END:VEVENT
BEGIN:VEVENT
DTSTART;TZID=America/Los_Angeles:20221210T110000
DTEND;TZID=America/Los_Angeles:20221210T160000
DTSTAMP:20260424T024037
CREATED:20221130T215525Z
LAST-MODIFIED:20221130T215525Z
UID:10000196-1670670000-1670688000@www.crestlinechamber.org
SUMMARY:The Mountain History Museum "Open House"
DESCRIPTION:Santa Claus is Coming to the Museum! Holiday crafts and a showing of “Charlie Brown’s Christmas” with popcorn in the Theater for younger visitors. There will be a special exhibit featuring original Santa’s Village memorabilia. Check out the museum store for holiday gifts\, including historical books and unique stocking stuffers. Refreshments will be served.
URL:https://www.crestlinechamber.org/event/the-mountain-history-museum-open-house/2022-12-10/
LOCATION:Mountain History Museum\, 27176 Peninsula Drive\, Lake Arrowhead\, CA\, United States
CATEGORIES:Family Friendly
GEO:34.2616265;-117.2104016
X-APPLE-STRUCTURED-LOCATION;VALUE=URI;X-ADDRESS=Mountain History Museum 27176 Peninsula Drive Lake Arrowhead CA United States;X-APPLE-RADIUS=500;X-TITLE=27176 Peninsula Drive:geo:-117.2104016,34.2616265
END:VEVENT
END:VCALENDAR