BEGIN:VCALENDAR
VERSION:2.0
PRODID:-//Crestline Chamber of Commerce - ECPv6.15.20//NONSGML v1.0//EN
CALSCALE:GREGORIAN
METHOD:PUBLISH
X-ORIGINAL-URL:https://www.crestlinechamber.org
X-WR-CALDESC:Events for Crestline Chamber of Commerce
REFRESH-INTERVAL;VALUE=DURATION:PT1H
X-Robots-Tag:noindex
X-PUBLISHED-TTL:PT1H
BEGIN:VTIMEZONE
TZID:America/Los_Angeles
BEGIN:DAYLIGHT
TZOFFSETFROM:-0800
TZOFFSETTO:-0700
TZNAME:PDT
DTSTART:20260308T100000
END:DAYLIGHT
BEGIN:STANDARD
TZOFFSETFROM:-0700
TZOFFSETTO:-0800
TZNAME:PST
DTSTART:20261101T090000
END:STANDARD
BEGIN:DAYLIGHT
TZOFFSETFROM:-0800
TZOFFSETTO:-0700
TZNAME:PDT
DTSTART:20270314T100000
END:DAYLIGHT
BEGIN:STANDARD
TZOFFSETFROM:-0700
TZOFFSETTO:-0800
TZNAME:PST
DTSTART:20271107T090000
END:STANDARD
BEGIN:DAYLIGHT
TZOFFSETFROM:-0800
TZOFFSETTO:-0700
TZNAME:PDT
DTSTART:20280312T100000
END:DAYLIGHT
BEGIN:STANDARD
TZOFFSETFROM:-0700
TZOFFSETTO:-0800
TZNAME:PST
DTSTART:20281105T090000
END:STANDARD
END:VTIMEZONE
BEGIN:VEVENT
DTSTART;TZID=America/Los_Angeles:20270103T200000
DTEND;TZID=America/Los_Angeles:20270103T220000
DTSTAMP:20260423T184406
CREATED:20250619T190615Z
LAST-MODIFIED:20250619T190615Z
UID:10005583-1799006400-1799013600@www.crestlinechamber.org
SUMMARY:Cosmic Bowling 🎳  🌌
DESCRIPTION:
URL:https://www.crestlinechamber.org/event/cosmic-bowling-%f0%9f%8e%b3-%f0%9f%8c%8c/2027-01-03/
LOCATION:RIM Bowling & Entertainment Center\, 23991 Lake Drive\, Crestline\, CA\, 92325
CATEGORIES:Community Event,Family Friendly
END:VEVENT
BEGIN:VEVENT
DTSTART;TZID=America/Los_Angeles:20270110T200000
DTEND;TZID=America/Los_Angeles:20270110T220000
DTSTAMP:20260423T184406
CREATED:20250619T190615Z
LAST-MODIFIED:20250619T190615Z
UID:10005584-1799611200-1799618400@www.crestlinechamber.org
SUMMARY:Cosmic Bowling 🎳  🌌
DESCRIPTION:
URL:https://www.crestlinechamber.org/event/cosmic-bowling-%f0%9f%8e%b3-%f0%9f%8c%8c/2027-01-10/
LOCATION:RIM Bowling & Entertainment Center\, 23991 Lake Drive\, Crestline\, CA\, 92325
CATEGORIES:Community Event,Family Friendly
END:VEVENT
BEGIN:VEVENT
DTSTART;TZID=America/Los_Angeles:20270117T200000
DTEND;TZID=America/Los_Angeles:20270117T220000
DTSTAMP:20260423T184406
CREATED:20250619T190615Z
LAST-MODIFIED:20250619T190615Z
UID:10005585-1800216000-1800223200@www.crestlinechamber.org
SUMMARY:Cosmic Bowling 🎳  🌌
DESCRIPTION:
URL:https://www.crestlinechamber.org/event/cosmic-bowling-%f0%9f%8e%b3-%f0%9f%8c%8c/2027-01-17/
LOCATION:RIM Bowling & Entertainment Center\, 23991 Lake Drive\, Crestline\, CA\, 92325
CATEGORIES:Community Event,Family Friendly
END:VEVENT
BEGIN:VEVENT
DTSTART;TZID=America/Los_Angeles:20270124T200000
DTEND;TZID=America/Los_Angeles:20270124T220000
DTSTAMP:20260423T184406
CREATED:20250619T190615Z
LAST-MODIFIED:20250619T190615Z
UID:10005586-1800820800-1800828000@www.crestlinechamber.org
SUMMARY:Cosmic Bowling 🎳  🌌
DESCRIPTION:
URL:https://www.crestlinechamber.org/event/cosmic-bowling-%f0%9f%8e%b3-%f0%9f%8c%8c/2027-01-24/
LOCATION:RIM Bowling & Entertainment Center\, 23991 Lake Drive\, Crestline\, CA\, 92325
CATEGORIES:Community Event,Family Friendly
END:VEVENT
BEGIN:VEVENT
DTSTART;TZID=America/Los_Angeles:20270131T200000
DTEND;TZID=America/Los_Angeles:20270131T220000
DTSTAMP:20260423T184406
CREATED:20250619T190615Z
LAST-MODIFIED:20250619T190615Z
UID:10005587-1801425600-1801432800@www.crestlinechamber.org
SUMMARY:Cosmic Bowling 🎳  🌌
DESCRIPTION:
URL:https://www.crestlinechamber.org/event/cosmic-bowling-%f0%9f%8e%b3-%f0%9f%8c%8c/2027-01-31/
LOCATION:RIM Bowling & Entertainment Center\, 23991 Lake Drive\, Crestline\, CA\, 92325
CATEGORIES:Community Event,Family Friendly
END:VEVENT
BEGIN:VEVENT
DTSTART;TZID=America/Los_Angeles:20270207T200000
DTEND;TZID=America/Los_Angeles:20270207T220000
DTSTAMP:20260423T184406
CREATED:20250619T190615Z
LAST-MODIFIED:20250619T190615Z
UID:10005588-1802030400-1802037600@www.crestlinechamber.org
SUMMARY:Cosmic Bowling 🎳  🌌
DESCRIPTION:
URL:https://www.crestlinechamber.org/event/cosmic-bowling-%f0%9f%8e%b3-%f0%9f%8c%8c/2027-02-07/
LOCATION:RIM Bowling & Entertainment Center\, 23991 Lake Drive\, Crestline\, CA\, 92325
CATEGORIES:Community Event,Family Friendly
END:VEVENT
BEGIN:VEVENT
DTSTART;TZID=America/Los_Angeles:20270214T200000
DTEND;TZID=America/Los_Angeles:20270214T220000
DTSTAMP:20260423T184406
CREATED:20250619T190615Z
LAST-MODIFIED:20250619T190615Z
UID:10005589-1802635200-1802642400@www.crestlinechamber.org
SUMMARY:Cosmic Bowling 🎳  🌌
DESCRIPTION:
URL:https://www.crestlinechamber.org/event/cosmic-bowling-%f0%9f%8e%b3-%f0%9f%8c%8c/2027-02-14/
LOCATION:RIM Bowling & Entertainment Center\, 23991 Lake Drive\, Crestline\, CA\, 92325
CATEGORIES:Community Event,Family Friendly
END:VEVENT
BEGIN:VEVENT
DTSTART;TZID=America/Los_Angeles:20270221T200000
DTEND;TZID=America/Los_Angeles:20270221T220000
DTSTAMP:20260423T184406
CREATED:20250619T190615Z
LAST-MODIFIED:20250619T190615Z
UID:10005590-1803240000-1803247200@www.crestlinechamber.org
SUMMARY:Cosmic Bowling 🎳  🌌
DESCRIPTION:
URL:https://www.crestlinechamber.org/event/cosmic-bowling-%f0%9f%8e%b3-%f0%9f%8c%8c/2027-02-21/
LOCATION:RIM Bowling & Entertainment Center\, 23991 Lake Drive\, Crestline\, CA\, 92325
CATEGORIES:Community Event,Family Friendly
END:VEVENT
BEGIN:VEVENT
DTSTART;TZID=America/Los_Angeles:20270228T200000
DTEND;TZID=America/Los_Angeles:20270228T220000
DTSTAMP:20260423T184406
CREATED:20250619T190615Z
LAST-MODIFIED:20250619T190615Z
UID:10005591-1803844800-1803852000@www.crestlinechamber.org
SUMMARY:Cosmic Bowling 🎳  🌌
DESCRIPTION:
URL:https://www.crestlinechamber.org/event/cosmic-bowling-%f0%9f%8e%b3-%f0%9f%8c%8c/2027-02-28/
LOCATION:RIM Bowling & Entertainment Center\, 23991 Lake Drive\, Crestline\, CA\, 92325
CATEGORIES:Community Event,Family Friendly
END:VEVENT
BEGIN:VEVENT
DTSTART;TZID=America/Los_Angeles:20270307T200000
DTEND;TZID=America/Los_Angeles:20270307T220000
DTSTAMP:20260423T184406
CREATED:20250619T190615Z
LAST-MODIFIED:20250619T190615Z
UID:10005592-1804449600-1804456800@www.crestlinechamber.org
SUMMARY:Cosmic Bowling 🎳  🌌
DESCRIPTION:
URL:https://www.crestlinechamber.org/event/cosmic-bowling-%f0%9f%8e%b3-%f0%9f%8c%8c/2027-03-07/
LOCATION:RIM Bowling & Entertainment Center\, 23991 Lake Drive\, Crestline\, CA\, 92325
CATEGORIES:Community Event,Family Friendly
END:VEVENT
BEGIN:VEVENT
DTSTART;TZID=America/Los_Angeles:20270314T200000
DTEND;TZID=America/Los_Angeles:20270314T220000
DTSTAMP:20260423T184406
CREATED:20250619T190615Z
LAST-MODIFIED:20250619T190615Z
UID:10005593-1805054400-1805061600@www.crestlinechamber.org
SUMMARY:Cosmic Bowling 🎳  🌌
DESCRIPTION:
URL:https://www.crestlinechamber.org/event/cosmic-bowling-%f0%9f%8e%b3-%f0%9f%8c%8c/2027-03-14/
LOCATION:RIM Bowling & Entertainment Center\, 23991 Lake Drive\, Crestline\, CA\, 92325
CATEGORIES:Community Event,Family Friendly
END:VEVENT
BEGIN:VEVENT
DTSTART;TZID=America/Los_Angeles:20270321T200000
DTEND;TZID=America/Los_Angeles:20270321T220000
DTSTAMP:20260423T184406
CREATED:20250619T190615Z
LAST-MODIFIED:20250619T190615Z
UID:10005594-1805659200-1805666400@www.crestlinechamber.org
SUMMARY:Cosmic Bowling 🎳  🌌
DESCRIPTION:
URL:https://www.crestlinechamber.org/event/cosmic-bowling-%f0%9f%8e%b3-%f0%9f%8c%8c/2027-03-21/
LOCATION:RIM Bowling & Entertainment Center\, 23991 Lake Drive\, Crestline\, CA\, 92325
CATEGORIES:Community Event,Family Friendly
END:VEVENT
BEGIN:VEVENT
DTSTART;TZID=America/Los_Angeles:20270328T200000
DTEND;TZID=America/Los_Angeles:20270328T220000
DTSTAMP:20260423T184406
CREATED:20250619T190615Z
LAST-MODIFIED:20250619T190615Z
UID:10005595-1806264000-1806271200@www.crestlinechamber.org
SUMMARY:Cosmic Bowling 🎳  🌌
DESCRIPTION:
URL:https://www.crestlinechamber.org/event/cosmic-bowling-%f0%9f%8e%b3-%f0%9f%8c%8c/2027-03-28/
LOCATION:RIM Bowling & Entertainment Center\, 23991 Lake Drive\, Crestline\, CA\, 92325
CATEGORIES:Community Event,Family Friendly
END:VEVENT
BEGIN:VEVENT
DTSTART;TZID=America/Los_Angeles:20270404T200000
DTEND;TZID=America/Los_Angeles:20270404T220000
DTSTAMP:20260423T184406
CREATED:20250619T190615Z
LAST-MODIFIED:20250619T190615Z
UID:10005596-1806868800-1806876000@www.crestlinechamber.org
SUMMARY:Cosmic Bowling 🎳  🌌
DESCRIPTION:
URL:https://www.crestlinechamber.org/event/cosmic-bowling-%f0%9f%8e%b3-%f0%9f%8c%8c/2027-04-04/
LOCATION:RIM Bowling & Entertainment Center\, 23991 Lake Drive\, Crestline\, CA\, 92325
CATEGORIES:Community Event,Family Friendly
END:VEVENT
BEGIN:VEVENT
DTSTART;TZID=America/Los_Angeles:20270411T200000
DTEND;TZID=America/Los_Angeles:20270411T220000
DTSTAMP:20260423T184406
CREATED:20250619T190615Z
LAST-MODIFIED:20250619T190615Z
UID:10005597-1807473600-1807480800@www.crestlinechamber.org
SUMMARY:Cosmic Bowling 🎳  🌌
DESCRIPTION:
URL:https://www.crestlinechamber.org/event/cosmic-bowling-%f0%9f%8e%b3-%f0%9f%8c%8c/2027-04-11/
LOCATION:RIM Bowling & Entertainment Center\, 23991 Lake Drive\, Crestline\, CA\, 92325
CATEGORIES:Community Event,Family Friendly
END:VEVENT
BEGIN:VEVENT
DTSTART;TZID=America/Los_Angeles:20270418T200000
DTEND;TZID=America/Los_Angeles:20270418T220000
DTSTAMP:20260423T184406
CREATED:20250619T190615Z
LAST-MODIFIED:20250619T190615Z
UID:10005598-1808078400-1808085600@www.crestlinechamber.org
SUMMARY:Cosmic Bowling 🎳  🌌
DESCRIPTION:
URL:https://www.crestlinechamber.org/event/cosmic-bowling-%f0%9f%8e%b3-%f0%9f%8c%8c/2027-04-18/
LOCATION:RIM Bowling & Entertainment Center\, 23991 Lake Drive\, Crestline\, CA\, 92325
CATEGORIES:Community Event,Family Friendly
END:VEVENT
BEGIN:VEVENT
DTSTART;TZID=America/Los_Angeles:20270425T200000
DTEND;TZID=America/Los_Angeles:20270425T220000
DTSTAMP:20260423T184406
CREATED:20250619T190615Z
LAST-MODIFIED:20250619T190615Z
UID:10005599-1808683200-1808690400@www.crestlinechamber.org
SUMMARY:Cosmic Bowling 🎳  🌌
DESCRIPTION:
URL:https://www.crestlinechamber.org/event/cosmic-bowling-%f0%9f%8e%b3-%f0%9f%8c%8c/2027-04-25/
LOCATION:RIM Bowling & Entertainment Center\, 23991 Lake Drive\, Crestline\, CA\, 92325
CATEGORIES:Community Event,Family Friendly
END:VEVENT
BEGIN:VEVENT
DTSTART;TZID=America/Los_Angeles:20270502T200000
DTEND;TZID=America/Los_Angeles:20270502T220000
DTSTAMP:20260423T184406
CREATED:20250619T190615Z
LAST-MODIFIED:20250619T190615Z
UID:10005600-1809288000-1809295200@www.crestlinechamber.org
SUMMARY:Cosmic Bowling 🎳  🌌
DESCRIPTION:
URL:https://www.crestlinechamber.org/event/cosmic-bowling-%f0%9f%8e%b3-%f0%9f%8c%8c/2027-05-02/
LOCATION:RIM Bowling & Entertainment Center\, 23991 Lake Drive\, Crestline\, CA\, 92325
CATEGORIES:Community Event,Family Friendly
END:VEVENT
BEGIN:VEVENT
DTSTART;TZID=America/Los_Angeles:20270509T200000
DTEND;TZID=America/Los_Angeles:20270509T220000
DTSTAMP:20260423T184406
CREATED:20250619T190615Z
LAST-MODIFIED:20250619T190615Z
UID:10005601-1809892800-1809900000@www.crestlinechamber.org
SUMMARY:Cosmic Bowling 🎳  🌌
DESCRIPTION:
URL:https://www.crestlinechamber.org/event/cosmic-bowling-%f0%9f%8e%b3-%f0%9f%8c%8c/2027-05-09/
LOCATION:RIM Bowling & Entertainment Center\, 23991 Lake Drive\, Crestline\, CA\, 92325
CATEGORIES:Community Event,Family Friendly
END:VEVENT
BEGIN:VEVENT
DTSTART;TZID=America/Los_Angeles:20270516T200000
DTEND;TZID=America/Los_Angeles:20270516T220000
DTSTAMP:20260423T184406
CREATED:20250619T190615Z
LAST-MODIFIED:20250619T190615Z
UID:10005602-1810497600-1810504800@www.crestlinechamber.org
SUMMARY:Cosmic Bowling 🎳  🌌
DESCRIPTION:
URL:https://www.crestlinechamber.org/event/cosmic-bowling-%f0%9f%8e%b3-%f0%9f%8c%8c/2027-05-16/
LOCATION:RIM Bowling & Entertainment Center\, 23991 Lake Drive\, Crestline\, CA\, 92325
CATEGORIES:Community Event,Family Friendly
END:VEVENT
BEGIN:VEVENT
DTSTART;TZID=America/Los_Angeles:20270523T200000
DTEND;TZID=America/Los_Angeles:20270523T220000
DTSTAMP:20260423T184406
CREATED:20250619T190615Z
LAST-MODIFIED:20250619T190615Z
UID:10005603-1811102400-1811109600@www.crestlinechamber.org
SUMMARY:Cosmic Bowling 🎳  🌌
DESCRIPTION:
URL:https://www.crestlinechamber.org/event/cosmic-bowling-%f0%9f%8e%b3-%f0%9f%8c%8c/2027-05-23/
LOCATION:RIM Bowling & Entertainment Center\, 23991 Lake Drive\, Crestline\, CA\, 92325
CATEGORIES:Community Event,Family Friendly
END:VEVENT
BEGIN:VEVENT
DTSTART;TZID=America/Los_Angeles:20270530T200000
DTEND;TZID=America/Los_Angeles:20270530T220000
DTSTAMP:20260423T184406
CREATED:20250619T190615Z
LAST-MODIFIED:20250619T190615Z
UID:10005604-1811707200-1811714400@www.crestlinechamber.org
SUMMARY:Cosmic Bowling 🎳  🌌
DESCRIPTION:
URL:https://www.crestlinechamber.org/event/cosmic-bowling-%f0%9f%8e%b3-%f0%9f%8c%8c/2027-05-30/
LOCATION:RIM Bowling & Entertainment Center\, 23991 Lake Drive\, Crestline\, CA\, 92325
CATEGORIES:Community Event,Family Friendly
END:VEVENT
BEGIN:VEVENT
DTSTART;TZID=America/Los_Angeles:20270606T200000
DTEND;TZID=America/Los_Angeles:20270606T220000
DTSTAMP:20260423T184406
CREATED:20250619T190615Z
LAST-MODIFIED:20250619T190615Z
UID:10005605-1812312000-1812319200@www.crestlinechamber.org
SUMMARY:Cosmic Bowling 🎳  🌌
DESCRIPTION:
URL:https://www.crestlinechamber.org/event/cosmic-bowling-%f0%9f%8e%b3-%f0%9f%8c%8c/2027-06-06/
LOCATION:RIM Bowling & Entertainment Center\, 23991 Lake Drive\, Crestline\, CA\, 92325
CATEGORIES:Community Event,Family Friendly
END:VEVENT
BEGIN:VEVENT
DTSTART;TZID=America/Los_Angeles:20270613T200000
DTEND;TZID=America/Los_Angeles:20270613T220000
DTSTAMP:20260423T184406
CREATED:20250619T190615Z
LAST-MODIFIED:20250619T190615Z
UID:10005606-1812916800-1812924000@www.crestlinechamber.org
SUMMARY:Cosmic Bowling 🎳  🌌
DESCRIPTION:
URL:https://www.crestlinechamber.org/event/cosmic-bowling-%f0%9f%8e%b3-%f0%9f%8c%8c/2027-06-13/
LOCATION:RIM Bowling & Entertainment Center\, 23991 Lake Drive\, Crestline\, CA\, 92325
CATEGORIES:Community Event,Family Friendly
END:VEVENT
BEGIN:VEVENT
DTSTART;TZID=America/Los_Angeles:20270620T200000
DTEND;TZID=America/Los_Angeles:20270620T220000
DTSTAMP:20260423T184406
CREATED:20250619T190615Z
LAST-MODIFIED:20250619T190615Z
UID:10005607-1813521600-1813528800@www.crestlinechamber.org
SUMMARY:Cosmic Bowling 🎳  🌌
DESCRIPTION:
URL:https://www.crestlinechamber.org/event/cosmic-bowling-%f0%9f%8e%b3-%f0%9f%8c%8c/2027-06-20/
LOCATION:RIM Bowling & Entertainment Center\, 23991 Lake Drive\, Crestline\, CA\, 92325
CATEGORIES:Community Event,Family Friendly
END:VEVENT
BEGIN:VEVENT
DTSTART;TZID=America/Los_Angeles:20270627T200000
DTEND;TZID=America/Los_Angeles:20270627T220000
DTSTAMP:20260423T184406
CREATED:20250619T190615Z
LAST-MODIFIED:20250619T190615Z
UID:10005608-1814126400-1814133600@www.crestlinechamber.org
SUMMARY:Cosmic Bowling 🎳  🌌
DESCRIPTION:
URL:https://www.crestlinechamber.org/event/cosmic-bowling-%f0%9f%8e%b3-%f0%9f%8c%8c/2027-06-27/
LOCATION:RIM Bowling & Entertainment Center\, 23991 Lake Drive\, Crestline\, CA\, 92325
CATEGORIES:Community Event,Family Friendly
END:VEVENT
BEGIN:VEVENT
DTSTART;TZID=America/Los_Angeles:20270704T200000
DTEND;TZID=America/Los_Angeles:20270704T220000
DTSTAMP:20260423T184406
CREATED:20250619T190615Z
LAST-MODIFIED:20250619T190615Z
UID:10005609-1814731200-1814738400@www.crestlinechamber.org
SUMMARY:Cosmic Bowling 🎳  🌌
DESCRIPTION:
URL:https://www.crestlinechamber.org/event/cosmic-bowling-%f0%9f%8e%b3-%f0%9f%8c%8c/2027-07-04/
LOCATION:RIM Bowling & Entertainment Center\, 23991 Lake Drive\, Crestline\, CA\, 92325
CATEGORIES:Community Event,Family Friendly
END:VEVENT
BEGIN:VEVENT
DTSTART;TZID=America/Los_Angeles:20270711T200000
DTEND;TZID=America/Los_Angeles:20270711T220000
DTSTAMP:20260423T184406
CREATED:20250619T190615Z
LAST-MODIFIED:20250619T190615Z
UID:10005610-1815336000-1815343200@www.crestlinechamber.org
SUMMARY:Cosmic Bowling 🎳  🌌
DESCRIPTION:
URL:https://www.crestlinechamber.org/event/cosmic-bowling-%f0%9f%8e%b3-%f0%9f%8c%8c/2027-07-11/
LOCATION:RIM Bowling & Entertainment Center\, 23991 Lake Drive\, Crestline\, CA\, 92325
CATEGORIES:Community Event,Family Friendly
END:VEVENT
BEGIN:VEVENT
DTSTART;TZID=America/Los_Angeles:20270718T200000
DTEND;TZID=America/Los_Angeles:20270718T220000
DTSTAMP:20260423T184406
CREATED:20250619T190615Z
LAST-MODIFIED:20250619T190615Z
UID:10005611-1815940800-1815948000@www.crestlinechamber.org
SUMMARY:Cosmic Bowling 🎳  🌌
DESCRIPTION:
URL:https://www.crestlinechamber.org/event/cosmic-bowling-%f0%9f%8e%b3-%f0%9f%8c%8c/2027-07-18/
LOCATION:RIM Bowling & Entertainment Center\, 23991 Lake Drive\, Crestline\, CA\, 92325
CATEGORIES:Community Event,Family Friendly
END:VEVENT
BEGIN:VEVENT
DTSTART;TZID=America/Los_Angeles:20270725T200000
DTEND;TZID=America/Los_Angeles:20270725T220000
DTSTAMP:20260423T184406
CREATED:20250619T190615Z
LAST-MODIFIED:20250619T190615Z
UID:10005612-1816545600-1816552800@www.crestlinechamber.org
SUMMARY:Cosmic Bowling 🎳  🌌
DESCRIPTION:
URL:https://www.crestlinechamber.org/event/cosmic-bowling-%f0%9f%8e%b3-%f0%9f%8c%8c/2027-07-25/
LOCATION:RIM Bowling & Entertainment Center\, 23991 Lake Drive\, Crestline\, CA\, 92325
CATEGORIES:Community Event,Family Friendly
END:VEVENT
END:VCALENDAR