BEGIN:VCALENDAR
VERSION:2.0
PRODID:-//Crestline Chamber of Commerce - ECPv6.15.20//NONSGML v1.0//EN
CALSCALE:GREGORIAN
METHOD:PUBLISH
X-WR-CALNAME:Crestline Chamber of Commerce
X-ORIGINAL-URL:https://www.crestlinechamber.org
X-WR-CALDESC:Events for Crestline Chamber of Commerce
REFRESH-INTERVAL;VALUE=DURATION:PT1H
X-Robots-Tag:noindex
X-PUBLISHED-TTL:PT1H
BEGIN:VTIMEZONE
TZID:America/Los_Angeles
BEGIN:DAYLIGHT
TZOFFSETFROM:-0800
TZOFFSETTO:-0700
TZNAME:PDT
DTSTART:20240310T100000
END:DAYLIGHT
BEGIN:STANDARD
TZOFFSETFROM:-0700
TZOFFSETTO:-0800
TZNAME:PST
DTSTART:20241103T090000
END:STANDARD
BEGIN:DAYLIGHT
TZOFFSETFROM:-0800
TZOFFSETTO:-0700
TZNAME:PDT
DTSTART:20250309T100000
END:DAYLIGHT
BEGIN:STANDARD
TZOFFSETFROM:-0700
TZOFFSETTO:-0800
TZNAME:PST
DTSTART:20251102T090000
END:STANDARD
BEGIN:DAYLIGHT
TZOFFSETFROM:-0800
TZOFFSETTO:-0700
TZNAME:PDT
DTSTART:20260308T100000
END:DAYLIGHT
BEGIN:STANDARD
TZOFFSETFROM:-0700
TZOFFSETTO:-0800
TZNAME:PST
DTSTART:20261101T090000
END:STANDARD
END:VTIMEZONE
BEGIN:VEVENT
DTSTART;TZID=America/Los_Angeles:20250203T180000
DTEND;TZID=America/Los_Angeles:20250203T210000
DTSTAMP:20260424T044539
CREATED:20250130T172919Z
LAST-MODIFIED:20250130T172919Z
UID:10005299-1738605600-1738616400@www.crestlinechamber.org
SUMMARY:Pool Tournament 🏟️ 🎱
DESCRIPTION:Think you’ve got what it takes to run the table? Join us for an exciting Pool Tournament at Rim Sports Bar\, where skill\, strategy\, and a little bit of luck can make you the champion! \nRack ‘em up\, take your shot\, and compete for bragging rights and prizes! Whether you’re a seasoned pro or just playing for fun\, come enjoy great drinks\, good company\, and a night of friendly competition. 🎱🍺🔥
URL:https://www.crestlinechamber.org/event/pool-tournament-%f0%9f%8f%9f%ef%b8%8f-%f0%9f%8e%b1/
LOCATION:Rim of the World Sports Bar\, 23459 Crest Forest Dr.\, Unit 2\, Crestline\, CA\, 92325
CATEGORIES:Community Event,Family Friendly
END:VEVENT
BEGIN:VEVENT
DTSTART;TZID=America/Los_Angeles:20250130T190000
DTEND;TZID=America/Los_Angeles:20250130T210000
DTSTAMP:20260424T044539
CREATED:20250130T171815Z
LAST-MODIFIED:20250130T171815Z
UID:10004515-1738263600-1738270800@www.crestlinechamber.org
SUMMARY:🎤🎶 Karaoke Night with Kimberly Drum! 🥁
DESCRIPTION:It’s your time to shine! Join Kimberly Drum for a fun-filled Karaoke Night where you can sing your heart out\, cheer on friends\, and enjoy a night of music and good vibes! \nWhether you’re a rockstar in the making or just love to belt it out for fun\, this is the perfect place to let loose and hit the stage. Grab the mic\, bring your crew\, and let’s make it a night to remember! 🎶✨
URL:https://www.crestlinechamber.org/event/%f0%9f%8e%a4%f0%9f%8e%b6-karaoke-night-with-kimberly-drum-%f0%9f%a5%81/
LOCATION:Rim of the World Sports Bar\, 23459 Crest Forest Dr.\, Unit 2\, Crestline\, CA\, 92325
CATEGORIES:Community Event,Live Music
END:VEVENT
END:VCALENDAR