BEGIN:VCALENDAR
VERSION:2.0
PRODID:-//Crestline Chamber of Commerce - ECPv6.15.20//NONSGML v1.0//EN
CALSCALE:GREGORIAN
METHOD:PUBLISH
X-WR-CALNAME:Crestline Chamber of Commerce
X-ORIGINAL-URL:https://www.crestlinechamber.org
X-WR-CALDESC:Events for Crestline Chamber of Commerce
REFRESH-INTERVAL;VALUE=DURATION:PT1H
X-Robots-Tag:noindex
X-PUBLISHED-TTL:PT1H
BEGIN:VTIMEZONE
TZID:America/Los_Angeles
BEGIN:DAYLIGHT
TZOFFSETFROM:-0800
TZOFFSETTO:-0700
TZNAME:PDT
DTSTART:20230312T100000
END:DAYLIGHT
BEGIN:STANDARD
TZOFFSETFROM:-0700
TZOFFSETTO:-0800
TZNAME:PST
DTSTART:20231105T090000
END:STANDARD
BEGIN:DAYLIGHT
TZOFFSETFROM:-0800
TZOFFSETTO:-0700
TZNAME:PDT
DTSTART:20240310T100000
END:DAYLIGHT
BEGIN:STANDARD
TZOFFSETFROM:-0700
TZOFFSETTO:-0800
TZNAME:PST
DTSTART:20241103T090000
END:STANDARD
BEGIN:DAYLIGHT
TZOFFSETFROM:-0800
TZOFFSETTO:-0700
TZNAME:PDT
DTSTART:20250309T100000
END:DAYLIGHT
BEGIN:STANDARD
TZOFFSETFROM:-0700
TZOFFSETTO:-0800
TZNAME:PST
DTSTART:20251102T090000
END:STANDARD
END:VTIMEZONE
BEGIN:VEVENT
DTSTART;TZID=America/Los_Angeles:20240514T100000
DTEND;TZID=America/Los_Angeles:20240514T100000
DTSTAMP:20260424T005543
CREATED:20240429T182456Z
LAST-MODIFIED:20240429T182803Z
UID:10001310-1715680800-1715680800@www.crestlinechamber.org
SUMMARY:SBCTA's Mobility Needs Public Hearing
DESCRIPTION:
URL:https://www.crestlinechamber.org/event/sbctas-mobility-needs-public-hearing/
LOCATION:San Bernardino Transit Authority (SBCTA\, 1170 West 3rd Street\, First Floor\, San Bernardino\, CA\, 92410-1715\, United States
CATEGORIES:Community Meeting
ORGANIZER;CN="Mountain Transit / SBCTA":MAILTO:info@mountaintransit.org
END:VEVENT
END:VCALENDAR