BEGIN:VCALENDAR
VERSION:2.0
PRODID:-//Crestline Chamber of Commerce - ECPv6.15.20//NONSGML v1.0//EN
CALSCALE:GREGORIAN
METHOD:PUBLISH
X-WR-CALNAME:Crestline Chamber of Commerce
X-ORIGINAL-URL:https://www.crestlinechamber.org
X-WR-CALDESC:Events for Crestline Chamber of Commerce
REFRESH-INTERVAL;VALUE=DURATION:PT1H
X-Robots-Tag:noindex
X-PUBLISHED-TTL:PT1H
BEGIN:VTIMEZONE
TZID:America/Los_Angeles
BEGIN:DAYLIGHT
TZOFFSETFROM:-0800
TZOFFSETTO:-0700
TZNAME:PDT
DTSTART:20240310T100000
END:DAYLIGHT
BEGIN:STANDARD
TZOFFSETFROM:-0700
TZOFFSETTO:-0800
TZNAME:PST
DTSTART:20241103T090000
END:STANDARD
BEGIN:DAYLIGHT
TZOFFSETFROM:-0800
TZOFFSETTO:-0700
TZNAME:PDT
DTSTART:20250309T100000
END:DAYLIGHT
BEGIN:STANDARD
TZOFFSETFROM:-0700
TZOFFSETTO:-0800
TZNAME:PST
DTSTART:20251102T090000
END:STANDARD
BEGIN:DAYLIGHT
TZOFFSETFROM:-0800
TZOFFSETTO:-0700
TZNAME:PDT
DTSTART:20260308T100000
END:DAYLIGHT
BEGIN:STANDARD
TZOFFSETFROM:-0700
TZOFFSETTO:-0800
TZNAME:PST
DTSTART:20261101T090000
END:STANDARD
END:VTIMEZONE
BEGIN:VEVENT
DTSTART;TZID=America/Los_Angeles:20250522T190000
DTEND;TZID=America/Los_Angeles:20250523T000000
DTSTAMP:20260424T040047
CREATED:20250409T212833Z
LAST-MODIFIED:20250409T212833Z
UID:10005375-1747940400-1747958400@www.crestlinechamber.org
SUMMARY:Pre-Memorial day weekend party at The Stockade
DESCRIPTION:Join us for a high-energy\, all-ages night of music at The Stockade in Crestline! This free community event features a rare mountain appearance by members of internationally known acts and promises to be a night to remember. \n🔥 Live Performances by: \nRoots and The Barrio – Ska/rocksteady from Los Angeles featuring Alfredo Gonzalez\, former lead singer of Madcap \nBilly Liar – Pirate’s Press recording artist making a special stop from the UK \nDJ Rock ‘N Roll Rick of The Casualties – spinning all your punk and ska favorites all night long \nThis is a unique opportunity to catch these renowned performers in an intimate mountain setting\, and it’s totally free to the local community! \n📍 Don’t miss this celebration before Memorial Day weekend officially kicks off. Bring your friends\, bring the vibes—let’s pack the place and make it a night Crestline won’t forget!
URL:https://www.crestlinechamber.org/event/pre-memorial-day-weekend-party-at-the-stockade/
LOCATION:stockade grub and whiskey\, 23881 Lake Drive\, Crestline\, 92325\, United States
CATEGORIES:Live Music
ORGANIZER;CN="stockade grub and whiskey":MAILTO:info@stockadegrubandwhiskey.com
END:VEVENT
END:VCALENDAR