BEGIN:VCALENDAR
VERSION:2.0
PRODID:-//Crestline Chamber of Commerce - ECPv6.15.20//NONSGML v1.0//EN
CALSCALE:GREGORIAN
METHOD:PUBLISH
X-ORIGINAL-URL:https://www.crestlinechamber.org
X-WR-CALDESC:Events for Crestline Chamber of Commerce
REFRESH-INTERVAL;VALUE=DURATION:PT1H
X-Robots-Tag:noindex
X-PUBLISHED-TTL:PT1H
BEGIN:VTIMEZONE
TZID:America/Los_Angeles
BEGIN:DAYLIGHT
TZOFFSETFROM:-0800
TZOFFSETTO:-0700
TZNAME:PDT
DTSTART:20210314T100000
END:DAYLIGHT
BEGIN:STANDARD
TZOFFSETFROM:-0700
TZOFFSETTO:-0800
TZNAME:PST
DTSTART:20211107T090000
END:STANDARD
BEGIN:DAYLIGHT
TZOFFSETFROM:-0800
TZOFFSETTO:-0700
TZNAME:PDT
DTSTART:20220313T100000
END:DAYLIGHT
BEGIN:STANDARD
TZOFFSETFROM:-0700
TZOFFSETTO:-0800
TZNAME:PST
DTSTART:20221106T090000
END:STANDARD
BEGIN:DAYLIGHT
TZOFFSETFROM:-0800
TZOFFSETTO:-0700
TZNAME:PDT
DTSTART:20230312T100000
END:DAYLIGHT
BEGIN:STANDARD
TZOFFSETFROM:-0700
TZOFFSETTO:-0800
TZNAME:PST
DTSTART:20231105T090000
END:STANDARD
BEGIN:DAYLIGHT
TZOFFSETFROM:-0800
TZOFFSETTO:-0700
TZNAME:PDT
DTSTART:20240310T100000
END:DAYLIGHT
BEGIN:STANDARD
TZOFFSETFROM:-0700
TZOFFSETTO:-0800
TZNAME:PST
DTSTART:20241103T090000
END:STANDARD
BEGIN:DAYLIGHT
TZOFFSETFROM:-0800
TZOFFSETTO:-0700
TZNAME:PDT
DTSTART:20250309T100000
END:DAYLIGHT
BEGIN:STANDARD
TZOFFSETFROM:-0700
TZOFFSETTO:-0800
TZNAME:PST
DTSTART:20251102T090000
END:STANDARD
BEGIN:DAYLIGHT
TZOFFSETFROM:-0800
TZOFFSETTO:-0700
TZNAME:PDT
DTSTART:20260308T100000
END:DAYLIGHT
BEGIN:STANDARD
TZOFFSETFROM:-0700
TZOFFSETTO:-0800
TZNAME:PST
DTSTART:20261101T090000
END:STANDARD
END:VTIMEZONE
BEGIN:VEVENT
DTSTART;TZID=America/Los_Angeles:20250927T150000
DTEND;TZID=America/Los_Angeles:20250927T170000
DTSTAMP:20260423T153903
CREATED:20250922T214755Z
LAST-MODIFIED:20250922T214755Z
UID:10006937-1758985200-1758992400@www.crestlinechamber.org
SUMMARY:California Will Be Saved - Crestline 🙏
DESCRIPTION:
URL:https://www.crestlinechamber.org/event/california-will-be-saved-crestline-%f0%9f%99%8f/
LOCATION:The Meadow at Lake Gregory\, 24640 San Moritz Dr\, Crestline\, CA\, 92325\, United States
CATEGORIES:Community Event,Family Friendly,Lake Gregory
ATTACH;FMTTYPE=image/png:https://www.crestlinechamber.org/wp-content/uploads/2025/09/unnamed-copy.png
GEO:34.2389643;-117.2661879
X-APPLE-STRUCTURED-LOCATION;VALUE=URI;X-ADDRESS=The Meadow at Lake Gregory 24640 San Moritz Dr Crestline CA 92325 United States;X-APPLE-RADIUS=500;X-TITLE=24640 San Moritz Dr:geo:-117.2661879,34.2389643
END:VEVENT
BEGIN:VEVENT
DTSTART;TZID=America/Los_Angeles:20250806T200000
DTEND;TZID=America/Los_Angeles:20250806T220000
DTSTAMP:20260423T153903
CREATED:20250619T200051Z
LAST-MODIFIED:20250619T200051Z
UID:10005781-1754510400-1754517600@www.crestlinechamber.org
SUMMARY:Sunset Movie Nights 🍿 🎥
DESCRIPTION:
URL:https://www.crestlinechamber.org/event/sunset-movie-nights-%f0%9f%8d%bf-%f0%9f%8e%a5/2025-08-06/
LOCATION:The Meadow at Lake Gregory\, 24640 San Moritz Dr\, Crestline\, CA\, 92325\, United States
GEO:34.2389643;-117.2661879
X-APPLE-STRUCTURED-LOCATION;VALUE=URI;X-ADDRESS=The Meadow at Lake Gregory 24640 San Moritz Dr Crestline CA 92325 United States;X-APPLE-RADIUS=500;X-TITLE=24640 San Moritz Dr:geo:-117.2661879,34.2389643
END:VEVENT
BEGIN:VEVENT
DTSTART;TZID=America/Los_Angeles:20250730T200000
DTEND;TZID=America/Los_Angeles:20250730T220000
DTSTAMP:20260423T153903
CREATED:20250619T200051Z
LAST-MODIFIED:20250619T200051Z
UID:10005780-1753905600-1753912800@www.crestlinechamber.org
SUMMARY:Sunset Movie Nights 🍿 🎥
DESCRIPTION:
URL:https://www.crestlinechamber.org/event/sunset-movie-nights-%f0%9f%8d%bf-%f0%9f%8e%a5/2025-07-30/
LOCATION:The Meadow at Lake Gregory\, 24640 San Moritz Dr\, Crestline\, CA\, 92325\, United States
GEO:34.2389643;-117.2661879
X-APPLE-STRUCTURED-LOCATION;VALUE=URI;X-ADDRESS=The Meadow at Lake Gregory 24640 San Moritz Dr Crestline CA 92325 United States;X-APPLE-RADIUS=500;X-TITLE=24640 San Moritz Dr:geo:-117.2661879,34.2389643
END:VEVENT
BEGIN:VEVENT
DTSTART;TZID=America/Los_Angeles:20250723T200000
DTEND;TZID=America/Los_Angeles:20250723T220000
DTSTAMP:20260423T153903
CREATED:20250619T200051Z
LAST-MODIFIED:20250619T200051Z
UID:10005779-1753300800-1753308000@www.crestlinechamber.org
SUMMARY:Sunset Movie Nights 🍿 🎥
DESCRIPTION:
URL:https://www.crestlinechamber.org/event/sunset-movie-nights-%f0%9f%8d%bf-%f0%9f%8e%a5/2025-07-23/
LOCATION:The Meadow at Lake Gregory\, 24640 San Moritz Dr\, Crestline\, CA\, 92325\, United States
GEO:34.2389643;-117.2661879
X-APPLE-STRUCTURED-LOCATION;VALUE=URI;X-ADDRESS=The Meadow at Lake Gregory 24640 San Moritz Dr Crestline CA 92325 United States;X-APPLE-RADIUS=500;X-TITLE=24640 San Moritz Dr:geo:-117.2661879,34.2389643
END:VEVENT
BEGIN:VEVENT
DTSTART;TZID=America/Los_Angeles:20250716T200000
DTEND;TZID=America/Los_Angeles:20250716T220000
DTSTAMP:20260423T153903
CREATED:20250619T200051Z
LAST-MODIFIED:20250619T200051Z
UID:10005778-1752696000-1752703200@www.crestlinechamber.org
SUMMARY:Sunset Movie Nights 🍿 🎥
DESCRIPTION:
URL:https://www.crestlinechamber.org/event/sunset-movie-nights-%f0%9f%8d%bf-%f0%9f%8e%a5/2025-07-16/
LOCATION:The Meadow at Lake Gregory\, 24640 San Moritz Dr\, Crestline\, CA\, 92325\, United States
GEO:34.2389643;-117.2661879
X-APPLE-STRUCTURED-LOCATION;VALUE=URI;X-ADDRESS=The Meadow at Lake Gregory 24640 San Moritz Dr Crestline CA 92325 United States;X-APPLE-RADIUS=500;X-TITLE=24640 San Moritz Dr:geo:-117.2661879,34.2389643
END:VEVENT
BEGIN:VEVENT
DTSTART;TZID=America/Los_Angeles:20250713T130000
DTEND;TZID=America/Los_Angeles:20250713T170000
DTSTAMP:20260423T153903
CREATED:20250619T195546Z
LAST-MODIFIED:20250619T195546Z
UID:10005774-1752411600-1752426000@www.crestlinechamber.org
SUMMARY:Paws N' Paddles 🐶 🐾
DESCRIPTION:
URL:https://www.crestlinechamber.org/event/paws-n-paddles-%f0%9f%90%b6-%f0%9f%90%be/
LOCATION:The Meadow at Lake Gregory\, 24640 San Moritz Dr\, Crestline\, CA\, 92325\, United States
CATEGORIES:Community Event,Family Friendly,Lake Gregory
GEO:34.2389643;-117.2661879
X-APPLE-STRUCTURED-LOCATION;VALUE=URI;X-ADDRESS=The Meadow at Lake Gregory 24640 San Moritz Dr Crestline CA 92325 United States;X-APPLE-RADIUS=500;X-TITLE=24640 San Moritz Dr:geo:-117.2661879,34.2389643
END:VEVENT
BEGIN:VEVENT
DTSTART;TZID=America/Los_Angeles:20250709T200000
DTEND;TZID=America/Los_Angeles:20250709T220000
DTSTAMP:20260423T153903
CREATED:20250619T200051Z
LAST-MODIFIED:20250619T200051Z
UID:10005777-1752091200-1752098400@www.crestlinechamber.org
SUMMARY:Sunset Movie Nights 🍿 🎥
DESCRIPTION:
URL:https://www.crestlinechamber.org/event/sunset-movie-nights-%f0%9f%8d%bf-%f0%9f%8e%a5/2025-07-09/
LOCATION:The Meadow at Lake Gregory\, 24640 San Moritz Dr\, Crestline\, CA\, 92325\, United States
GEO:34.2389643;-117.2661879
X-APPLE-STRUCTURED-LOCATION;VALUE=URI;X-ADDRESS=The Meadow at Lake Gregory 24640 San Moritz Dr Crestline CA 92325 United States;X-APPLE-RADIUS=500;X-TITLE=24640 San Moritz Dr:geo:-117.2661879,34.2389643
END:VEVENT
BEGIN:VEVENT
DTSTART;TZID=America/Los_Angeles:20250702T200000
DTEND;TZID=America/Los_Angeles:20250702T220000
DTSTAMP:20260423T153903
CREATED:20250619T200051Z
LAST-MODIFIED:20250619T200051Z
UID:10005776-1751486400-1751493600@www.crestlinechamber.org
SUMMARY:Sunset Movie Nights 🍿 🎥
DESCRIPTION:
URL:https://www.crestlinechamber.org/event/sunset-movie-nights-%f0%9f%8d%bf-%f0%9f%8e%a5/2025-07-02/
LOCATION:The Meadow at Lake Gregory\, 24640 San Moritz Dr\, Crestline\, CA\, 92325\, United States
GEO:34.2389643;-117.2661879
X-APPLE-STRUCTURED-LOCATION;VALUE=URI;X-ADDRESS=The Meadow at Lake Gregory 24640 San Moritz Dr Crestline CA 92325 United States;X-APPLE-RADIUS=500;X-TITLE=24640 San Moritz Dr:geo:-117.2661879,34.2389643
END:VEVENT
BEGIN:VEVENT
DTSTART;TZID=America/Los_Angeles:20250629T170000
DTEND;TZID=America/Los_Angeles:20250629T180000
DTSTAMP:20260423T153903
CREATED:20250114T201844Z
LAST-MODIFIED:20250424T210543Z
UID:10002031-1751216400-1751220000@www.crestlinechamber.org
SUMMARY:Duck Derby 🦆
DESCRIPTION:🦆🎏 It’s time to let the fun take flight at the Annual Duck Derby Race  🌈 Watch as thousands of rubber ducks race to victory!  This family-favorite event is packed with laughter and friendly competition\, so don’t miss it! 🎉
URL:https://www.crestlinechamber.org/event/duck-derby-kite-festival-%f0%9f%aa%81-%f0%9f%a6%86/
LOCATION:The Meadow at Lake Gregory\, 24640 San Moritz Dr\, Crestline\, CA\, 92325\, United States
CATEGORIES:Community Event,Crestline Chamber Event,Family Friendly,Lake Gregory
GEO:34.2389643;-117.2661879
X-APPLE-STRUCTURED-LOCATION;VALUE=URI;X-ADDRESS=The Meadow at Lake Gregory 24640 San Moritz Dr Crestline CA 92325 United States;X-APPLE-RADIUS=500;X-TITLE=24640 San Moritz Dr:geo:-117.2661879,34.2389643
END:VEVENT
BEGIN:VEVENT
DTSTART;TZID=America/Los_Angeles:20250629T120000
DTEND;TZID=America/Los_Angeles:20250629T170000
DTSTAMP:20260423T153903
CREATED:20250114T203647Z
LAST-MODIFIED:20250424T210640Z
UID:10002033-1751198400-1751216400@www.crestlinechamber.org
SUMMARY:Annual Community Picnic 🧺 🍎🍊🍓🍉🥪🍦🥤
DESCRIPTION:🌞 Gather your friends and family for Crestline’s Annual Community Picnic—a day filled with good food\, great company\, and endless fun! 🍔🌭 Enjoy live music\, exciting games\, and activities for all ages as we come together to celebrate the heart of our community. Whether you’re relaxing on a blanket or joining in the laughter and games\, this cherished tradition is the perfect way to make summer memories in Crestline. Don’t miss the smiles\, sunshine\, and small-town charm! 🌻🎶
URL:https://www.crestlinechamber.org/event/annual-community-picnic-%f0%9f%a7%ba-%f0%9f%8d%8e%f0%9f%8d%8a%f0%9f%8d%93%f0%9f%8d%89%f0%9f%a5%aa%f0%9f%8d%a6%f0%9f%a5%a4/
LOCATION:The Meadow at Lake Gregory\, 24640 San Moritz Dr\, Crestline\, CA\, 92325\, United States
CATEGORIES:Community Event,Crestline Chamber Event,Family Friendly,Lake Gregory,Live Music
GEO:34.2389643;-117.2661879
X-APPLE-STRUCTURED-LOCATION;VALUE=URI;X-ADDRESS=The Meadow at Lake Gregory 24640 San Moritz Dr Crestline CA 92325 United States;X-APPLE-RADIUS=500;X-TITLE=24640 San Moritz Dr:geo:-117.2661879,34.2389643
END:VEVENT
BEGIN:VEVENT
DTSTART;TZID=America/Los_Angeles:20250625T200000
DTEND;TZID=America/Los_Angeles:20250625T220000
DTSTAMP:20260423T153903
CREATED:20250619T200051Z
LAST-MODIFIED:20250619T200051Z
UID:10005775-1750881600-1750888800@www.crestlinechamber.org
SUMMARY:Sunset Movie Nights 🍿 🎥
DESCRIPTION:
URL:https://www.crestlinechamber.org/event/sunset-movie-nights-%f0%9f%8d%bf-%f0%9f%8e%a5/2025-06-25/
LOCATION:The Meadow at Lake Gregory\, 24640 San Moritz Dr\, Crestline\, CA\, 92325\, United States
GEO:34.2389643;-117.2661879
X-APPLE-STRUCTURED-LOCATION;VALUE=URI;X-ADDRESS=The Meadow at Lake Gregory 24640 San Moritz Dr Crestline CA 92325 United States;X-APPLE-RADIUS=500;X-TITLE=24640 San Moritz Dr:geo:-117.2661879,34.2389643
END:VEVENT
BEGIN:VEVENT
DTSTART;TZID=America/Los_Angeles:20230812T063000
DTEND;TZID=America/Los_Angeles:20230812T100000
DTSTAMP:20260423T153903
CREATED:20230720T162651Z
LAST-MODIFIED:20230720T162651Z
UID:10000299-1691821800-1691834400@www.crestlinechamber.org
SUMMARY:Run Through The Pines
DESCRIPTION:The Run Through the Pines is a San Bernardino Rim Mountain Community Event and is one of the longest “running” runs in Southern California (the first one was in 1979). It features a 10K and 5K run (or walk) around Lake Gregory and is brought on by community support from sponsors\, vendors\, and volunteers from all over the mountain.
URL:https://www.crestlinechamber.org/event/run-through-the-pines/
LOCATION:The Meadow at Lake Gregory\, 24640 San Moritz Dr\, Crestline\, CA\, 92325\, United States
CATEGORIES:Family Friendly,Lake Gregory
GEO:34.2389643;-117.2661879
X-APPLE-STRUCTURED-LOCATION;VALUE=URI;X-ADDRESS=The Meadow at Lake Gregory 24640 San Moritz Dr Crestline CA 92325 United States;X-APPLE-RADIUS=500;X-TITLE=24640 San Moritz Dr:geo:-117.2661879,34.2389643
END:VEVENT
BEGIN:VEVENT
DTSTART;TZID=America/Los_Angeles:20230629T200000
DTEND;TZID=America/Los_Angeles:20230824T220000
DTSTAMP:20260423T153903
CREATED:20230617T233757Z
LAST-MODIFIED:20230617T233757Z
UID:10000288-1688068800-1692914400@www.crestlinechamber.org
SUMMARY:Summer Movie Series
DESCRIPTION:Join us for a movie under the stars! Blankets and lawn chairs are welcome as we transform our meadow into a movie theatre. This event is free and takes place every Thursday at sunset from June 8th – Aug. 3rd.
URL:https://www.crestlinechamber.org/event/summer-movie-series/2023-06-29/
LOCATION:The Meadow at Lake Gregory\, 24640 San Moritz Dr\, Crestline\, CA\, 92325\, United States
GEO:34.2389643;-117.2661879
X-APPLE-STRUCTURED-LOCATION;VALUE=URI;X-ADDRESS=The Meadow at Lake Gregory 24640 San Moritz Dr Crestline CA 92325 United States;X-APPLE-RADIUS=500;X-TITLE=24640 San Moritz Dr:geo:-117.2661879,34.2389643
END:VEVENT
BEGIN:VEVENT
DTSTART;TZID=America/Los_Angeles:20230622T200000
DTEND;TZID=America/Los_Angeles:20230817T220000
DTSTAMP:20260423T153903
CREATED:20230617T233757Z
LAST-MODIFIED:20230617T233757Z
UID:10000287-1687464000-1692309600@www.crestlinechamber.org
SUMMARY:Summer Movie Series
DESCRIPTION:Join us for a movie under the stars! Blankets and lawn chairs are welcome as we transform our meadow into a movie theatre. This event is free and takes place every Thursday at sunset from June 8th – Aug. 3rd.
URL:https://www.crestlinechamber.org/event/summer-movie-series/2023-06-22/
LOCATION:The Meadow at Lake Gregory\, 24640 San Moritz Dr\, Crestline\, CA\, 92325\, United States
GEO:34.2389643;-117.2661879
X-APPLE-STRUCTURED-LOCATION;VALUE=URI;X-ADDRESS=The Meadow at Lake Gregory 24640 San Moritz Dr Crestline CA 92325 United States;X-APPLE-RADIUS=500;X-TITLE=24640 San Moritz Dr:geo:-117.2661879,34.2389643
END:VEVENT
BEGIN:VEVENT
DTSTART;TZID=America/Los_Angeles:20230615T200000
DTEND;TZID=America/Los_Angeles:20230810T220000
DTSTAMP:20260423T153903
CREATED:20230617T233757Z
LAST-MODIFIED:20230617T233757Z
UID:10000286-1686859200-1691704800@www.crestlinechamber.org
SUMMARY:Summer Movie Series
DESCRIPTION:Join us for a movie under the stars! Blankets and lawn chairs are welcome as we transform our meadow into a movie theatre. This event is free and takes place every Thursday at sunset from June 8th – Aug. 3rd.
URL:https://www.crestlinechamber.org/event/summer-movie-series/2023-06-15/
LOCATION:The Meadow at Lake Gregory\, 24640 San Moritz Dr\, Crestline\, CA\, 92325\, United States
GEO:34.2389643;-117.2661879
X-APPLE-STRUCTURED-LOCATION;VALUE=URI;X-ADDRESS=The Meadow at Lake Gregory 24640 San Moritz Dr Crestline CA 92325 United States;X-APPLE-RADIUS=500;X-TITLE=24640 San Moritz Dr:geo:-117.2661879,34.2389643
END:VEVENT
BEGIN:VEVENT
DTSTART;TZID=America/Los_Angeles:20230608T200000
DTEND;TZID=America/Los_Angeles:20230803T220000
DTSTAMP:20260423T153903
CREATED:20230617T233757Z
LAST-MODIFIED:20230617T233757Z
UID:10000285-1686254400-1691100000@www.crestlinechamber.org
SUMMARY:Summer Movie Series
DESCRIPTION:Join us for a movie under the stars! Blankets and lawn chairs are welcome as we transform our meadow into a movie theatre. This event is free and takes place every Thursday at sunset from June 8th – Aug. 3rd.
URL:https://www.crestlinechamber.org/event/summer-movie-series/2023-06-08/
LOCATION:The Meadow at Lake Gregory\, 24640 San Moritz Dr\, Crestline\, CA\, 92325\, United States
GEO:34.2389643;-117.2661879
X-APPLE-STRUCTURED-LOCATION;VALUE=URI;X-ADDRESS=The Meadow at Lake Gregory 24640 San Moritz Dr Crestline CA 92325 United States;X-APPLE-RADIUS=500;X-TITLE=24640 San Moritz Dr:geo:-117.2661879,34.2389643
END:VEVENT
BEGIN:VEVENT
DTSTART;VALUE=DATE:20230513
DTEND;VALUE=DATE:20230514
DTSTAMP:20260423T153903
CREATED:20230502T193217Z
LAST-MODIFIED:20230502T194514Z
UID:10000239-1683936000-1684022399@www.crestlinechamber.org
SUMMARY:Kite Day at Lake Gregory
DESCRIPTION:Kite Day\nSaturday May 13th\,\n10:00am \nCost: FREE! \nLocation: The Lakeside Meadow\n24640 San Moritz Dr\, Crestline\, CA 92325\nYou’re invited to join us on Kite Day\, May 13th at the Lakeside Meadow! Bring the family\, pack a lunch\, and head to the meadow for kite flying. The Mom + Dad Project and Rad Kidz will be participating in fun activities for the kiddos!\nThere will be a kite and food vendor and snacks and beverages will be available for purchase. We look forward to seeing you!\nContact: Phone 909-338-2233  or Email info@lakegregory.com
URL:https://www.crestlinechamber.org/event/29959/
LOCATION:The Meadow at Lake Gregory\, 24640 San Moritz Dr\, Crestline\, CA\, 92325\, United States
CATEGORIES:Family Friendly,Lake Gregory
ORGANIZER;CN="the Mom + Dad Project":MAILTO:mndclassroom@gmail.com
GEO:34.2389643;-117.2661879
X-APPLE-STRUCTURED-LOCATION;VALUE=URI;X-ADDRESS=The Meadow at Lake Gregory 24640 San Moritz Dr Crestline CA 92325 United States;X-APPLE-RADIUS=500;X-TITLE=24640 San Moritz Dr:geo:-117.2661879,34.2389643
END:VEVENT
BEGIN:VEVENT
DTSTART;TZID=America/Los_Angeles:20221119T120000
DTEND;TZID=America/Los_Angeles:20221119T170000
DTSTAMP:20260423T153903
CREATED:20221003T211300Z
LAST-MODIFIED:20221003T211300Z
UID:10000170-1668859200-1668877200@www.crestlinechamber.org
SUMMARY:Lake Gregory's Fall Festival
DESCRIPTION:The Lake Gregory Company is hosting the 2nd annual Fall Festival November 19th at The Meadow. This is a free community event\, some activities will require ticket purchase. There will be fun for the whole family at this event\, and prizes to be won! Cash bar\, Music\, Food & Craft vendors for all to enjoy!
URL:https://www.crestlinechamber.org/event/lake-gregorys-fall-festival/
LOCATION:The Meadow at Lake Gregory\, 24640 San Moritz Dr\, Crestline\, CA\, 92325\, United States
GEO:34.2389643;-117.2661879
X-APPLE-STRUCTURED-LOCATION;VALUE=URI;X-ADDRESS=The Meadow at Lake Gregory 24640 San Moritz Dr Crestline CA 92325 United States;X-APPLE-RADIUS=500;X-TITLE=24640 San Moritz Dr:geo:-117.2661879,34.2389643
END:VEVENT
BEGIN:VEVENT
DTSTART;TZID=America/Los_Angeles:20221029T190000
DTEND;TZID=America/Los_Angeles:20221029T210000
DTSTAMP:20260423T153903
CREATED:20221003T211329Z
LAST-MODIFIED:20221003T211329Z
UID:10000171-1667070000-1667077200@www.crestlinechamber.org
SUMMARY:Lake Gregory's PJs In The Park
DESCRIPTION:The Lake Gregory Company is hosting PJs in the Park October 29th at 7pm located on the Meadow! This is a free event with popcorn & refreshments available for purchase. Bring a blanket and friends\, we’ll see you there!
URL:https://www.crestlinechamber.org/event/lake-gregorys-pjs-in-the-park/
LOCATION:The Meadow at Lake Gregory\, 24640 San Moritz Dr\, Crestline\, CA\, 92325\, United States
CATEGORIES:Family Friendly,Lake Gregory
GEO:34.2389643;-117.2661879
X-APPLE-STRUCTURED-LOCATION;VALUE=URI;X-ADDRESS=The Meadow at Lake Gregory 24640 San Moritz Dr Crestline CA 92325 United States;X-APPLE-RADIUS=500;X-TITLE=24640 San Moritz Dr:geo:-117.2661879,34.2389643
END:VEVENT
END:VCALENDAR