BEGIN:VCALENDAR
VERSION:2.0
PRODID:-//Crestline Chamber of Commerce - ECPv6.15.20//NONSGML v1.0//EN
CALSCALE:GREGORIAN
METHOD:PUBLISH
X-ORIGINAL-URL:https://www.crestlinechamber.org
X-WR-CALDESC:Events for Crestline Chamber of Commerce
REFRESH-INTERVAL;VALUE=DURATION:PT1H
X-Robots-Tag:noindex
X-PUBLISHED-TTL:PT1H
BEGIN:VTIMEZONE
TZID:America/Los_Angeles
BEGIN:DAYLIGHT
TZOFFSETFROM:-0800
TZOFFSETTO:-0700
TZNAME:PDT
DTSTART:20250309T100000
END:DAYLIGHT
BEGIN:STANDARD
TZOFFSETFROM:-0700
TZOFFSETTO:-0800
TZNAME:PST
DTSTART:20251102T090000
END:STANDARD
BEGIN:DAYLIGHT
TZOFFSETFROM:-0800
TZOFFSETTO:-0700
TZNAME:PDT
DTSTART:20260308T100000
END:DAYLIGHT
BEGIN:STANDARD
TZOFFSETFROM:-0700
TZOFFSETTO:-0800
TZNAME:PST
DTSTART:20261101T090000
END:STANDARD
BEGIN:DAYLIGHT
TZOFFSETFROM:-0800
TZOFFSETTO:-0700
TZNAME:PDT
DTSTART:20270314T100000
END:DAYLIGHT
BEGIN:STANDARD
TZOFFSETFROM:-0700
TZOFFSETTO:-0800
TZNAME:PST
DTSTART:20271107T090000
END:STANDARD
BEGIN:DAYLIGHT
TZOFFSETFROM:-0800
TZOFFSETTO:-0700
TZNAME:PDT
DTSTART:20280312T100000
END:DAYLIGHT
BEGIN:STANDARD
TZOFFSETFROM:-0700
TZOFFSETTO:-0800
TZNAME:PST
DTSTART:20281105T090000
END:STANDARD
END:VTIMEZONE
BEGIN:VEVENT
DTSTART;TZID=America/Los_Angeles:20261008T180000
DTEND;TZID=America/Los_Angeles:20261008T220000
DTSTAMP:20260423T152148
CREATED:20250127T232001Z
LAST-MODIFIED:20250127T232001Z
UID:10003236-1791482400-1791496800@www.crestlinechamber.org
SUMMARY:Game Nights 🏆🎲♟️🎯🎮
DESCRIPTION:Looking for a fun night out? Join us at San Marzano Wine & Ale Lounge for Game Nights! \n🃏 Play your favorite board games\, card games\, and more while enjoying a night out!  Bring your friends or make new ones—it’s all about good vibes and great times!
URL:https://www.crestlinechamber.org/event/game-nights-%f0%9f%8f%86%f0%9f%8e%b2%e2%99%9f%ef%b8%8f%f0%9f%8e%af%f0%9f%8e%ae/2026-10-08/
LOCATION:The San Marzano Wine & Ale Lounge\, 23575 Lake Dr\, crestline\, CA\, 92325\, United States
CATEGORIES:Community Event,Family Friendly,Lake Gregory
ORGANIZER;CN="San Marzano Wine & Ale Lounge":MAILTO:kenrwilliams@icloud.com
END:VEVENT
BEGIN:VEVENT
DTSTART;TZID=America/Los_Angeles:20261015T180000
DTEND;TZID=America/Los_Angeles:20261015T220000
DTSTAMP:20260423T152148
CREATED:20250127T232001Z
LAST-MODIFIED:20250127T232001Z
UID:10003237-1792087200-1792101600@www.crestlinechamber.org
SUMMARY:Game Nights 🏆🎲♟️🎯🎮
DESCRIPTION:Looking for a fun night out? Join us at San Marzano Wine & Ale Lounge for Game Nights! \n🃏 Play your favorite board games\, card games\, and more while enjoying a night out!  Bring your friends or make new ones—it’s all about good vibes and great times!
URL:https://www.crestlinechamber.org/event/game-nights-%f0%9f%8f%86%f0%9f%8e%b2%e2%99%9f%ef%b8%8f%f0%9f%8e%af%f0%9f%8e%ae/2026-10-15/
LOCATION:The San Marzano Wine & Ale Lounge\, 23575 Lake Dr\, crestline\, CA\, 92325\, United States
CATEGORIES:Community Event,Family Friendly,Lake Gregory
ORGANIZER;CN="San Marzano Wine & Ale Lounge":MAILTO:kenrwilliams@icloud.com
END:VEVENT
BEGIN:VEVENT
DTSTART;TZID=America/Los_Angeles:20261022T180000
DTEND;TZID=America/Los_Angeles:20261022T220000
DTSTAMP:20260423T152148
CREATED:20250127T232001Z
LAST-MODIFIED:20250127T232001Z
UID:10003238-1792692000-1792706400@www.crestlinechamber.org
SUMMARY:Game Nights 🏆🎲♟️🎯🎮
DESCRIPTION:Looking for a fun night out? Join us at San Marzano Wine & Ale Lounge for Game Nights! \n🃏 Play your favorite board games\, card games\, and more while enjoying a night out!  Bring your friends or make new ones—it’s all about good vibes and great times!
URL:https://www.crestlinechamber.org/event/game-nights-%f0%9f%8f%86%f0%9f%8e%b2%e2%99%9f%ef%b8%8f%f0%9f%8e%af%f0%9f%8e%ae/2026-10-22/
LOCATION:The San Marzano Wine & Ale Lounge\, 23575 Lake Dr\, crestline\, CA\, 92325\, United States
CATEGORIES:Community Event,Family Friendly,Lake Gregory
ORGANIZER;CN="San Marzano Wine & Ale Lounge":MAILTO:kenrwilliams@icloud.com
END:VEVENT
BEGIN:VEVENT
DTSTART;TZID=America/Los_Angeles:20261029T180000
DTEND;TZID=America/Los_Angeles:20261029T220000
DTSTAMP:20260423T152148
CREATED:20250127T232001Z
LAST-MODIFIED:20250127T232001Z
UID:10003239-1793296800-1793311200@www.crestlinechamber.org
SUMMARY:Game Nights 🏆🎲♟️🎯🎮
DESCRIPTION:Looking for a fun night out? Join us at San Marzano Wine & Ale Lounge for Game Nights! \n🃏 Play your favorite board games\, card games\, and more while enjoying a night out!  Bring your friends or make new ones—it’s all about good vibes and great times!
URL:https://www.crestlinechamber.org/event/game-nights-%f0%9f%8f%86%f0%9f%8e%b2%e2%99%9f%ef%b8%8f%f0%9f%8e%af%f0%9f%8e%ae/2026-10-29/
LOCATION:The San Marzano Wine & Ale Lounge\, 23575 Lake Dr\, crestline\, CA\, 92325\, United States
CATEGORIES:Community Event,Family Friendly,Lake Gregory
ORGANIZER;CN="San Marzano Wine & Ale Lounge":MAILTO:kenrwilliams@icloud.com
END:VEVENT
BEGIN:VEVENT
DTSTART;TZID=America/Los_Angeles:20261105T180000
DTEND;TZID=America/Los_Angeles:20261105T220000
DTSTAMP:20260423T152148
CREATED:20250127T232001Z
LAST-MODIFIED:20250127T232001Z
UID:10003240-1793901600-1793916000@www.crestlinechamber.org
SUMMARY:Game Nights 🏆🎲♟️🎯🎮
DESCRIPTION:Looking for a fun night out? Join us at San Marzano Wine & Ale Lounge for Game Nights! \n🃏 Play your favorite board games\, card games\, and more while enjoying a night out!  Bring your friends or make new ones—it’s all about good vibes and great times!
URL:https://www.crestlinechamber.org/event/game-nights-%f0%9f%8f%86%f0%9f%8e%b2%e2%99%9f%ef%b8%8f%f0%9f%8e%af%f0%9f%8e%ae/2026-11-05/
LOCATION:The San Marzano Wine & Ale Lounge\, 23575 Lake Dr\, crestline\, CA\, 92325\, United States
CATEGORIES:Community Event,Family Friendly,Lake Gregory
ORGANIZER;CN="San Marzano Wine & Ale Lounge":MAILTO:kenrwilliams@icloud.com
END:VEVENT
BEGIN:VEVENT
DTSTART;TZID=America/Los_Angeles:20261112T180000
DTEND;TZID=America/Los_Angeles:20261112T220000
DTSTAMP:20260423T152148
CREATED:20250127T232001Z
LAST-MODIFIED:20250127T232001Z
UID:10003241-1794506400-1794520800@www.crestlinechamber.org
SUMMARY:Game Nights 🏆🎲♟️🎯🎮
DESCRIPTION:Looking for a fun night out? Join us at San Marzano Wine & Ale Lounge for Game Nights! \n🃏 Play your favorite board games\, card games\, and more while enjoying a night out!  Bring your friends or make new ones—it’s all about good vibes and great times!
URL:https://www.crestlinechamber.org/event/game-nights-%f0%9f%8f%86%f0%9f%8e%b2%e2%99%9f%ef%b8%8f%f0%9f%8e%af%f0%9f%8e%ae/2026-11-12/
LOCATION:The San Marzano Wine & Ale Lounge\, 23575 Lake Dr\, crestline\, CA\, 92325\, United States
CATEGORIES:Community Event,Family Friendly,Lake Gregory
ORGANIZER;CN="San Marzano Wine & Ale Lounge":MAILTO:kenrwilliams@icloud.com
END:VEVENT
BEGIN:VEVENT
DTSTART;TZID=America/Los_Angeles:20261119T180000
DTEND;TZID=America/Los_Angeles:20261119T220000
DTSTAMP:20260423T152148
CREATED:20250127T232001Z
LAST-MODIFIED:20250127T232001Z
UID:10003242-1795111200-1795125600@www.crestlinechamber.org
SUMMARY:Game Nights 🏆🎲♟️🎯🎮
DESCRIPTION:Looking for a fun night out? Join us at San Marzano Wine & Ale Lounge for Game Nights! \n🃏 Play your favorite board games\, card games\, and more while enjoying a night out!  Bring your friends or make new ones—it’s all about good vibes and great times!
URL:https://www.crestlinechamber.org/event/game-nights-%f0%9f%8f%86%f0%9f%8e%b2%e2%99%9f%ef%b8%8f%f0%9f%8e%af%f0%9f%8e%ae/2026-11-19/
LOCATION:The San Marzano Wine & Ale Lounge\, 23575 Lake Dr\, crestline\, CA\, 92325\, United States
CATEGORIES:Community Event,Family Friendly,Lake Gregory
ORGANIZER;CN="San Marzano Wine & Ale Lounge":MAILTO:kenrwilliams@icloud.com
END:VEVENT
BEGIN:VEVENT
DTSTART;TZID=America/Los_Angeles:20261126T180000
DTEND;TZID=America/Los_Angeles:20261126T220000
DTSTAMP:20260423T152148
CREATED:20250127T232001Z
LAST-MODIFIED:20250127T232001Z
UID:10003243-1795716000-1795730400@www.crestlinechamber.org
SUMMARY:Game Nights 🏆🎲♟️🎯🎮
DESCRIPTION:Looking for a fun night out? Join us at San Marzano Wine & Ale Lounge for Game Nights! \n🃏 Play your favorite board games\, card games\, and more while enjoying a night out!  Bring your friends or make new ones—it’s all about good vibes and great times!
URL:https://www.crestlinechamber.org/event/game-nights-%f0%9f%8f%86%f0%9f%8e%b2%e2%99%9f%ef%b8%8f%f0%9f%8e%af%f0%9f%8e%ae/2026-11-26/
LOCATION:The San Marzano Wine & Ale Lounge\, 23575 Lake Dr\, crestline\, CA\, 92325\, United States
CATEGORIES:Community Event,Family Friendly,Lake Gregory
ORGANIZER;CN="San Marzano Wine & Ale Lounge":MAILTO:kenrwilliams@icloud.com
END:VEVENT
BEGIN:VEVENT
DTSTART;TZID=America/Los_Angeles:20261203T180000
DTEND;TZID=America/Los_Angeles:20261203T220000
DTSTAMP:20260423T152148
CREATED:20250127T232001Z
LAST-MODIFIED:20250127T232001Z
UID:10003244-1796320800-1796335200@www.crestlinechamber.org
SUMMARY:Game Nights 🏆🎲♟️🎯🎮
DESCRIPTION:Looking for a fun night out? Join us at San Marzano Wine & Ale Lounge for Game Nights! \n🃏 Play your favorite board games\, card games\, and more while enjoying a night out!  Bring your friends or make new ones—it’s all about good vibes and great times!
URL:https://www.crestlinechamber.org/event/game-nights-%f0%9f%8f%86%f0%9f%8e%b2%e2%99%9f%ef%b8%8f%f0%9f%8e%af%f0%9f%8e%ae/2026-12-03/
LOCATION:The San Marzano Wine & Ale Lounge\, 23575 Lake Dr\, crestline\, CA\, 92325\, United States
CATEGORIES:Community Event,Family Friendly,Lake Gregory
ORGANIZER;CN="San Marzano Wine & Ale Lounge":MAILTO:kenrwilliams@icloud.com
END:VEVENT
BEGIN:VEVENT
DTSTART;TZID=America/Los_Angeles:20261210T180000
DTEND;TZID=America/Los_Angeles:20261210T220000
DTSTAMP:20260423T152148
CREATED:20250127T232001Z
LAST-MODIFIED:20250127T232001Z
UID:10003245-1796925600-1796940000@www.crestlinechamber.org
SUMMARY:Game Nights 🏆🎲♟️🎯🎮
DESCRIPTION:Looking for a fun night out? Join us at San Marzano Wine & Ale Lounge for Game Nights! \n🃏 Play your favorite board games\, card games\, and more while enjoying a night out!  Bring your friends or make new ones—it’s all about good vibes and great times!
URL:https://www.crestlinechamber.org/event/game-nights-%f0%9f%8f%86%f0%9f%8e%b2%e2%99%9f%ef%b8%8f%f0%9f%8e%af%f0%9f%8e%ae/2026-12-10/
LOCATION:The San Marzano Wine & Ale Lounge\, 23575 Lake Dr\, crestline\, CA\, 92325\, United States
CATEGORIES:Community Event,Family Friendly,Lake Gregory
ORGANIZER;CN="San Marzano Wine & Ale Lounge":MAILTO:kenrwilliams@icloud.com
END:VEVENT
BEGIN:VEVENT
DTSTART;TZID=America/Los_Angeles:20261217T180000
DTEND;TZID=America/Los_Angeles:20261217T220000
DTSTAMP:20260423T152148
CREATED:20250127T232001Z
LAST-MODIFIED:20250127T232001Z
UID:10003246-1797530400-1797544800@www.crestlinechamber.org
SUMMARY:Game Nights 🏆🎲♟️🎯🎮
DESCRIPTION:Looking for a fun night out? Join us at San Marzano Wine & Ale Lounge for Game Nights! \n🃏 Play your favorite board games\, card games\, and more while enjoying a night out!  Bring your friends or make new ones—it’s all about good vibes and great times!
URL:https://www.crestlinechamber.org/event/game-nights-%f0%9f%8f%86%f0%9f%8e%b2%e2%99%9f%ef%b8%8f%f0%9f%8e%af%f0%9f%8e%ae/2026-12-17/
LOCATION:The San Marzano Wine & Ale Lounge\, 23575 Lake Dr\, crestline\, CA\, 92325\, United States
CATEGORIES:Community Event,Family Friendly,Lake Gregory
ORGANIZER;CN="San Marzano Wine & Ale Lounge":MAILTO:kenrwilliams@icloud.com
END:VEVENT
BEGIN:VEVENT
DTSTART;TZID=America/Los_Angeles:20261224T180000
DTEND;TZID=America/Los_Angeles:20261224T220000
DTSTAMP:20260423T152148
CREATED:20250127T232001Z
LAST-MODIFIED:20250127T232001Z
UID:10003247-1798135200-1798149600@www.crestlinechamber.org
SUMMARY:Game Nights 🏆🎲♟️🎯🎮
DESCRIPTION:Looking for a fun night out? Join us at San Marzano Wine & Ale Lounge for Game Nights! \n🃏 Play your favorite board games\, card games\, and more while enjoying a night out!  Bring your friends or make new ones—it’s all about good vibes and great times!
URL:https://www.crestlinechamber.org/event/game-nights-%f0%9f%8f%86%f0%9f%8e%b2%e2%99%9f%ef%b8%8f%f0%9f%8e%af%f0%9f%8e%ae/2026-12-24/
LOCATION:The San Marzano Wine & Ale Lounge\, 23575 Lake Dr\, crestline\, CA\, 92325\, United States
CATEGORIES:Community Event,Family Friendly,Lake Gregory
ORGANIZER;CN="San Marzano Wine & Ale Lounge":MAILTO:kenrwilliams@icloud.com
END:VEVENT
BEGIN:VEVENT
DTSTART;TZID=America/Los_Angeles:20261231T180000
DTEND;TZID=America/Los_Angeles:20261231T220000
DTSTAMP:20260423T152148
CREATED:20250127T232001Z
LAST-MODIFIED:20250127T232001Z
UID:10003248-1798740000-1798754400@www.crestlinechamber.org
SUMMARY:Game Nights 🏆🎲♟️🎯🎮
DESCRIPTION:Looking for a fun night out? Join us at San Marzano Wine & Ale Lounge for Game Nights! \n🃏 Play your favorite board games\, card games\, and more while enjoying a night out!  Bring your friends or make new ones—it’s all about good vibes and great times!
URL:https://www.crestlinechamber.org/event/game-nights-%f0%9f%8f%86%f0%9f%8e%b2%e2%99%9f%ef%b8%8f%f0%9f%8e%af%f0%9f%8e%ae/2026-12-31/
LOCATION:The San Marzano Wine & Ale Lounge\, 23575 Lake Dr\, crestline\, CA\, 92325\, United States
CATEGORIES:Community Event,Family Friendly,Lake Gregory
ORGANIZER;CN="San Marzano Wine & Ale Lounge":MAILTO:kenrwilliams@icloud.com
END:VEVENT
BEGIN:VEVENT
DTSTART;TZID=America/Los_Angeles:20270107T180000
DTEND;TZID=America/Los_Angeles:20270107T220000
DTSTAMP:20260423T152148
CREATED:20250127T232001Z
LAST-MODIFIED:20250127T232001Z
UID:10003249-1799344800-1799359200@www.crestlinechamber.org
SUMMARY:Game Nights 🏆🎲♟️🎯🎮
DESCRIPTION:Looking for a fun night out? Join us at San Marzano Wine & Ale Lounge for Game Nights! \n🃏 Play your favorite board games\, card games\, and more while enjoying a night out!  Bring your friends or make new ones—it’s all about good vibes and great times!
URL:https://www.crestlinechamber.org/event/game-nights-%f0%9f%8f%86%f0%9f%8e%b2%e2%99%9f%ef%b8%8f%f0%9f%8e%af%f0%9f%8e%ae/2027-01-07/
LOCATION:The San Marzano Wine & Ale Lounge\, 23575 Lake Dr\, crestline\, CA\, 92325\, United States
CATEGORIES:Community Event,Family Friendly,Lake Gregory
ORGANIZER;CN="San Marzano Wine & Ale Lounge":MAILTO:kenrwilliams@icloud.com
END:VEVENT
BEGIN:VEVENT
DTSTART;TZID=America/Los_Angeles:20270114T180000
DTEND;TZID=America/Los_Angeles:20270114T220000
DTSTAMP:20260423T152148
CREATED:20250127T232001Z
LAST-MODIFIED:20250127T232001Z
UID:10003250-1799949600-1799964000@www.crestlinechamber.org
SUMMARY:Game Nights 🏆🎲♟️🎯🎮
DESCRIPTION:Looking for a fun night out? Join us at San Marzano Wine & Ale Lounge for Game Nights! \n🃏 Play your favorite board games\, card games\, and more while enjoying a night out!  Bring your friends or make new ones—it’s all about good vibes and great times!
URL:https://www.crestlinechamber.org/event/game-nights-%f0%9f%8f%86%f0%9f%8e%b2%e2%99%9f%ef%b8%8f%f0%9f%8e%af%f0%9f%8e%ae/2027-01-14/
LOCATION:The San Marzano Wine & Ale Lounge\, 23575 Lake Dr\, crestline\, CA\, 92325\, United States
CATEGORIES:Community Event,Family Friendly,Lake Gregory
ORGANIZER;CN="San Marzano Wine & Ale Lounge":MAILTO:kenrwilliams@icloud.com
END:VEVENT
BEGIN:VEVENT
DTSTART;TZID=America/Los_Angeles:20270121T180000
DTEND;TZID=America/Los_Angeles:20270121T220000
DTSTAMP:20260423T152148
CREATED:20250127T232001Z
LAST-MODIFIED:20250127T232001Z
UID:10003251-1800554400-1800568800@www.crestlinechamber.org
SUMMARY:Game Nights 🏆🎲♟️🎯🎮
DESCRIPTION:Looking for a fun night out? Join us at San Marzano Wine & Ale Lounge for Game Nights! \n🃏 Play your favorite board games\, card games\, and more while enjoying a night out!  Bring your friends or make new ones—it’s all about good vibes and great times!
URL:https://www.crestlinechamber.org/event/game-nights-%f0%9f%8f%86%f0%9f%8e%b2%e2%99%9f%ef%b8%8f%f0%9f%8e%af%f0%9f%8e%ae/2027-01-21/
LOCATION:The San Marzano Wine & Ale Lounge\, 23575 Lake Dr\, crestline\, CA\, 92325\, United States
CATEGORIES:Community Event,Family Friendly,Lake Gregory
ORGANIZER;CN="San Marzano Wine & Ale Lounge":MAILTO:kenrwilliams@icloud.com
END:VEVENT
BEGIN:VEVENT
DTSTART;TZID=America/Los_Angeles:20270128T180000
DTEND;TZID=America/Los_Angeles:20270128T220000
DTSTAMP:20260423T152148
CREATED:20250127T232001Z
LAST-MODIFIED:20250127T232001Z
UID:10003252-1801159200-1801173600@www.crestlinechamber.org
SUMMARY:Game Nights 🏆🎲♟️🎯🎮
DESCRIPTION:Looking for a fun night out? Join us at San Marzano Wine & Ale Lounge for Game Nights! \n🃏 Play your favorite board games\, card games\, and more while enjoying a night out!  Bring your friends or make new ones—it’s all about good vibes and great times!
URL:https://www.crestlinechamber.org/event/game-nights-%f0%9f%8f%86%f0%9f%8e%b2%e2%99%9f%ef%b8%8f%f0%9f%8e%af%f0%9f%8e%ae/2027-01-28/
LOCATION:The San Marzano Wine & Ale Lounge\, 23575 Lake Dr\, crestline\, CA\, 92325\, United States
CATEGORIES:Community Event,Family Friendly,Lake Gregory
ORGANIZER;CN="San Marzano Wine & Ale Lounge":MAILTO:kenrwilliams@icloud.com
END:VEVENT
BEGIN:VEVENT
DTSTART;TZID=America/Los_Angeles:20270204T180000
DTEND;TZID=America/Los_Angeles:20270204T220000
DTSTAMP:20260423T152148
CREATED:20250127T232001Z
LAST-MODIFIED:20250127T232001Z
UID:10003253-1801764000-1801778400@www.crestlinechamber.org
SUMMARY:Game Nights 🏆🎲♟️🎯🎮
DESCRIPTION:Looking for a fun night out? Join us at San Marzano Wine & Ale Lounge for Game Nights! \n🃏 Play your favorite board games\, card games\, and more while enjoying a night out!  Bring your friends or make new ones—it’s all about good vibes and great times!
URL:https://www.crestlinechamber.org/event/game-nights-%f0%9f%8f%86%f0%9f%8e%b2%e2%99%9f%ef%b8%8f%f0%9f%8e%af%f0%9f%8e%ae/2027-02-04/
LOCATION:The San Marzano Wine & Ale Lounge\, 23575 Lake Dr\, crestline\, CA\, 92325\, United States
CATEGORIES:Community Event,Family Friendly,Lake Gregory
ORGANIZER;CN="San Marzano Wine & Ale Lounge":MAILTO:kenrwilliams@icloud.com
END:VEVENT
BEGIN:VEVENT
DTSTART;TZID=America/Los_Angeles:20270211T180000
DTEND;TZID=America/Los_Angeles:20270211T220000
DTSTAMP:20260423T152148
CREATED:20250127T232001Z
LAST-MODIFIED:20250127T232001Z
UID:10003254-1802368800-1802383200@www.crestlinechamber.org
SUMMARY:Game Nights 🏆🎲♟️🎯🎮
DESCRIPTION:Looking for a fun night out? Join us at San Marzano Wine & Ale Lounge for Game Nights! \n🃏 Play your favorite board games\, card games\, and more while enjoying a night out!  Bring your friends or make new ones—it’s all about good vibes and great times!
URL:https://www.crestlinechamber.org/event/game-nights-%f0%9f%8f%86%f0%9f%8e%b2%e2%99%9f%ef%b8%8f%f0%9f%8e%af%f0%9f%8e%ae/2027-02-11/
LOCATION:The San Marzano Wine & Ale Lounge\, 23575 Lake Dr\, crestline\, CA\, 92325\, United States
CATEGORIES:Community Event,Family Friendly,Lake Gregory
ORGANIZER;CN="San Marzano Wine & Ale Lounge":MAILTO:kenrwilliams@icloud.com
END:VEVENT
BEGIN:VEVENT
DTSTART;TZID=America/Los_Angeles:20270218T180000
DTEND;TZID=America/Los_Angeles:20270218T220000
DTSTAMP:20260423T152148
CREATED:20250127T232001Z
LAST-MODIFIED:20250127T232001Z
UID:10003255-1802973600-1802988000@www.crestlinechamber.org
SUMMARY:Game Nights 🏆🎲♟️🎯🎮
DESCRIPTION:Looking for a fun night out? Join us at San Marzano Wine & Ale Lounge for Game Nights! \n🃏 Play your favorite board games\, card games\, and more while enjoying a night out!  Bring your friends or make new ones—it’s all about good vibes and great times!
URL:https://www.crestlinechamber.org/event/game-nights-%f0%9f%8f%86%f0%9f%8e%b2%e2%99%9f%ef%b8%8f%f0%9f%8e%af%f0%9f%8e%ae/2027-02-18/
LOCATION:The San Marzano Wine & Ale Lounge\, 23575 Lake Dr\, crestline\, CA\, 92325\, United States
CATEGORIES:Community Event,Family Friendly,Lake Gregory
ORGANIZER;CN="San Marzano Wine & Ale Lounge":MAILTO:kenrwilliams@icloud.com
END:VEVENT
BEGIN:VEVENT
DTSTART;TZID=America/Los_Angeles:20270225T180000
DTEND;TZID=America/Los_Angeles:20270225T220000
DTSTAMP:20260423T152148
CREATED:20250127T232001Z
LAST-MODIFIED:20250127T232001Z
UID:10003256-1803578400-1803592800@www.crestlinechamber.org
SUMMARY:Game Nights 🏆🎲♟️🎯🎮
DESCRIPTION:Looking for a fun night out? Join us at San Marzano Wine & Ale Lounge for Game Nights! \n🃏 Play your favorite board games\, card games\, and more while enjoying a night out!  Bring your friends or make new ones—it’s all about good vibes and great times!
URL:https://www.crestlinechamber.org/event/game-nights-%f0%9f%8f%86%f0%9f%8e%b2%e2%99%9f%ef%b8%8f%f0%9f%8e%af%f0%9f%8e%ae/2027-02-25/
LOCATION:The San Marzano Wine & Ale Lounge\, 23575 Lake Dr\, crestline\, CA\, 92325\, United States
CATEGORIES:Community Event,Family Friendly,Lake Gregory
ORGANIZER;CN="San Marzano Wine & Ale Lounge":MAILTO:kenrwilliams@icloud.com
END:VEVENT
BEGIN:VEVENT
DTSTART;TZID=America/Los_Angeles:20270304T180000
DTEND;TZID=America/Los_Angeles:20270304T220000
DTSTAMP:20260423T152148
CREATED:20250127T232001Z
LAST-MODIFIED:20250127T232001Z
UID:10003257-1804183200-1804197600@www.crestlinechamber.org
SUMMARY:Game Nights 🏆🎲♟️🎯🎮
DESCRIPTION:Looking for a fun night out? Join us at San Marzano Wine & Ale Lounge for Game Nights! \n🃏 Play your favorite board games\, card games\, and more while enjoying a night out!  Bring your friends or make new ones—it’s all about good vibes and great times!
URL:https://www.crestlinechamber.org/event/game-nights-%f0%9f%8f%86%f0%9f%8e%b2%e2%99%9f%ef%b8%8f%f0%9f%8e%af%f0%9f%8e%ae/2027-03-04/
LOCATION:The San Marzano Wine & Ale Lounge\, 23575 Lake Dr\, crestline\, CA\, 92325\, United States
CATEGORIES:Community Event,Family Friendly,Lake Gregory
ORGANIZER;CN="San Marzano Wine & Ale Lounge":MAILTO:kenrwilliams@icloud.com
END:VEVENT
BEGIN:VEVENT
DTSTART;TZID=America/Los_Angeles:20270311T180000
DTEND;TZID=America/Los_Angeles:20270311T220000
DTSTAMP:20260423T152148
CREATED:20250127T232001Z
LAST-MODIFIED:20250127T232001Z
UID:10003258-1804788000-1804802400@www.crestlinechamber.org
SUMMARY:Game Nights 🏆🎲♟️🎯🎮
DESCRIPTION:Looking for a fun night out? Join us at San Marzano Wine & Ale Lounge for Game Nights! \n🃏 Play your favorite board games\, card games\, and more while enjoying a night out!  Bring your friends or make new ones—it’s all about good vibes and great times!
URL:https://www.crestlinechamber.org/event/game-nights-%f0%9f%8f%86%f0%9f%8e%b2%e2%99%9f%ef%b8%8f%f0%9f%8e%af%f0%9f%8e%ae/2027-03-11/
LOCATION:The San Marzano Wine & Ale Lounge\, 23575 Lake Dr\, crestline\, CA\, 92325\, United States
CATEGORIES:Community Event,Family Friendly,Lake Gregory
ORGANIZER;CN="San Marzano Wine & Ale Lounge":MAILTO:kenrwilliams@icloud.com
END:VEVENT
BEGIN:VEVENT
DTSTART;TZID=America/Los_Angeles:20270318T180000
DTEND;TZID=America/Los_Angeles:20270318T220000
DTSTAMP:20260423T152148
CREATED:20250127T232001Z
LAST-MODIFIED:20250127T232001Z
UID:10003259-1805392800-1805407200@www.crestlinechamber.org
SUMMARY:Game Nights 🏆🎲♟️🎯🎮
DESCRIPTION:Looking for a fun night out? Join us at San Marzano Wine & Ale Lounge for Game Nights! \n🃏 Play your favorite board games\, card games\, and more while enjoying a night out!  Bring your friends or make new ones—it’s all about good vibes and great times!
URL:https://www.crestlinechamber.org/event/game-nights-%f0%9f%8f%86%f0%9f%8e%b2%e2%99%9f%ef%b8%8f%f0%9f%8e%af%f0%9f%8e%ae/2027-03-18/
LOCATION:The San Marzano Wine & Ale Lounge\, 23575 Lake Dr\, crestline\, CA\, 92325\, United States
CATEGORIES:Community Event,Family Friendly,Lake Gregory
ORGANIZER;CN="San Marzano Wine & Ale Lounge":MAILTO:kenrwilliams@icloud.com
END:VEVENT
BEGIN:VEVENT
DTSTART;TZID=America/Los_Angeles:20270325T180000
DTEND;TZID=America/Los_Angeles:20270325T220000
DTSTAMP:20260423T152148
CREATED:20250127T232001Z
LAST-MODIFIED:20250127T232001Z
UID:10003260-1805997600-1806012000@www.crestlinechamber.org
SUMMARY:Game Nights 🏆🎲♟️🎯🎮
DESCRIPTION:Looking for a fun night out? Join us at San Marzano Wine & Ale Lounge for Game Nights! \n🃏 Play your favorite board games\, card games\, and more while enjoying a night out!  Bring your friends or make new ones—it’s all about good vibes and great times!
URL:https://www.crestlinechamber.org/event/game-nights-%f0%9f%8f%86%f0%9f%8e%b2%e2%99%9f%ef%b8%8f%f0%9f%8e%af%f0%9f%8e%ae/2027-03-25/
LOCATION:The San Marzano Wine & Ale Lounge\, 23575 Lake Dr\, crestline\, CA\, 92325\, United States
CATEGORIES:Community Event,Family Friendly,Lake Gregory
ORGANIZER;CN="San Marzano Wine & Ale Lounge":MAILTO:kenrwilliams@icloud.com
END:VEVENT
BEGIN:VEVENT
DTSTART;TZID=America/Los_Angeles:20270401T180000
DTEND;TZID=America/Los_Angeles:20270401T220000
DTSTAMP:20260423T152148
CREATED:20250127T232001Z
LAST-MODIFIED:20250127T232001Z
UID:10003261-1806602400-1806616800@www.crestlinechamber.org
SUMMARY:Game Nights 🏆🎲♟️🎯🎮
DESCRIPTION:Looking for a fun night out? Join us at San Marzano Wine & Ale Lounge for Game Nights! \n🃏 Play your favorite board games\, card games\, and more while enjoying a night out!  Bring your friends or make new ones—it’s all about good vibes and great times!
URL:https://www.crestlinechamber.org/event/game-nights-%f0%9f%8f%86%f0%9f%8e%b2%e2%99%9f%ef%b8%8f%f0%9f%8e%af%f0%9f%8e%ae/2027-04-01/
LOCATION:The San Marzano Wine & Ale Lounge\, 23575 Lake Dr\, crestline\, CA\, 92325\, United States
CATEGORIES:Community Event,Family Friendly,Lake Gregory
ORGANIZER;CN="San Marzano Wine & Ale Lounge":MAILTO:kenrwilliams@icloud.com
END:VEVENT
BEGIN:VEVENT
DTSTART;TZID=America/Los_Angeles:20270408T180000
DTEND;TZID=America/Los_Angeles:20270408T220000
DTSTAMP:20260423T152148
CREATED:20250127T232001Z
LAST-MODIFIED:20250127T232001Z
UID:10003262-1807207200-1807221600@www.crestlinechamber.org
SUMMARY:Game Nights 🏆🎲♟️🎯🎮
DESCRIPTION:Looking for a fun night out? Join us at San Marzano Wine & Ale Lounge for Game Nights! \n🃏 Play your favorite board games\, card games\, and more while enjoying a night out!  Bring your friends or make new ones—it’s all about good vibes and great times!
URL:https://www.crestlinechamber.org/event/game-nights-%f0%9f%8f%86%f0%9f%8e%b2%e2%99%9f%ef%b8%8f%f0%9f%8e%af%f0%9f%8e%ae/2027-04-08/
LOCATION:The San Marzano Wine & Ale Lounge\, 23575 Lake Dr\, crestline\, CA\, 92325\, United States
CATEGORIES:Community Event,Family Friendly,Lake Gregory
ORGANIZER;CN="San Marzano Wine & Ale Lounge":MAILTO:kenrwilliams@icloud.com
END:VEVENT
BEGIN:VEVENT
DTSTART;TZID=America/Los_Angeles:20270415T180000
DTEND;TZID=America/Los_Angeles:20270415T220000
DTSTAMP:20260423T152148
CREATED:20250127T232001Z
LAST-MODIFIED:20250127T232001Z
UID:10003263-1807812000-1807826400@www.crestlinechamber.org
SUMMARY:Game Nights 🏆🎲♟️🎯🎮
DESCRIPTION:Looking for a fun night out? Join us at San Marzano Wine & Ale Lounge for Game Nights! \n🃏 Play your favorite board games\, card games\, and more while enjoying a night out!  Bring your friends or make new ones—it’s all about good vibes and great times!
URL:https://www.crestlinechamber.org/event/game-nights-%f0%9f%8f%86%f0%9f%8e%b2%e2%99%9f%ef%b8%8f%f0%9f%8e%af%f0%9f%8e%ae/2027-04-15/
LOCATION:The San Marzano Wine & Ale Lounge\, 23575 Lake Dr\, crestline\, CA\, 92325\, United States
CATEGORIES:Community Event,Family Friendly,Lake Gregory
ORGANIZER;CN="San Marzano Wine & Ale Lounge":MAILTO:kenrwilliams@icloud.com
END:VEVENT
BEGIN:VEVENT
DTSTART;TZID=America/Los_Angeles:20270422T180000
DTEND;TZID=America/Los_Angeles:20270422T220000
DTSTAMP:20260423T152148
CREATED:20250127T232001Z
LAST-MODIFIED:20250127T232001Z
UID:10003264-1808416800-1808431200@www.crestlinechamber.org
SUMMARY:Game Nights 🏆🎲♟️🎯🎮
DESCRIPTION:Looking for a fun night out? Join us at San Marzano Wine & Ale Lounge for Game Nights! \n🃏 Play your favorite board games\, card games\, and more while enjoying a night out!  Bring your friends or make new ones—it’s all about good vibes and great times!
URL:https://www.crestlinechamber.org/event/game-nights-%f0%9f%8f%86%f0%9f%8e%b2%e2%99%9f%ef%b8%8f%f0%9f%8e%af%f0%9f%8e%ae/2027-04-22/
LOCATION:The San Marzano Wine & Ale Lounge\, 23575 Lake Dr\, crestline\, CA\, 92325\, United States
CATEGORIES:Community Event,Family Friendly,Lake Gregory
ORGANIZER;CN="San Marzano Wine & Ale Lounge":MAILTO:kenrwilliams@icloud.com
END:VEVENT
BEGIN:VEVENT
DTSTART;TZID=America/Los_Angeles:20270429T180000
DTEND;TZID=America/Los_Angeles:20270429T220000
DTSTAMP:20260423T152148
CREATED:20250127T232001Z
LAST-MODIFIED:20250127T232001Z
UID:10003265-1809021600-1809036000@www.crestlinechamber.org
SUMMARY:Game Nights 🏆🎲♟️🎯🎮
DESCRIPTION:Looking for a fun night out? Join us at San Marzano Wine & Ale Lounge for Game Nights! \n🃏 Play your favorite board games\, card games\, and more while enjoying a night out!  Bring your friends or make new ones—it’s all about good vibes and great times!
URL:https://www.crestlinechamber.org/event/game-nights-%f0%9f%8f%86%f0%9f%8e%b2%e2%99%9f%ef%b8%8f%f0%9f%8e%af%f0%9f%8e%ae/2027-04-29/
LOCATION:The San Marzano Wine & Ale Lounge\, 23575 Lake Dr\, crestline\, CA\, 92325\, United States
CATEGORIES:Community Event,Family Friendly,Lake Gregory
ORGANIZER;CN="San Marzano Wine & Ale Lounge":MAILTO:kenrwilliams@icloud.com
END:VEVENT
END:VCALENDAR