BEGIN:VCALENDAR
VERSION:2.0
PRODID:-//Crestline Chamber of Commerce - ECPv6.15.20//NONSGML v1.0//EN
CALSCALE:GREGORIAN
METHOD:PUBLISH
X-ORIGINAL-URL:https://www.crestlinechamber.org
X-WR-CALDESC:Events for Crestline Chamber of Commerce
REFRESH-INTERVAL;VALUE=DURATION:PT1H
X-Robots-Tag:noindex
X-PUBLISHED-TTL:PT1H
BEGIN:VTIMEZONE
TZID:America/Los_Angeles
BEGIN:DAYLIGHT
TZOFFSETFROM:-0800
TZOFFSETTO:-0700
TZNAME:PDT
DTSTART:20250309T100000
END:DAYLIGHT
BEGIN:STANDARD
TZOFFSETFROM:-0700
TZOFFSETTO:-0800
TZNAME:PST
DTSTART:20251102T090000
END:STANDARD
BEGIN:DAYLIGHT
TZOFFSETFROM:-0800
TZOFFSETTO:-0700
TZNAME:PDT
DTSTART:20260308T100000
END:DAYLIGHT
BEGIN:STANDARD
TZOFFSETFROM:-0700
TZOFFSETTO:-0800
TZNAME:PST
DTSTART:20261101T090000
END:STANDARD
BEGIN:DAYLIGHT
TZOFFSETFROM:-0800
TZOFFSETTO:-0700
TZNAME:PDT
DTSTART:20270314T100000
END:DAYLIGHT
BEGIN:STANDARD
TZOFFSETFROM:-0700
TZOFFSETTO:-0800
TZNAME:PST
DTSTART:20271107T090000
END:STANDARD
BEGIN:DAYLIGHT
TZOFFSETFROM:-0800
TZOFFSETTO:-0700
TZNAME:PDT
DTSTART:20280312T100000
END:DAYLIGHT
BEGIN:STANDARD
TZOFFSETFROM:-0700
TZOFFSETTO:-0800
TZNAME:PST
DTSTART:20281105T090000
END:STANDARD
END:VTIMEZONE
BEGIN:VEVENT
DTSTART;TZID=America/Los_Angeles:20260721T073000
DTEND;TZID=America/Los_Angeles:20260721T093000
DTSTAMP:20260423T153617
CREATED:20250128T175059Z
LAST-MODIFIED:20250128T175059Z
UID:10004330-1784619000-1784626200@www.crestlinechamber.org
SUMMARY:Mountain Connections 🌟
DESCRIPTION:Looking to meet interesting people\, exchange valuable ideas\, and promote your business or upcoming events? Mountain Connections is the place to be! \nJoin us for an engaging and supportive environment where you can connect with like-minded individuals\, share opportunities\, and grow your presence in the community. Don’t miss this chance to build lasting relationships and spark new collaborations! 🤝✨
URL:https://www.crestlinechamber.org/event/mountain-connections-%f0%9f%8c%9f/2026-07-21/
LOCATION:Top Town Cafe\, 23420 Crest Forest Dr\, Crestline\, CA\, 92325
CATEGORIES:Community Meeting,Family Friendly
END:VEVENT
BEGIN:VEVENT
DTSTART;TZID=America/Los_Angeles:20260728T073000
DTEND;TZID=America/Los_Angeles:20260728T093000
DTSTAMP:20260423T153617
CREATED:20250128T175059Z
LAST-MODIFIED:20250128T175059Z
UID:10004331-1785223800-1785231000@www.crestlinechamber.org
SUMMARY:Mountain Connections 🌟
DESCRIPTION:Looking to meet interesting people\, exchange valuable ideas\, and promote your business or upcoming events? Mountain Connections is the place to be! \nJoin us for an engaging and supportive environment where you can connect with like-minded individuals\, share opportunities\, and grow your presence in the community. Don’t miss this chance to build lasting relationships and spark new collaborations! 🤝✨
URL:https://www.crestlinechamber.org/event/mountain-connections-%f0%9f%8c%9f/2026-07-28/
LOCATION:Top Town Cafe\, 23420 Crest Forest Dr\, Crestline\, CA\, 92325
CATEGORIES:Community Meeting,Family Friendly
END:VEVENT
BEGIN:VEVENT
DTSTART;TZID=America/Los_Angeles:20260804T073000
DTEND;TZID=America/Los_Angeles:20260804T093000
DTSTAMP:20260423T153617
CREATED:20250128T175059Z
LAST-MODIFIED:20250128T175059Z
UID:10004332-1785828600-1785835800@www.crestlinechamber.org
SUMMARY:Mountain Connections 🌟
DESCRIPTION:Looking to meet interesting people\, exchange valuable ideas\, and promote your business or upcoming events? Mountain Connections is the place to be! \nJoin us for an engaging and supportive environment where you can connect with like-minded individuals\, share opportunities\, and grow your presence in the community. Don’t miss this chance to build lasting relationships and spark new collaborations! 🤝✨
URL:https://www.crestlinechamber.org/event/mountain-connections-%f0%9f%8c%9f/2026-08-04/
LOCATION:Top Town Cafe\, 23420 Crest Forest Dr\, Crestline\, CA\, 92325
CATEGORIES:Community Meeting,Family Friendly
END:VEVENT
BEGIN:VEVENT
DTSTART;TZID=America/Los_Angeles:20260811T073000
DTEND;TZID=America/Los_Angeles:20260811T093000
DTSTAMP:20260423T153617
CREATED:20250128T175059Z
LAST-MODIFIED:20250128T175059Z
UID:10004333-1786433400-1786440600@www.crestlinechamber.org
SUMMARY:Mountain Connections 🌟
DESCRIPTION:Looking to meet interesting people\, exchange valuable ideas\, and promote your business or upcoming events? Mountain Connections is the place to be! \nJoin us for an engaging and supportive environment where you can connect with like-minded individuals\, share opportunities\, and grow your presence in the community. Don’t miss this chance to build lasting relationships and spark new collaborations! 🤝✨
URL:https://www.crestlinechamber.org/event/mountain-connections-%f0%9f%8c%9f/2026-08-11/
LOCATION:Top Town Cafe\, 23420 Crest Forest Dr\, Crestline\, CA\, 92325
CATEGORIES:Community Meeting,Family Friendly
END:VEVENT
BEGIN:VEVENT
DTSTART;TZID=America/Los_Angeles:20260818T073000
DTEND;TZID=America/Los_Angeles:20260818T093000
DTSTAMP:20260423T153617
CREATED:20250128T175059Z
LAST-MODIFIED:20250128T175059Z
UID:10004334-1787038200-1787045400@www.crestlinechamber.org
SUMMARY:Mountain Connections 🌟
DESCRIPTION:Looking to meet interesting people\, exchange valuable ideas\, and promote your business or upcoming events? Mountain Connections is the place to be! \nJoin us for an engaging and supportive environment where you can connect with like-minded individuals\, share opportunities\, and grow your presence in the community. Don’t miss this chance to build lasting relationships and spark new collaborations! 🤝✨
URL:https://www.crestlinechamber.org/event/mountain-connections-%f0%9f%8c%9f/2026-08-18/
LOCATION:Top Town Cafe\, 23420 Crest Forest Dr\, Crestline\, CA\, 92325
CATEGORIES:Community Meeting,Family Friendly
END:VEVENT
BEGIN:VEVENT
DTSTART;TZID=America/Los_Angeles:20260825T073000
DTEND;TZID=America/Los_Angeles:20260825T093000
DTSTAMP:20260423T153617
CREATED:20250128T175059Z
LAST-MODIFIED:20250128T175059Z
UID:10004335-1787643000-1787650200@www.crestlinechamber.org
SUMMARY:Mountain Connections 🌟
DESCRIPTION:Looking to meet interesting people\, exchange valuable ideas\, and promote your business or upcoming events? Mountain Connections is the place to be! \nJoin us for an engaging and supportive environment where you can connect with like-minded individuals\, share opportunities\, and grow your presence in the community. Don’t miss this chance to build lasting relationships and spark new collaborations! 🤝✨
URL:https://www.crestlinechamber.org/event/mountain-connections-%f0%9f%8c%9f/2026-08-25/
LOCATION:Top Town Cafe\, 23420 Crest Forest Dr\, Crestline\, CA\, 92325
CATEGORIES:Community Meeting,Family Friendly
END:VEVENT
BEGIN:VEVENT
DTSTART;TZID=America/Los_Angeles:20260901T073000
DTEND;TZID=America/Los_Angeles:20260901T093000
DTSTAMP:20260423T153618
CREATED:20250128T175059Z
LAST-MODIFIED:20250128T175059Z
UID:10004336-1788247800-1788255000@www.crestlinechamber.org
SUMMARY:Mountain Connections 🌟
DESCRIPTION:Looking to meet interesting people\, exchange valuable ideas\, and promote your business or upcoming events? Mountain Connections is the place to be! \nJoin us for an engaging and supportive environment where you can connect with like-minded individuals\, share opportunities\, and grow your presence in the community. Don’t miss this chance to build lasting relationships and spark new collaborations! 🤝✨
URL:https://www.crestlinechamber.org/event/mountain-connections-%f0%9f%8c%9f/2026-09-01/
LOCATION:Top Town Cafe\, 23420 Crest Forest Dr\, Crestline\, CA\, 92325
CATEGORIES:Community Meeting,Family Friendly
END:VEVENT
BEGIN:VEVENT
DTSTART;TZID=America/Los_Angeles:20260908T073000
DTEND;TZID=America/Los_Angeles:20260908T093000
DTSTAMP:20260423T153618
CREATED:20250128T175059Z
LAST-MODIFIED:20250128T175059Z
UID:10004337-1788852600-1788859800@www.crestlinechamber.org
SUMMARY:Mountain Connections 🌟
DESCRIPTION:Looking to meet interesting people\, exchange valuable ideas\, and promote your business or upcoming events? Mountain Connections is the place to be! \nJoin us for an engaging and supportive environment where you can connect with like-minded individuals\, share opportunities\, and grow your presence in the community. Don’t miss this chance to build lasting relationships and spark new collaborations! 🤝✨
URL:https://www.crestlinechamber.org/event/mountain-connections-%f0%9f%8c%9f/2026-09-08/
LOCATION:Top Town Cafe\, 23420 Crest Forest Dr\, Crestline\, CA\, 92325
CATEGORIES:Community Meeting,Family Friendly
END:VEVENT
BEGIN:VEVENT
DTSTART;TZID=America/Los_Angeles:20260915T073000
DTEND;TZID=America/Los_Angeles:20260915T093000
DTSTAMP:20260423T153618
CREATED:20250128T175059Z
LAST-MODIFIED:20250128T175059Z
UID:10004338-1789457400-1789464600@www.crestlinechamber.org
SUMMARY:Mountain Connections 🌟
DESCRIPTION:Looking to meet interesting people\, exchange valuable ideas\, and promote your business or upcoming events? Mountain Connections is the place to be! \nJoin us for an engaging and supportive environment where you can connect with like-minded individuals\, share opportunities\, and grow your presence in the community. Don’t miss this chance to build lasting relationships and spark new collaborations! 🤝✨
URL:https://www.crestlinechamber.org/event/mountain-connections-%f0%9f%8c%9f/2026-09-15/
LOCATION:Top Town Cafe\, 23420 Crest Forest Dr\, Crestline\, CA\, 92325
CATEGORIES:Community Meeting,Family Friendly
END:VEVENT
BEGIN:VEVENT
DTSTART;TZID=America/Los_Angeles:20260922T073000
DTEND;TZID=America/Los_Angeles:20260922T093000
DTSTAMP:20260423T153618
CREATED:20250128T175059Z
LAST-MODIFIED:20250128T175059Z
UID:10004339-1790062200-1790069400@www.crestlinechamber.org
SUMMARY:Mountain Connections 🌟
DESCRIPTION:Looking to meet interesting people\, exchange valuable ideas\, and promote your business or upcoming events? Mountain Connections is the place to be! \nJoin us for an engaging and supportive environment where you can connect with like-minded individuals\, share opportunities\, and grow your presence in the community. Don’t miss this chance to build lasting relationships and spark new collaborations! 🤝✨
URL:https://www.crestlinechamber.org/event/mountain-connections-%f0%9f%8c%9f/2026-09-22/
LOCATION:Top Town Cafe\, 23420 Crest Forest Dr\, Crestline\, CA\, 92325
CATEGORIES:Community Meeting,Family Friendly
END:VEVENT
BEGIN:VEVENT
DTSTART;TZID=America/Los_Angeles:20260929T073000
DTEND;TZID=America/Los_Angeles:20260929T093000
DTSTAMP:20260423T153618
CREATED:20250128T175059Z
LAST-MODIFIED:20250128T175059Z
UID:10004340-1790667000-1790674200@www.crestlinechamber.org
SUMMARY:Mountain Connections 🌟
DESCRIPTION:Looking to meet interesting people\, exchange valuable ideas\, and promote your business or upcoming events? Mountain Connections is the place to be! \nJoin us for an engaging and supportive environment where you can connect with like-minded individuals\, share opportunities\, and grow your presence in the community. Don’t miss this chance to build lasting relationships and spark new collaborations! 🤝✨
URL:https://www.crestlinechamber.org/event/mountain-connections-%f0%9f%8c%9f/2026-09-29/
LOCATION:Top Town Cafe\, 23420 Crest Forest Dr\, Crestline\, CA\, 92325
CATEGORIES:Community Meeting,Family Friendly
END:VEVENT
BEGIN:VEVENT
DTSTART;TZID=America/Los_Angeles:20261006T073000
DTEND;TZID=America/Los_Angeles:20261006T093000
DTSTAMP:20260423T153618
CREATED:20250128T175059Z
LAST-MODIFIED:20250128T175059Z
UID:10004341-1791271800-1791279000@www.crestlinechamber.org
SUMMARY:Mountain Connections 🌟
DESCRIPTION:Looking to meet interesting people\, exchange valuable ideas\, and promote your business or upcoming events? Mountain Connections is the place to be! \nJoin us for an engaging and supportive environment where you can connect with like-minded individuals\, share opportunities\, and grow your presence in the community. Don’t miss this chance to build lasting relationships and spark new collaborations! 🤝✨
URL:https://www.crestlinechamber.org/event/mountain-connections-%f0%9f%8c%9f/2026-10-06/
LOCATION:Top Town Cafe\, 23420 Crest Forest Dr\, Crestline\, CA\, 92325
CATEGORIES:Community Meeting,Family Friendly
END:VEVENT
BEGIN:VEVENT
DTSTART;TZID=America/Los_Angeles:20261013T073000
DTEND;TZID=America/Los_Angeles:20261013T093000
DTSTAMP:20260423T153618
CREATED:20250128T175059Z
LAST-MODIFIED:20250128T175059Z
UID:10004342-1791876600-1791883800@www.crestlinechamber.org
SUMMARY:Mountain Connections 🌟
DESCRIPTION:Looking to meet interesting people\, exchange valuable ideas\, and promote your business or upcoming events? Mountain Connections is the place to be! \nJoin us for an engaging and supportive environment where you can connect with like-minded individuals\, share opportunities\, and grow your presence in the community. Don’t miss this chance to build lasting relationships and spark new collaborations! 🤝✨
URL:https://www.crestlinechamber.org/event/mountain-connections-%f0%9f%8c%9f/2026-10-13/
LOCATION:Top Town Cafe\, 23420 Crest Forest Dr\, Crestline\, CA\, 92325
CATEGORIES:Community Meeting,Family Friendly
END:VEVENT
BEGIN:VEVENT
DTSTART;TZID=America/Los_Angeles:20261020T073000
DTEND;TZID=America/Los_Angeles:20261020T093000
DTSTAMP:20260423T153618
CREATED:20250128T175059Z
LAST-MODIFIED:20250128T175059Z
UID:10004343-1792481400-1792488600@www.crestlinechamber.org
SUMMARY:Mountain Connections 🌟
DESCRIPTION:Looking to meet interesting people\, exchange valuable ideas\, and promote your business or upcoming events? Mountain Connections is the place to be! \nJoin us for an engaging and supportive environment where you can connect with like-minded individuals\, share opportunities\, and grow your presence in the community. Don’t miss this chance to build lasting relationships and spark new collaborations! 🤝✨
URL:https://www.crestlinechamber.org/event/mountain-connections-%f0%9f%8c%9f/2026-10-20/
LOCATION:Top Town Cafe\, 23420 Crest Forest Dr\, Crestline\, CA\, 92325
CATEGORIES:Community Meeting,Family Friendly
END:VEVENT
BEGIN:VEVENT
DTSTART;TZID=America/Los_Angeles:20261027T073000
DTEND;TZID=America/Los_Angeles:20261027T093000
DTSTAMP:20260423T153618
CREATED:20250128T175059Z
LAST-MODIFIED:20250128T175059Z
UID:10004344-1793086200-1793093400@www.crestlinechamber.org
SUMMARY:Mountain Connections 🌟
DESCRIPTION:Looking to meet interesting people\, exchange valuable ideas\, and promote your business or upcoming events? Mountain Connections is the place to be! \nJoin us for an engaging and supportive environment where you can connect with like-minded individuals\, share opportunities\, and grow your presence in the community. Don’t miss this chance to build lasting relationships and spark new collaborations! 🤝✨
URL:https://www.crestlinechamber.org/event/mountain-connections-%f0%9f%8c%9f/2026-10-27/
LOCATION:Top Town Cafe\, 23420 Crest Forest Dr\, Crestline\, CA\, 92325
CATEGORIES:Community Meeting,Family Friendly
END:VEVENT
BEGIN:VEVENT
DTSTART;TZID=America/Los_Angeles:20261103T073000
DTEND;TZID=America/Los_Angeles:20261103T093000
DTSTAMP:20260423T153618
CREATED:20250128T175059Z
LAST-MODIFIED:20250128T175059Z
UID:10004345-1793691000-1793698200@www.crestlinechamber.org
SUMMARY:Mountain Connections 🌟
DESCRIPTION:Looking to meet interesting people\, exchange valuable ideas\, and promote your business or upcoming events? Mountain Connections is the place to be! \nJoin us for an engaging and supportive environment where you can connect with like-minded individuals\, share opportunities\, and grow your presence in the community. Don’t miss this chance to build lasting relationships and spark new collaborations! 🤝✨
URL:https://www.crestlinechamber.org/event/mountain-connections-%f0%9f%8c%9f/2026-11-03/
LOCATION:Top Town Cafe\, 23420 Crest Forest Dr\, Crestline\, CA\, 92325
CATEGORIES:Community Meeting,Family Friendly
END:VEVENT
BEGIN:VEVENT
DTSTART;TZID=America/Los_Angeles:20261110T073000
DTEND;TZID=America/Los_Angeles:20261110T093000
DTSTAMP:20260423T153618
CREATED:20250128T175059Z
LAST-MODIFIED:20250128T175059Z
UID:10004346-1794295800-1794303000@www.crestlinechamber.org
SUMMARY:Mountain Connections 🌟
DESCRIPTION:Looking to meet interesting people\, exchange valuable ideas\, and promote your business or upcoming events? Mountain Connections is the place to be! \nJoin us for an engaging and supportive environment where you can connect with like-minded individuals\, share opportunities\, and grow your presence in the community. Don’t miss this chance to build lasting relationships and spark new collaborations! 🤝✨
URL:https://www.crestlinechamber.org/event/mountain-connections-%f0%9f%8c%9f/2026-11-10/
LOCATION:Top Town Cafe\, 23420 Crest Forest Dr\, Crestline\, CA\, 92325
CATEGORIES:Community Meeting,Family Friendly
END:VEVENT
BEGIN:VEVENT
DTSTART;TZID=America/Los_Angeles:20261117T073000
DTEND;TZID=America/Los_Angeles:20261117T093000
DTSTAMP:20260423T153618
CREATED:20250128T175059Z
LAST-MODIFIED:20250128T175059Z
UID:10004347-1794900600-1794907800@www.crestlinechamber.org
SUMMARY:Mountain Connections 🌟
DESCRIPTION:Looking to meet interesting people\, exchange valuable ideas\, and promote your business or upcoming events? Mountain Connections is the place to be! \nJoin us for an engaging and supportive environment where you can connect with like-minded individuals\, share opportunities\, and grow your presence in the community. Don’t miss this chance to build lasting relationships and spark new collaborations! 🤝✨
URL:https://www.crestlinechamber.org/event/mountain-connections-%f0%9f%8c%9f/2026-11-17/
LOCATION:Top Town Cafe\, 23420 Crest Forest Dr\, Crestline\, CA\, 92325
CATEGORIES:Community Meeting,Family Friendly
END:VEVENT
BEGIN:VEVENT
DTSTART;TZID=America/Los_Angeles:20261124T073000
DTEND;TZID=America/Los_Angeles:20261124T093000
DTSTAMP:20260423T153618
CREATED:20250128T175059Z
LAST-MODIFIED:20250128T175059Z
UID:10004348-1795505400-1795512600@www.crestlinechamber.org
SUMMARY:Mountain Connections 🌟
DESCRIPTION:Looking to meet interesting people\, exchange valuable ideas\, and promote your business or upcoming events? Mountain Connections is the place to be! \nJoin us for an engaging and supportive environment where you can connect with like-minded individuals\, share opportunities\, and grow your presence in the community. Don’t miss this chance to build lasting relationships and spark new collaborations! 🤝✨
URL:https://www.crestlinechamber.org/event/mountain-connections-%f0%9f%8c%9f/2026-11-24/
LOCATION:Top Town Cafe\, 23420 Crest Forest Dr\, Crestline\, CA\, 92325
CATEGORIES:Community Meeting,Family Friendly
END:VEVENT
BEGIN:VEVENT
DTSTART;TZID=America/Los_Angeles:20261201T073000
DTEND;TZID=America/Los_Angeles:20261201T093000
DTSTAMP:20260423T153618
CREATED:20250128T175059Z
LAST-MODIFIED:20250128T175059Z
UID:10004349-1796110200-1796117400@www.crestlinechamber.org
SUMMARY:Mountain Connections 🌟
DESCRIPTION:Looking to meet interesting people\, exchange valuable ideas\, and promote your business or upcoming events? Mountain Connections is the place to be! \nJoin us for an engaging and supportive environment where you can connect with like-minded individuals\, share opportunities\, and grow your presence in the community. Don’t miss this chance to build lasting relationships and spark new collaborations! 🤝✨
URL:https://www.crestlinechamber.org/event/mountain-connections-%f0%9f%8c%9f/2026-12-01/
LOCATION:Top Town Cafe\, 23420 Crest Forest Dr\, Crestline\, CA\, 92325
CATEGORIES:Community Meeting,Family Friendly
END:VEVENT
BEGIN:VEVENT
DTSTART;TZID=America/Los_Angeles:20261208T073000
DTEND;TZID=America/Los_Angeles:20261208T093000
DTSTAMP:20260423T153618
CREATED:20250128T175059Z
LAST-MODIFIED:20250128T175059Z
UID:10004350-1796715000-1796722200@www.crestlinechamber.org
SUMMARY:Mountain Connections 🌟
DESCRIPTION:Looking to meet interesting people\, exchange valuable ideas\, and promote your business or upcoming events? Mountain Connections is the place to be! \nJoin us for an engaging and supportive environment where you can connect with like-minded individuals\, share opportunities\, and grow your presence in the community. Don’t miss this chance to build lasting relationships and spark new collaborations! 🤝✨
URL:https://www.crestlinechamber.org/event/mountain-connections-%f0%9f%8c%9f/2026-12-08/
LOCATION:Top Town Cafe\, 23420 Crest Forest Dr\, Crestline\, CA\, 92325
CATEGORIES:Community Meeting,Family Friendly
END:VEVENT
BEGIN:VEVENT
DTSTART;TZID=America/Los_Angeles:20261215T073000
DTEND;TZID=America/Los_Angeles:20261215T093000
DTSTAMP:20260423T153618
CREATED:20250128T175059Z
LAST-MODIFIED:20250128T175059Z
UID:10004351-1797319800-1797327000@www.crestlinechamber.org
SUMMARY:Mountain Connections 🌟
DESCRIPTION:Looking to meet interesting people\, exchange valuable ideas\, and promote your business or upcoming events? Mountain Connections is the place to be! \nJoin us for an engaging and supportive environment where you can connect with like-minded individuals\, share opportunities\, and grow your presence in the community. Don’t miss this chance to build lasting relationships and spark new collaborations! 🤝✨
URL:https://www.crestlinechamber.org/event/mountain-connections-%f0%9f%8c%9f/2026-12-15/
LOCATION:Top Town Cafe\, 23420 Crest Forest Dr\, Crestline\, CA\, 92325
CATEGORIES:Community Meeting,Family Friendly
END:VEVENT
BEGIN:VEVENT
DTSTART;TZID=America/Los_Angeles:20261222T073000
DTEND;TZID=America/Los_Angeles:20261222T093000
DTSTAMP:20260423T153618
CREATED:20250128T175059Z
LAST-MODIFIED:20250128T175059Z
UID:10004352-1797924600-1797931800@www.crestlinechamber.org
SUMMARY:Mountain Connections 🌟
DESCRIPTION:Looking to meet interesting people\, exchange valuable ideas\, and promote your business or upcoming events? Mountain Connections is the place to be! \nJoin us for an engaging and supportive environment where you can connect with like-minded individuals\, share opportunities\, and grow your presence in the community. Don’t miss this chance to build lasting relationships and spark new collaborations! 🤝✨
URL:https://www.crestlinechamber.org/event/mountain-connections-%f0%9f%8c%9f/2026-12-22/
LOCATION:Top Town Cafe\, 23420 Crest Forest Dr\, Crestline\, CA\, 92325
CATEGORIES:Community Meeting,Family Friendly
END:VEVENT
BEGIN:VEVENT
DTSTART;TZID=America/Los_Angeles:20261229T073000
DTEND;TZID=America/Los_Angeles:20261229T093000
DTSTAMP:20260423T153618
CREATED:20250128T175059Z
LAST-MODIFIED:20250128T175059Z
UID:10004353-1798529400-1798536600@www.crestlinechamber.org
SUMMARY:Mountain Connections 🌟
DESCRIPTION:Looking to meet interesting people\, exchange valuable ideas\, and promote your business or upcoming events? Mountain Connections is the place to be! \nJoin us for an engaging and supportive environment where you can connect with like-minded individuals\, share opportunities\, and grow your presence in the community. Don’t miss this chance to build lasting relationships and spark new collaborations! 🤝✨
URL:https://www.crestlinechamber.org/event/mountain-connections-%f0%9f%8c%9f/2026-12-29/
LOCATION:Top Town Cafe\, 23420 Crest Forest Dr\, Crestline\, CA\, 92325
CATEGORIES:Community Meeting,Family Friendly
END:VEVENT
BEGIN:VEVENT
DTSTART;TZID=America/Los_Angeles:20270105T073000
DTEND;TZID=America/Los_Angeles:20270105T093000
DTSTAMP:20260423T153618
CREATED:20250128T175059Z
LAST-MODIFIED:20250128T175059Z
UID:10004354-1799134200-1799141400@www.crestlinechamber.org
SUMMARY:Mountain Connections 🌟
DESCRIPTION:Looking to meet interesting people\, exchange valuable ideas\, and promote your business or upcoming events? Mountain Connections is the place to be! \nJoin us for an engaging and supportive environment where you can connect with like-minded individuals\, share opportunities\, and grow your presence in the community. Don’t miss this chance to build lasting relationships and spark new collaborations! 🤝✨
URL:https://www.crestlinechamber.org/event/mountain-connections-%f0%9f%8c%9f/2027-01-05/
LOCATION:Top Town Cafe\, 23420 Crest Forest Dr\, Crestline\, CA\, 92325
CATEGORIES:Community Meeting,Family Friendly
END:VEVENT
BEGIN:VEVENT
DTSTART;TZID=America/Los_Angeles:20270112T073000
DTEND;TZID=America/Los_Angeles:20270112T093000
DTSTAMP:20260423T153618
CREATED:20250128T175059Z
LAST-MODIFIED:20250128T175059Z
UID:10004355-1799739000-1799746200@www.crestlinechamber.org
SUMMARY:Mountain Connections 🌟
DESCRIPTION:Looking to meet interesting people\, exchange valuable ideas\, and promote your business or upcoming events? Mountain Connections is the place to be! \nJoin us for an engaging and supportive environment where you can connect with like-minded individuals\, share opportunities\, and grow your presence in the community. Don’t miss this chance to build lasting relationships and spark new collaborations! 🤝✨
URL:https://www.crestlinechamber.org/event/mountain-connections-%f0%9f%8c%9f/2027-01-12/
LOCATION:Top Town Cafe\, 23420 Crest Forest Dr\, Crestline\, CA\, 92325
CATEGORIES:Community Meeting,Family Friendly
END:VEVENT
BEGIN:VEVENT
DTSTART;TZID=America/Los_Angeles:20270119T073000
DTEND;TZID=America/Los_Angeles:20270119T093000
DTSTAMP:20260423T153618
CREATED:20250128T175059Z
LAST-MODIFIED:20250128T175059Z
UID:10004356-1800343800-1800351000@www.crestlinechamber.org
SUMMARY:Mountain Connections 🌟
DESCRIPTION:Looking to meet interesting people\, exchange valuable ideas\, and promote your business or upcoming events? Mountain Connections is the place to be! \nJoin us for an engaging and supportive environment where you can connect with like-minded individuals\, share opportunities\, and grow your presence in the community. Don’t miss this chance to build lasting relationships and spark new collaborations! 🤝✨
URL:https://www.crestlinechamber.org/event/mountain-connections-%f0%9f%8c%9f/2027-01-19/
LOCATION:Top Town Cafe\, 23420 Crest Forest Dr\, Crestline\, CA\, 92325
CATEGORIES:Community Meeting,Family Friendly
END:VEVENT
BEGIN:VEVENT
DTSTART;TZID=America/Los_Angeles:20270126T073000
DTEND;TZID=America/Los_Angeles:20270126T093000
DTSTAMP:20260423T153618
CREATED:20250128T175059Z
LAST-MODIFIED:20250128T175059Z
UID:10004357-1800948600-1800955800@www.crestlinechamber.org
SUMMARY:Mountain Connections 🌟
DESCRIPTION:Looking to meet interesting people\, exchange valuable ideas\, and promote your business or upcoming events? Mountain Connections is the place to be! \nJoin us for an engaging and supportive environment where you can connect with like-minded individuals\, share opportunities\, and grow your presence in the community. Don’t miss this chance to build lasting relationships and spark new collaborations! 🤝✨
URL:https://www.crestlinechamber.org/event/mountain-connections-%f0%9f%8c%9f/2027-01-26/
LOCATION:Top Town Cafe\, 23420 Crest Forest Dr\, Crestline\, CA\, 92325
CATEGORIES:Community Meeting,Family Friendly
END:VEVENT
BEGIN:VEVENT
DTSTART;TZID=America/Los_Angeles:20270202T073000
DTEND;TZID=America/Los_Angeles:20270202T093000
DTSTAMP:20260423T153618
CREATED:20250128T175059Z
LAST-MODIFIED:20250128T175059Z
UID:10004358-1801553400-1801560600@www.crestlinechamber.org
SUMMARY:Mountain Connections 🌟
DESCRIPTION:Looking to meet interesting people\, exchange valuable ideas\, and promote your business or upcoming events? Mountain Connections is the place to be! \nJoin us for an engaging and supportive environment where you can connect with like-minded individuals\, share opportunities\, and grow your presence in the community. Don’t miss this chance to build lasting relationships and spark new collaborations! 🤝✨
URL:https://www.crestlinechamber.org/event/mountain-connections-%f0%9f%8c%9f/2027-02-02/
LOCATION:Top Town Cafe\, 23420 Crest Forest Dr\, Crestline\, CA\, 92325
CATEGORIES:Community Meeting,Family Friendly
END:VEVENT
BEGIN:VEVENT
DTSTART;TZID=America/Los_Angeles:20270209T073000
DTEND;TZID=America/Los_Angeles:20270209T093000
DTSTAMP:20260423T153618
CREATED:20250128T175059Z
LAST-MODIFIED:20250128T175059Z
UID:10004359-1802158200-1802165400@www.crestlinechamber.org
SUMMARY:Mountain Connections 🌟
DESCRIPTION:Looking to meet interesting people\, exchange valuable ideas\, and promote your business or upcoming events? Mountain Connections is the place to be! \nJoin us for an engaging and supportive environment where you can connect with like-minded individuals\, share opportunities\, and grow your presence in the community. Don’t miss this chance to build lasting relationships and spark new collaborations! 🤝✨
URL:https://www.crestlinechamber.org/event/mountain-connections-%f0%9f%8c%9f/2027-02-09/
LOCATION:Top Town Cafe\, 23420 Crest Forest Dr\, Crestline\, CA\, 92325
CATEGORIES:Community Meeting,Family Friendly
END:VEVENT
END:VCALENDAR