BEGIN:VCALENDAR
VERSION:2.0
PRODID:-//Crestline Chamber of Commerce - ECPv6.15.20//NONSGML v1.0//EN
CALSCALE:GREGORIAN
METHOD:PUBLISH
X-WR-CALNAME:Crestline Chamber of Commerce
X-ORIGINAL-URL:https://www.crestlinechamber.org
X-WR-CALDESC:Events for Crestline Chamber of Commerce
REFRESH-INTERVAL;VALUE=DURATION:PT1H
X-Robots-Tag:noindex
X-PUBLISHED-TTL:PT1H
BEGIN:VTIMEZONE
TZID:America/Los_Angeles
BEGIN:DAYLIGHT
TZOFFSETFROM:-0800
TZOFFSETTO:-0700
TZNAME:PDT
DTSTART:20260308T100000
END:DAYLIGHT
BEGIN:STANDARD
TZOFFSETFROM:-0700
TZOFFSETTO:-0800
TZNAME:PST
DTSTART:20261101T090000
END:STANDARD
BEGIN:DAYLIGHT
TZOFFSETFROM:-0800
TZOFFSETTO:-0700
TZNAME:PDT
DTSTART:20270314T100000
END:DAYLIGHT
BEGIN:STANDARD
TZOFFSETFROM:-0700
TZOFFSETTO:-0800
TZNAME:PST
DTSTART:20271107T090000
END:STANDARD
BEGIN:DAYLIGHT
TZOFFSETFROM:-0800
TZOFFSETTO:-0700
TZNAME:PDT
DTSTART:20280312T100000
END:DAYLIGHT
BEGIN:STANDARD
TZOFFSETFROM:-0700
TZOFFSETTO:-0800
TZNAME:PST
DTSTART:20281105T090000
END:STANDARD
END:VTIMEZONE
BEGIN:VEVENT
DTSTART;TZID=America/Los_Angeles:20270330T073000
DTEND;TZID=America/Los_Angeles:20270330T093000
DTSTAMP:20260423T215502
CREATED:20250128T175059Z
LAST-MODIFIED:20250128T175059Z
UID:10004366-1806391800-1806399000@www.crestlinechamber.org
SUMMARY:Mountain Connections 🌟
DESCRIPTION:Looking to meet interesting people\, exchange valuable ideas\, and promote your business or upcoming events? Mountain Connections is the place to be! \nJoin us for an engaging and supportive environment where you can connect with like-minded individuals\, share opportunities\, and grow your presence in the community. Don’t miss this chance to build lasting relationships and spark new collaborations! 🤝✨
URL:https://www.crestlinechamber.org/event/mountain-connections-%f0%9f%8c%9f/2027-03-30/
LOCATION:Top Town Cafe\, 23420 Crest Forest Dr\, Crestline\, CA\, 92325
CATEGORIES:Community Meeting,Family Friendly
END:VEVENT
BEGIN:VEVENT
DTSTART;TZID=America/Los_Angeles:20270406T073000
DTEND;TZID=America/Los_Angeles:20270406T093000
DTSTAMP:20260423T215502
CREATED:20250128T175059Z
LAST-MODIFIED:20250128T175059Z
UID:10004367-1806996600-1807003800@www.crestlinechamber.org
SUMMARY:Mountain Connections 🌟
DESCRIPTION:Looking to meet interesting people\, exchange valuable ideas\, and promote your business or upcoming events? Mountain Connections is the place to be! \nJoin us for an engaging and supportive environment where you can connect with like-minded individuals\, share opportunities\, and grow your presence in the community. Don’t miss this chance to build lasting relationships and spark new collaborations! 🤝✨
URL:https://www.crestlinechamber.org/event/mountain-connections-%f0%9f%8c%9f/2027-04-06/
LOCATION:Top Town Cafe\, 23420 Crest Forest Dr\, Crestline\, CA\, 92325
CATEGORIES:Community Meeting,Family Friendly
END:VEVENT
BEGIN:VEVENT
DTSTART;TZID=America/Los_Angeles:20270413T073000
DTEND;TZID=America/Los_Angeles:20270413T093000
DTSTAMP:20260423T215502
CREATED:20250128T175059Z
LAST-MODIFIED:20250128T175059Z
UID:10004368-1807601400-1807608600@www.crestlinechamber.org
SUMMARY:Mountain Connections 🌟
DESCRIPTION:Looking to meet interesting people\, exchange valuable ideas\, and promote your business or upcoming events? Mountain Connections is the place to be! \nJoin us for an engaging and supportive environment where you can connect with like-minded individuals\, share opportunities\, and grow your presence in the community. Don’t miss this chance to build lasting relationships and spark new collaborations! 🤝✨
URL:https://www.crestlinechamber.org/event/mountain-connections-%f0%9f%8c%9f/2027-04-13/
LOCATION:Top Town Cafe\, 23420 Crest Forest Dr\, Crestline\, CA\, 92325
CATEGORIES:Community Meeting,Family Friendly
END:VEVENT
BEGIN:VEVENT
DTSTART;TZID=America/Los_Angeles:20270420T073000
DTEND;TZID=America/Los_Angeles:20270420T093000
DTSTAMP:20260423T215502
CREATED:20250128T175059Z
LAST-MODIFIED:20250128T175059Z
UID:10004369-1808206200-1808213400@www.crestlinechamber.org
SUMMARY:Mountain Connections 🌟
DESCRIPTION:Looking to meet interesting people\, exchange valuable ideas\, and promote your business or upcoming events? Mountain Connections is the place to be! \nJoin us for an engaging and supportive environment where you can connect with like-minded individuals\, share opportunities\, and grow your presence in the community. Don’t miss this chance to build lasting relationships and spark new collaborations! 🤝✨
URL:https://www.crestlinechamber.org/event/mountain-connections-%f0%9f%8c%9f/2027-04-20/
LOCATION:Top Town Cafe\, 23420 Crest Forest Dr\, Crestline\, CA\, 92325
CATEGORIES:Community Meeting,Family Friendly
END:VEVENT
BEGIN:VEVENT
DTSTART;TZID=America/Los_Angeles:20270427T073000
DTEND;TZID=America/Los_Angeles:20270427T093000
DTSTAMP:20260423T215502
CREATED:20250128T175059Z
LAST-MODIFIED:20250128T175059Z
UID:10004370-1808811000-1808818200@www.crestlinechamber.org
SUMMARY:Mountain Connections 🌟
DESCRIPTION:Looking to meet interesting people\, exchange valuable ideas\, and promote your business or upcoming events? Mountain Connections is the place to be! \nJoin us for an engaging and supportive environment where you can connect with like-minded individuals\, share opportunities\, and grow your presence in the community. Don’t miss this chance to build lasting relationships and spark new collaborations! 🤝✨
URL:https://www.crestlinechamber.org/event/mountain-connections-%f0%9f%8c%9f/2027-04-27/
LOCATION:Top Town Cafe\, 23420 Crest Forest Dr\, Crestline\, CA\, 92325
CATEGORIES:Community Meeting,Family Friendly
END:VEVENT
BEGIN:VEVENT
DTSTART;TZID=America/Los_Angeles:20270504T073000
DTEND;TZID=America/Los_Angeles:20270504T093000
DTSTAMP:20260423T215502
CREATED:20250128T175059Z
LAST-MODIFIED:20250128T175059Z
UID:10004371-1809415800-1809423000@www.crestlinechamber.org
SUMMARY:Mountain Connections 🌟
DESCRIPTION:Looking to meet interesting people\, exchange valuable ideas\, and promote your business or upcoming events? Mountain Connections is the place to be! \nJoin us for an engaging and supportive environment where you can connect with like-minded individuals\, share opportunities\, and grow your presence in the community. Don’t miss this chance to build lasting relationships and spark new collaborations! 🤝✨
URL:https://www.crestlinechamber.org/event/mountain-connections-%f0%9f%8c%9f/2027-05-04/
LOCATION:Top Town Cafe\, 23420 Crest Forest Dr\, Crestline\, CA\, 92325
CATEGORIES:Community Meeting,Family Friendly
END:VEVENT
BEGIN:VEVENT
DTSTART;TZID=America/Los_Angeles:20270511T073000
DTEND;TZID=America/Los_Angeles:20270511T093000
DTSTAMP:20260423T215502
CREATED:20250128T175059Z
LAST-MODIFIED:20250128T175059Z
UID:10004372-1810020600-1810027800@www.crestlinechamber.org
SUMMARY:Mountain Connections 🌟
DESCRIPTION:Looking to meet interesting people\, exchange valuable ideas\, and promote your business or upcoming events? Mountain Connections is the place to be! \nJoin us for an engaging and supportive environment where you can connect with like-minded individuals\, share opportunities\, and grow your presence in the community. Don’t miss this chance to build lasting relationships and spark new collaborations! 🤝✨
URL:https://www.crestlinechamber.org/event/mountain-connections-%f0%9f%8c%9f/2027-05-11/
LOCATION:Top Town Cafe\, 23420 Crest Forest Dr\, Crestline\, CA\, 92325
CATEGORIES:Community Meeting,Family Friendly
END:VEVENT
BEGIN:VEVENT
DTSTART;TZID=America/Los_Angeles:20270518T073000
DTEND;TZID=America/Los_Angeles:20270518T093000
DTSTAMP:20260423T215502
CREATED:20250128T175059Z
LAST-MODIFIED:20250128T175059Z
UID:10004373-1810625400-1810632600@www.crestlinechamber.org
SUMMARY:Mountain Connections 🌟
DESCRIPTION:Looking to meet interesting people\, exchange valuable ideas\, and promote your business or upcoming events? Mountain Connections is the place to be! \nJoin us for an engaging and supportive environment where you can connect with like-minded individuals\, share opportunities\, and grow your presence in the community. Don’t miss this chance to build lasting relationships and spark new collaborations! 🤝✨
URL:https://www.crestlinechamber.org/event/mountain-connections-%f0%9f%8c%9f/2027-05-18/
LOCATION:Top Town Cafe\, 23420 Crest Forest Dr\, Crestline\, CA\, 92325
CATEGORIES:Community Meeting,Family Friendly
END:VEVENT
BEGIN:VEVENT
DTSTART;TZID=America/Los_Angeles:20270525T073000
DTEND;TZID=America/Los_Angeles:20270525T093000
DTSTAMP:20260423T215502
CREATED:20250128T175059Z
LAST-MODIFIED:20250128T175059Z
UID:10004374-1811230200-1811237400@www.crestlinechamber.org
SUMMARY:Mountain Connections 🌟
DESCRIPTION:Looking to meet interesting people\, exchange valuable ideas\, and promote your business or upcoming events? Mountain Connections is the place to be! \nJoin us for an engaging and supportive environment where you can connect with like-minded individuals\, share opportunities\, and grow your presence in the community. Don’t miss this chance to build lasting relationships and spark new collaborations! 🤝✨
URL:https://www.crestlinechamber.org/event/mountain-connections-%f0%9f%8c%9f/2027-05-25/
LOCATION:Top Town Cafe\, 23420 Crest Forest Dr\, Crestline\, CA\, 92325
CATEGORIES:Community Meeting,Family Friendly
END:VEVENT
BEGIN:VEVENT
DTSTART;TZID=America/Los_Angeles:20270601T073000
DTEND;TZID=America/Los_Angeles:20270601T093000
DTSTAMP:20260423T215502
CREATED:20250128T175059Z
LAST-MODIFIED:20250128T175059Z
UID:10004375-1811835000-1811842200@www.crestlinechamber.org
SUMMARY:Mountain Connections 🌟
DESCRIPTION:Looking to meet interesting people\, exchange valuable ideas\, and promote your business or upcoming events? Mountain Connections is the place to be! \nJoin us for an engaging and supportive environment where you can connect with like-minded individuals\, share opportunities\, and grow your presence in the community. Don’t miss this chance to build lasting relationships and spark new collaborations! 🤝✨
URL:https://www.crestlinechamber.org/event/mountain-connections-%f0%9f%8c%9f/2027-06-01/
LOCATION:Top Town Cafe\, 23420 Crest Forest Dr\, Crestline\, CA\, 92325
CATEGORIES:Community Meeting,Family Friendly
END:VEVENT
BEGIN:VEVENT
DTSTART;TZID=America/Los_Angeles:20270608T073000
DTEND;TZID=America/Los_Angeles:20270608T093000
DTSTAMP:20260423T215502
CREATED:20250128T175059Z
LAST-MODIFIED:20250128T175059Z
UID:10004376-1812439800-1812447000@www.crestlinechamber.org
SUMMARY:Mountain Connections 🌟
DESCRIPTION:Looking to meet interesting people\, exchange valuable ideas\, and promote your business or upcoming events? Mountain Connections is the place to be! \nJoin us for an engaging and supportive environment where you can connect with like-minded individuals\, share opportunities\, and grow your presence in the community. Don’t miss this chance to build lasting relationships and spark new collaborations! 🤝✨
URL:https://www.crestlinechamber.org/event/mountain-connections-%f0%9f%8c%9f/2027-06-08/
LOCATION:Top Town Cafe\, 23420 Crest Forest Dr\, Crestline\, CA\, 92325
CATEGORIES:Community Meeting,Family Friendly
END:VEVENT
BEGIN:VEVENT
DTSTART;TZID=America/Los_Angeles:20270615T073000
DTEND;TZID=America/Los_Angeles:20270615T093000
DTSTAMP:20260423T215502
CREATED:20250128T175059Z
LAST-MODIFIED:20250128T175059Z
UID:10004377-1813044600-1813051800@www.crestlinechamber.org
SUMMARY:Mountain Connections 🌟
DESCRIPTION:Looking to meet interesting people\, exchange valuable ideas\, and promote your business or upcoming events? Mountain Connections is the place to be! \nJoin us for an engaging and supportive environment where you can connect with like-minded individuals\, share opportunities\, and grow your presence in the community. Don’t miss this chance to build lasting relationships and spark new collaborations! 🤝✨
URL:https://www.crestlinechamber.org/event/mountain-connections-%f0%9f%8c%9f/2027-06-15/
LOCATION:Top Town Cafe\, 23420 Crest Forest Dr\, Crestline\, CA\, 92325
CATEGORIES:Community Meeting,Family Friendly
END:VEVENT
BEGIN:VEVENT
DTSTART;TZID=America/Los_Angeles:20270622T073000
DTEND;TZID=America/Los_Angeles:20270622T093000
DTSTAMP:20260423T215502
CREATED:20250128T175059Z
LAST-MODIFIED:20250128T175059Z
UID:10004378-1813649400-1813656600@www.crestlinechamber.org
SUMMARY:Mountain Connections 🌟
DESCRIPTION:Looking to meet interesting people\, exchange valuable ideas\, and promote your business or upcoming events? Mountain Connections is the place to be! \nJoin us for an engaging and supportive environment where you can connect with like-minded individuals\, share opportunities\, and grow your presence in the community. Don’t miss this chance to build lasting relationships and spark new collaborations! 🤝✨
URL:https://www.crestlinechamber.org/event/mountain-connections-%f0%9f%8c%9f/2027-06-22/
LOCATION:Top Town Cafe\, 23420 Crest Forest Dr\, Crestline\, CA\, 92325
CATEGORIES:Community Meeting,Family Friendly
END:VEVENT
BEGIN:VEVENT
DTSTART;TZID=America/Los_Angeles:20270629T073000
DTEND;TZID=America/Los_Angeles:20270629T093000
DTSTAMP:20260423T215502
CREATED:20250128T175059Z
LAST-MODIFIED:20250128T175059Z
UID:10004379-1814254200-1814261400@www.crestlinechamber.org
SUMMARY:Mountain Connections 🌟
DESCRIPTION:Looking to meet interesting people\, exchange valuable ideas\, and promote your business or upcoming events? Mountain Connections is the place to be! \nJoin us for an engaging and supportive environment where you can connect with like-minded individuals\, share opportunities\, and grow your presence in the community. Don’t miss this chance to build lasting relationships and spark new collaborations! 🤝✨
URL:https://www.crestlinechamber.org/event/mountain-connections-%f0%9f%8c%9f/2027-06-29/
LOCATION:Top Town Cafe\, 23420 Crest Forest Dr\, Crestline\, CA\, 92325
CATEGORIES:Community Meeting,Family Friendly
END:VEVENT
BEGIN:VEVENT
DTSTART;TZID=America/Los_Angeles:20270706T073000
DTEND;TZID=America/Los_Angeles:20270706T093000
DTSTAMP:20260423T215502
CREATED:20250128T175059Z
LAST-MODIFIED:20250128T175059Z
UID:10004380-1814859000-1814866200@www.crestlinechamber.org
SUMMARY:Mountain Connections 🌟
DESCRIPTION:Looking to meet interesting people\, exchange valuable ideas\, and promote your business or upcoming events? Mountain Connections is the place to be! \nJoin us for an engaging and supportive environment where you can connect with like-minded individuals\, share opportunities\, and grow your presence in the community. Don’t miss this chance to build lasting relationships and spark new collaborations! 🤝✨
URL:https://www.crestlinechamber.org/event/mountain-connections-%f0%9f%8c%9f/2027-07-06/
LOCATION:Top Town Cafe\, 23420 Crest Forest Dr\, Crestline\, CA\, 92325
CATEGORIES:Community Meeting,Family Friendly
END:VEVENT
BEGIN:VEVENT
DTSTART;TZID=America/Los_Angeles:20270713T073000
DTEND;TZID=America/Los_Angeles:20270713T093000
DTSTAMP:20260423T215502
CREATED:20250128T175059Z
LAST-MODIFIED:20250128T175059Z
UID:10004381-1815463800-1815471000@www.crestlinechamber.org
SUMMARY:Mountain Connections 🌟
DESCRIPTION:Looking to meet interesting people\, exchange valuable ideas\, and promote your business or upcoming events? Mountain Connections is the place to be! \nJoin us for an engaging and supportive environment where you can connect with like-minded individuals\, share opportunities\, and grow your presence in the community. Don’t miss this chance to build lasting relationships and spark new collaborations! 🤝✨
URL:https://www.crestlinechamber.org/event/mountain-connections-%f0%9f%8c%9f/2027-07-13/
LOCATION:Top Town Cafe\, 23420 Crest Forest Dr\, Crestline\, CA\, 92325
CATEGORIES:Community Meeting,Family Friendly
END:VEVENT
BEGIN:VEVENT
DTSTART;TZID=America/Los_Angeles:20270720T073000
DTEND;TZID=America/Los_Angeles:20270720T093000
DTSTAMP:20260423T215502
CREATED:20250128T175059Z
LAST-MODIFIED:20250128T175059Z
UID:10004382-1816068600-1816075800@www.crestlinechamber.org
SUMMARY:Mountain Connections 🌟
DESCRIPTION:Looking to meet interesting people\, exchange valuable ideas\, and promote your business or upcoming events? Mountain Connections is the place to be! \nJoin us for an engaging and supportive environment where you can connect with like-minded individuals\, share opportunities\, and grow your presence in the community. Don’t miss this chance to build lasting relationships and spark new collaborations! 🤝✨
URL:https://www.crestlinechamber.org/event/mountain-connections-%f0%9f%8c%9f/2027-07-20/
LOCATION:Top Town Cafe\, 23420 Crest Forest Dr\, Crestline\, CA\, 92325
CATEGORIES:Community Meeting,Family Friendly
END:VEVENT
BEGIN:VEVENT
DTSTART;TZID=America/Los_Angeles:20270727T073000
DTEND;TZID=America/Los_Angeles:20270727T093000
DTSTAMP:20260423T215502
CREATED:20250128T175059Z
LAST-MODIFIED:20250128T175059Z
UID:10004383-1816673400-1816680600@www.crestlinechamber.org
SUMMARY:Mountain Connections 🌟
DESCRIPTION:Looking to meet interesting people\, exchange valuable ideas\, and promote your business or upcoming events? Mountain Connections is the place to be! \nJoin us for an engaging and supportive environment where you can connect with like-minded individuals\, share opportunities\, and grow your presence in the community. Don’t miss this chance to build lasting relationships and spark new collaborations! 🤝✨
URL:https://www.crestlinechamber.org/event/mountain-connections-%f0%9f%8c%9f/2027-07-27/
LOCATION:Top Town Cafe\, 23420 Crest Forest Dr\, Crestline\, CA\, 92325
CATEGORIES:Community Meeting,Family Friendly
END:VEVENT
BEGIN:VEVENT
DTSTART;TZID=America/Los_Angeles:20270803T073000
DTEND;TZID=America/Los_Angeles:20270803T093000
DTSTAMP:20260423T215502
CREATED:20250128T175059Z
LAST-MODIFIED:20250128T175059Z
UID:10004384-1817278200-1817285400@www.crestlinechamber.org
SUMMARY:Mountain Connections 🌟
DESCRIPTION:Looking to meet interesting people\, exchange valuable ideas\, and promote your business or upcoming events? Mountain Connections is the place to be! \nJoin us for an engaging and supportive environment where you can connect with like-minded individuals\, share opportunities\, and grow your presence in the community. Don’t miss this chance to build lasting relationships and spark new collaborations! 🤝✨
URL:https://www.crestlinechamber.org/event/mountain-connections-%f0%9f%8c%9f/2027-08-03/
LOCATION:Top Town Cafe\, 23420 Crest Forest Dr\, Crestline\, CA\, 92325
CATEGORIES:Community Meeting,Family Friendly
END:VEVENT
BEGIN:VEVENT
DTSTART;TZID=America/Los_Angeles:20270810T073000
DTEND;TZID=America/Los_Angeles:20270810T093000
DTSTAMP:20260423T215502
CREATED:20250128T175059Z
LAST-MODIFIED:20250128T175059Z
UID:10004385-1817883000-1817890200@www.crestlinechamber.org
SUMMARY:Mountain Connections 🌟
DESCRIPTION:Looking to meet interesting people\, exchange valuable ideas\, and promote your business or upcoming events? Mountain Connections is the place to be! \nJoin us for an engaging and supportive environment where you can connect with like-minded individuals\, share opportunities\, and grow your presence in the community. Don’t miss this chance to build lasting relationships and spark new collaborations! 🤝✨
URL:https://www.crestlinechamber.org/event/mountain-connections-%f0%9f%8c%9f/2027-08-10/
LOCATION:Top Town Cafe\, 23420 Crest Forest Dr\, Crestline\, CA\, 92325
CATEGORIES:Community Meeting,Family Friendly
END:VEVENT
BEGIN:VEVENT
DTSTART;TZID=America/Los_Angeles:20270817T073000
DTEND;TZID=America/Los_Angeles:20270817T093000
DTSTAMP:20260423T215502
CREATED:20250128T175059Z
LAST-MODIFIED:20250128T175059Z
UID:10004386-1818487800-1818495000@www.crestlinechamber.org
SUMMARY:Mountain Connections 🌟
DESCRIPTION:Looking to meet interesting people\, exchange valuable ideas\, and promote your business or upcoming events? Mountain Connections is the place to be! \nJoin us for an engaging and supportive environment where you can connect with like-minded individuals\, share opportunities\, and grow your presence in the community. Don’t miss this chance to build lasting relationships and spark new collaborations! 🤝✨
URL:https://www.crestlinechamber.org/event/mountain-connections-%f0%9f%8c%9f/2027-08-17/
LOCATION:Top Town Cafe\, 23420 Crest Forest Dr\, Crestline\, CA\, 92325
CATEGORIES:Community Meeting,Family Friendly
END:VEVENT
BEGIN:VEVENT
DTSTART;TZID=America/Los_Angeles:20270824T073000
DTEND;TZID=America/Los_Angeles:20270824T093000
DTSTAMP:20260423T215502
CREATED:20250128T175059Z
LAST-MODIFIED:20250128T175059Z
UID:10004387-1819092600-1819099800@www.crestlinechamber.org
SUMMARY:Mountain Connections 🌟
DESCRIPTION:Looking to meet interesting people\, exchange valuable ideas\, and promote your business or upcoming events? Mountain Connections is the place to be! \nJoin us for an engaging and supportive environment where you can connect with like-minded individuals\, share opportunities\, and grow your presence in the community. Don’t miss this chance to build lasting relationships and spark new collaborations! 🤝✨
URL:https://www.crestlinechamber.org/event/mountain-connections-%f0%9f%8c%9f/2027-08-24/
LOCATION:Top Town Cafe\, 23420 Crest Forest Dr\, Crestline\, CA\, 92325
CATEGORIES:Community Meeting,Family Friendly
END:VEVENT
BEGIN:VEVENT
DTSTART;TZID=America/Los_Angeles:20270831T073000
DTEND;TZID=America/Los_Angeles:20270831T093000
DTSTAMP:20260423T215502
CREATED:20250128T175059Z
LAST-MODIFIED:20250128T175059Z
UID:10004388-1819697400-1819704600@www.crestlinechamber.org
SUMMARY:Mountain Connections 🌟
DESCRIPTION:Looking to meet interesting people\, exchange valuable ideas\, and promote your business or upcoming events? Mountain Connections is the place to be! \nJoin us for an engaging and supportive environment where you can connect with like-minded individuals\, share opportunities\, and grow your presence in the community. Don’t miss this chance to build lasting relationships and spark new collaborations! 🤝✨
URL:https://www.crestlinechamber.org/event/mountain-connections-%f0%9f%8c%9f/2027-08-31/
LOCATION:Top Town Cafe\, 23420 Crest Forest Dr\, Crestline\, CA\, 92325
CATEGORIES:Community Meeting,Family Friendly
END:VEVENT
BEGIN:VEVENT
DTSTART;TZID=America/Los_Angeles:20270907T073000
DTEND;TZID=America/Los_Angeles:20270907T093000
DTSTAMP:20260423T215502
CREATED:20250128T175059Z
LAST-MODIFIED:20250128T175059Z
UID:10004389-1820302200-1820309400@www.crestlinechamber.org
SUMMARY:Mountain Connections 🌟
DESCRIPTION:Looking to meet interesting people\, exchange valuable ideas\, and promote your business or upcoming events? Mountain Connections is the place to be! \nJoin us for an engaging and supportive environment where you can connect with like-minded individuals\, share opportunities\, and grow your presence in the community. Don’t miss this chance to build lasting relationships and spark new collaborations! 🤝✨
URL:https://www.crestlinechamber.org/event/mountain-connections-%f0%9f%8c%9f/2027-09-07/
LOCATION:Top Town Cafe\, 23420 Crest Forest Dr\, Crestline\, CA\, 92325
CATEGORIES:Community Meeting,Family Friendly
END:VEVENT
BEGIN:VEVENT
DTSTART;TZID=America/Los_Angeles:20270914T073000
DTEND;TZID=America/Los_Angeles:20270914T093000
DTSTAMP:20260423T215502
CREATED:20250128T175059Z
LAST-MODIFIED:20250128T175059Z
UID:10004390-1820907000-1820914200@www.crestlinechamber.org
SUMMARY:Mountain Connections 🌟
DESCRIPTION:Looking to meet interesting people\, exchange valuable ideas\, and promote your business or upcoming events? Mountain Connections is the place to be! \nJoin us for an engaging and supportive environment where you can connect with like-minded individuals\, share opportunities\, and grow your presence in the community. Don’t miss this chance to build lasting relationships and spark new collaborations! 🤝✨
URL:https://www.crestlinechamber.org/event/mountain-connections-%f0%9f%8c%9f/2027-09-14/
LOCATION:Top Town Cafe\, 23420 Crest Forest Dr\, Crestline\, CA\, 92325
CATEGORIES:Community Meeting,Family Friendly
END:VEVENT
BEGIN:VEVENT
DTSTART;TZID=America/Los_Angeles:20270921T073000
DTEND;TZID=America/Los_Angeles:20270921T093000
DTSTAMP:20260423T215502
CREATED:20250128T175059Z
LAST-MODIFIED:20250128T175059Z
UID:10004391-1821511800-1821519000@www.crestlinechamber.org
SUMMARY:Mountain Connections 🌟
DESCRIPTION:Looking to meet interesting people\, exchange valuable ideas\, and promote your business or upcoming events? Mountain Connections is the place to be! \nJoin us for an engaging and supportive environment where you can connect with like-minded individuals\, share opportunities\, and grow your presence in the community. Don’t miss this chance to build lasting relationships and spark new collaborations! 🤝✨
URL:https://www.crestlinechamber.org/event/mountain-connections-%f0%9f%8c%9f/2027-09-21/
LOCATION:Top Town Cafe\, 23420 Crest Forest Dr\, Crestline\, CA\, 92325
CATEGORIES:Community Meeting,Family Friendly
END:VEVENT
BEGIN:VEVENT
DTSTART;TZID=America/Los_Angeles:20270928T073000
DTEND;TZID=America/Los_Angeles:20270928T093000
DTSTAMP:20260423T215502
CREATED:20250128T175059Z
LAST-MODIFIED:20250128T175059Z
UID:10004392-1822116600-1822123800@www.crestlinechamber.org
SUMMARY:Mountain Connections 🌟
DESCRIPTION:Looking to meet interesting people\, exchange valuable ideas\, and promote your business or upcoming events? Mountain Connections is the place to be! \nJoin us for an engaging and supportive environment where you can connect with like-minded individuals\, share opportunities\, and grow your presence in the community. Don’t miss this chance to build lasting relationships and spark new collaborations! 🤝✨
URL:https://www.crestlinechamber.org/event/mountain-connections-%f0%9f%8c%9f/2027-09-28/
LOCATION:Top Town Cafe\, 23420 Crest Forest Dr\, Crestline\, CA\, 92325
CATEGORIES:Community Meeting,Family Friendly
END:VEVENT
BEGIN:VEVENT
DTSTART;TZID=America/Los_Angeles:20271005T073000
DTEND;TZID=America/Los_Angeles:20271005T093000
DTSTAMP:20260423T215502
CREATED:20250128T175059Z
LAST-MODIFIED:20250128T175059Z
UID:10004393-1822721400-1822728600@www.crestlinechamber.org
SUMMARY:Mountain Connections 🌟
DESCRIPTION:Looking to meet interesting people\, exchange valuable ideas\, and promote your business or upcoming events? Mountain Connections is the place to be! \nJoin us for an engaging and supportive environment where you can connect with like-minded individuals\, share opportunities\, and grow your presence in the community. Don’t miss this chance to build lasting relationships and spark new collaborations! 🤝✨
URL:https://www.crestlinechamber.org/event/mountain-connections-%f0%9f%8c%9f/2027-10-05/
LOCATION:Top Town Cafe\, 23420 Crest Forest Dr\, Crestline\, CA\, 92325
CATEGORIES:Community Meeting,Family Friendly
END:VEVENT
BEGIN:VEVENT
DTSTART;TZID=America/Los_Angeles:20271012T073000
DTEND;TZID=America/Los_Angeles:20271012T093000
DTSTAMP:20260423T215502
CREATED:20250128T175059Z
LAST-MODIFIED:20250128T175059Z
UID:10004394-1823326200-1823333400@www.crestlinechamber.org
SUMMARY:Mountain Connections 🌟
DESCRIPTION:Looking to meet interesting people\, exchange valuable ideas\, and promote your business or upcoming events? Mountain Connections is the place to be! \nJoin us for an engaging and supportive environment where you can connect with like-minded individuals\, share opportunities\, and grow your presence in the community. Don’t miss this chance to build lasting relationships and spark new collaborations! 🤝✨
URL:https://www.crestlinechamber.org/event/mountain-connections-%f0%9f%8c%9f/2027-10-12/
LOCATION:Top Town Cafe\, 23420 Crest Forest Dr\, Crestline\, CA\, 92325
CATEGORIES:Community Meeting,Family Friendly
END:VEVENT
BEGIN:VEVENT
DTSTART;TZID=America/Los_Angeles:20271019T073000
DTEND;TZID=America/Los_Angeles:20271019T093000
DTSTAMP:20260423T215502
CREATED:20250128T175059Z
LAST-MODIFIED:20250128T175059Z
UID:10004395-1823931000-1823938200@www.crestlinechamber.org
SUMMARY:Mountain Connections 🌟
DESCRIPTION:Looking to meet interesting people\, exchange valuable ideas\, and promote your business or upcoming events? Mountain Connections is the place to be! \nJoin us for an engaging and supportive environment where you can connect with like-minded individuals\, share opportunities\, and grow your presence in the community. Don’t miss this chance to build lasting relationships and spark new collaborations! 🤝✨
URL:https://www.crestlinechamber.org/event/mountain-connections-%f0%9f%8c%9f/2027-10-19/
LOCATION:Top Town Cafe\, 23420 Crest Forest Dr\, Crestline\, CA\, 92325
CATEGORIES:Community Meeting,Family Friendly
END:VEVENT
END:VCALENDAR