BEGIN:VCALENDAR
VERSION:2.0
PRODID:-//Crestline Chamber of Commerce - ECPv6.15.20//NONSGML v1.0//EN
CALSCALE:GREGORIAN
METHOD:PUBLISH
X-ORIGINAL-URL:https://www.crestlinechamber.org
X-WR-CALDESC:Events for Crestline Chamber of Commerce
REFRESH-INTERVAL;VALUE=DURATION:PT1H
X-Robots-Tag:noindex
X-PUBLISHED-TTL:PT1H
BEGIN:VTIMEZONE
TZID:America/Los_Angeles
BEGIN:DAYLIGHT
TZOFFSETFROM:-0800
TZOFFSETTO:-0700
TZNAME:PDT
DTSTART:20260308T100000
END:DAYLIGHT
BEGIN:STANDARD
TZOFFSETFROM:-0700
TZOFFSETTO:-0800
TZNAME:PST
DTSTART:20261101T090000
END:STANDARD
BEGIN:DAYLIGHT
TZOFFSETFROM:-0800
TZOFFSETTO:-0700
TZNAME:PDT
DTSTART:20270314T100000
END:DAYLIGHT
BEGIN:STANDARD
TZOFFSETFROM:-0700
TZOFFSETTO:-0800
TZNAME:PST
DTSTART:20271107T090000
END:STANDARD
BEGIN:DAYLIGHT
TZOFFSETFROM:-0800
TZOFFSETTO:-0700
TZNAME:PDT
DTSTART:20280312T100000
END:DAYLIGHT
BEGIN:STANDARD
TZOFFSETFROM:-0700
TZOFFSETTO:-0800
TZNAME:PST
DTSTART:20281105T090000
END:STANDARD
BEGIN:DAYLIGHT
TZOFFSETFROM:-0800
TZOFFSETTO:-0700
TZNAME:PDT
DTSTART:20290311T100000
END:DAYLIGHT
BEGIN:STANDARD
TZOFFSETFROM:-0700
TZOFFSETTO:-0800
TZNAME:PST
DTSTART:20291104T090000
END:STANDARD
END:VTIMEZONE
BEGIN:VEVENT
DTSTART;TZID=America/Los_Angeles:20271207T073000
DTEND;TZID=America/Los_Angeles:20271207T093000
DTSTAMP:20260424T024230
CREATED:20250128T175059Z
LAST-MODIFIED:20250128T175059Z
UID:10004402-1828164600-1828171800@www.crestlinechamber.org
SUMMARY:Mountain Connections 🌟
DESCRIPTION:Looking to meet interesting people\, exchange valuable ideas\, and promote your business or upcoming events? Mountain Connections is the place to be! \nJoin us for an engaging and supportive environment where you can connect with like-minded individuals\, share opportunities\, and grow your presence in the community. Don’t miss this chance to build lasting relationships and spark new collaborations! 🤝✨
URL:https://www.crestlinechamber.org/event/mountain-connections-%f0%9f%8c%9f/2027-12-07/
LOCATION:Top Town Cafe\, 23420 Crest Forest Dr\, Crestline\, CA\, 92325
CATEGORIES:Community Meeting,Family Friendly
END:VEVENT
BEGIN:VEVENT
DTSTART;TZID=America/Los_Angeles:20271214T073000
DTEND;TZID=America/Los_Angeles:20271214T093000
DTSTAMP:20260424T024230
CREATED:20250128T175059Z
LAST-MODIFIED:20250128T175059Z
UID:10004403-1828769400-1828776600@www.crestlinechamber.org
SUMMARY:Mountain Connections 🌟
DESCRIPTION:Looking to meet interesting people\, exchange valuable ideas\, and promote your business or upcoming events? Mountain Connections is the place to be! \nJoin us for an engaging and supportive environment where you can connect with like-minded individuals\, share opportunities\, and grow your presence in the community. Don’t miss this chance to build lasting relationships and spark new collaborations! 🤝✨
URL:https://www.crestlinechamber.org/event/mountain-connections-%f0%9f%8c%9f/2027-12-14/
LOCATION:Top Town Cafe\, 23420 Crest Forest Dr\, Crestline\, CA\, 92325
CATEGORIES:Community Meeting,Family Friendly
END:VEVENT
BEGIN:VEVENT
DTSTART;TZID=America/Los_Angeles:20271221T073000
DTEND;TZID=America/Los_Angeles:20271221T093000
DTSTAMP:20260424T024230
CREATED:20250128T175059Z
LAST-MODIFIED:20250128T175059Z
UID:10004404-1829374200-1829381400@www.crestlinechamber.org
SUMMARY:Mountain Connections 🌟
DESCRIPTION:Looking to meet interesting people\, exchange valuable ideas\, and promote your business or upcoming events? Mountain Connections is the place to be! \nJoin us for an engaging and supportive environment where you can connect with like-minded individuals\, share opportunities\, and grow your presence in the community. Don’t miss this chance to build lasting relationships and spark new collaborations! 🤝✨
URL:https://www.crestlinechamber.org/event/mountain-connections-%f0%9f%8c%9f/2027-12-21/
LOCATION:Top Town Cafe\, 23420 Crest Forest Dr\, Crestline\, CA\, 92325
CATEGORIES:Community Meeting,Family Friendly
END:VEVENT
BEGIN:VEVENT
DTSTART;TZID=America/Los_Angeles:20271228T073000
DTEND;TZID=America/Los_Angeles:20271228T093000
DTSTAMP:20260424T024230
CREATED:20250128T175059Z
LAST-MODIFIED:20250128T175059Z
UID:10004405-1829979000-1829986200@www.crestlinechamber.org
SUMMARY:Mountain Connections 🌟
DESCRIPTION:Looking to meet interesting people\, exchange valuable ideas\, and promote your business or upcoming events? Mountain Connections is the place to be! \nJoin us for an engaging and supportive environment where you can connect with like-minded individuals\, share opportunities\, and grow your presence in the community. Don’t miss this chance to build lasting relationships and spark new collaborations! 🤝✨
URL:https://www.crestlinechamber.org/event/mountain-connections-%f0%9f%8c%9f/2027-12-28/
LOCATION:Top Town Cafe\, 23420 Crest Forest Dr\, Crestline\, CA\, 92325
CATEGORIES:Community Meeting,Family Friendly
END:VEVENT
BEGIN:VEVENT
DTSTART;TZID=America/Los_Angeles:20280104T073000
DTEND;TZID=America/Los_Angeles:20280104T093000
DTSTAMP:20260424T024230
CREATED:20250128T175059Z
LAST-MODIFIED:20250128T175059Z
UID:10004406-1830583800-1830591000@www.crestlinechamber.org
SUMMARY:Mountain Connections 🌟
DESCRIPTION:Looking to meet interesting people\, exchange valuable ideas\, and promote your business or upcoming events? Mountain Connections is the place to be! \nJoin us for an engaging and supportive environment where you can connect with like-minded individuals\, share opportunities\, and grow your presence in the community. Don’t miss this chance to build lasting relationships and spark new collaborations! 🤝✨
URL:https://www.crestlinechamber.org/event/mountain-connections-%f0%9f%8c%9f/2028-01-04/
LOCATION:Top Town Cafe\, 23420 Crest Forest Dr\, Crestline\, CA\, 92325
CATEGORIES:Community Meeting,Family Friendly
END:VEVENT
BEGIN:VEVENT
DTSTART;TZID=America/Los_Angeles:20280111T073000
DTEND;TZID=America/Los_Angeles:20280111T093000
DTSTAMP:20260424T024230
CREATED:20250128T175059Z
LAST-MODIFIED:20250128T175059Z
UID:10004407-1831188600-1831195800@www.crestlinechamber.org
SUMMARY:Mountain Connections 🌟
DESCRIPTION:Looking to meet interesting people\, exchange valuable ideas\, and promote your business or upcoming events? Mountain Connections is the place to be! \nJoin us for an engaging and supportive environment where you can connect with like-minded individuals\, share opportunities\, and grow your presence in the community. Don’t miss this chance to build lasting relationships and spark new collaborations! 🤝✨
URL:https://www.crestlinechamber.org/event/mountain-connections-%f0%9f%8c%9f/2028-01-11/
LOCATION:Top Town Cafe\, 23420 Crest Forest Dr\, Crestline\, CA\, 92325
CATEGORIES:Community Meeting,Family Friendly
END:VEVENT
BEGIN:VEVENT
DTSTART;TZID=America/Los_Angeles:20280118T073000
DTEND;TZID=America/Los_Angeles:20280118T093000
DTSTAMP:20260424T024230
CREATED:20250128T175059Z
LAST-MODIFIED:20250128T175059Z
UID:10004408-1831793400-1831800600@www.crestlinechamber.org
SUMMARY:Mountain Connections 🌟
DESCRIPTION:Looking to meet interesting people\, exchange valuable ideas\, and promote your business or upcoming events? Mountain Connections is the place to be! \nJoin us for an engaging and supportive environment where you can connect with like-minded individuals\, share opportunities\, and grow your presence in the community. Don’t miss this chance to build lasting relationships and spark new collaborations! 🤝✨
URL:https://www.crestlinechamber.org/event/mountain-connections-%f0%9f%8c%9f/2028-01-18/
LOCATION:Top Town Cafe\, 23420 Crest Forest Dr\, Crestline\, CA\, 92325
CATEGORIES:Community Meeting,Family Friendly
END:VEVENT
BEGIN:VEVENT
DTSTART;TZID=America/Los_Angeles:20280125T073000
DTEND;TZID=America/Los_Angeles:20280125T093000
DTSTAMP:20260424T024230
CREATED:20250128T175059Z
LAST-MODIFIED:20250128T175059Z
UID:10004409-1832398200-1832405400@www.crestlinechamber.org
SUMMARY:Mountain Connections 🌟
DESCRIPTION:Looking to meet interesting people\, exchange valuable ideas\, and promote your business or upcoming events? Mountain Connections is the place to be! \nJoin us for an engaging and supportive environment where you can connect with like-minded individuals\, share opportunities\, and grow your presence in the community. Don’t miss this chance to build lasting relationships and spark new collaborations! 🤝✨
URL:https://www.crestlinechamber.org/event/mountain-connections-%f0%9f%8c%9f/2028-01-25/
LOCATION:Top Town Cafe\, 23420 Crest Forest Dr\, Crestline\, CA\, 92325
CATEGORIES:Community Meeting,Family Friendly
END:VEVENT
BEGIN:VEVENT
DTSTART;TZID=America/Los_Angeles:20280201T073000
DTEND;TZID=America/Los_Angeles:20280201T093000
DTSTAMP:20260424T024230
CREATED:20250128T175059Z
LAST-MODIFIED:20250128T175059Z
UID:10004410-1833003000-1833010200@www.crestlinechamber.org
SUMMARY:Mountain Connections 🌟
DESCRIPTION:Looking to meet interesting people\, exchange valuable ideas\, and promote your business or upcoming events? Mountain Connections is the place to be! \nJoin us for an engaging and supportive environment where you can connect with like-minded individuals\, share opportunities\, and grow your presence in the community. Don’t miss this chance to build lasting relationships and spark new collaborations! 🤝✨
URL:https://www.crestlinechamber.org/event/mountain-connections-%f0%9f%8c%9f/2028-02-01/
LOCATION:Top Town Cafe\, 23420 Crest Forest Dr\, Crestline\, CA\, 92325
CATEGORIES:Community Meeting,Family Friendly
END:VEVENT
BEGIN:VEVENT
DTSTART;TZID=America/Los_Angeles:20280208T073000
DTEND;TZID=America/Los_Angeles:20280208T093000
DTSTAMP:20260424T024230
CREATED:20250128T175059Z
LAST-MODIFIED:20250128T175059Z
UID:10004411-1833607800-1833615000@www.crestlinechamber.org
SUMMARY:Mountain Connections 🌟
DESCRIPTION:Looking to meet interesting people\, exchange valuable ideas\, and promote your business or upcoming events? Mountain Connections is the place to be! \nJoin us for an engaging and supportive environment where you can connect with like-minded individuals\, share opportunities\, and grow your presence in the community. Don’t miss this chance to build lasting relationships and spark new collaborations! 🤝✨
URL:https://www.crestlinechamber.org/event/mountain-connections-%f0%9f%8c%9f/2028-02-08/
LOCATION:Top Town Cafe\, 23420 Crest Forest Dr\, Crestline\, CA\, 92325
CATEGORIES:Community Meeting,Family Friendly
END:VEVENT
BEGIN:VEVENT
DTSTART;TZID=America/Los_Angeles:20280215T073000
DTEND;TZID=America/Los_Angeles:20280215T093000
DTSTAMP:20260424T024230
CREATED:20250128T175059Z
LAST-MODIFIED:20250128T175059Z
UID:10004412-1834212600-1834219800@www.crestlinechamber.org
SUMMARY:Mountain Connections 🌟
DESCRIPTION:Looking to meet interesting people\, exchange valuable ideas\, and promote your business or upcoming events? Mountain Connections is the place to be! \nJoin us for an engaging and supportive environment where you can connect with like-minded individuals\, share opportunities\, and grow your presence in the community. Don’t miss this chance to build lasting relationships and spark new collaborations! 🤝✨
URL:https://www.crestlinechamber.org/event/mountain-connections-%f0%9f%8c%9f/2028-02-15/
LOCATION:Top Town Cafe\, 23420 Crest Forest Dr\, Crestline\, CA\, 92325
CATEGORIES:Community Meeting,Family Friendly
END:VEVENT
BEGIN:VEVENT
DTSTART;TZID=America/Los_Angeles:20280222T073000
DTEND;TZID=America/Los_Angeles:20280222T093000
DTSTAMP:20260424T024230
CREATED:20250128T175059Z
LAST-MODIFIED:20250128T175059Z
UID:10004413-1834817400-1834824600@www.crestlinechamber.org
SUMMARY:Mountain Connections 🌟
DESCRIPTION:Looking to meet interesting people\, exchange valuable ideas\, and promote your business or upcoming events? Mountain Connections is the place to be! \nJoin us for an engaging and supportive environment where you can connect with like-minded individuals\, share opportunities\, and grow your presence in the community. Don’t miss this chance to build lasting relationships and spark new collaborations! 🤝✨
URL:https://www.crestlinechamber.org/event/mountain-connections-%f0%9f%8c%9f/2028-02-22/
LOCATION:Top Town Cafe\, 23420 Crest Forest Dr\, Crestline\, CA\, 92325
CATEGORIES:Community Meeting,Family Friendly
END:VEVENT
BEGIN:VEVENT
DTSTART;TZID=America/Los_Angeles:20280229T073000
DTEND;TZID=America/Los_Angeles:20280229T093000
DTSTAMP:20260424T024230
CREATED:20250128T175059Z
LAST-MODIFIED:20250128T175059Z
UID:10004414-1835422200-1835429400@www.crestlinechamber.org
SUMMARY:Mountain Connections 🌟
DESCRIPTION:Looking to meet interesting people\, exchange valuable ideas\, and promote your business or upcoming events? Mountain Connections is the place to be! \nJoin us for an engaging and supportive environment where you can connect with like-minded individuals\, share opportunities\, and grow your presence in the community. Don’t miss this chance to build lasting relationships and spark new collaborations! 🤝✨
URL:https://www.crestlinechamber.org/event/mountain-connections-%f0%9f%8c%9f/2028-02-29/
LOCATION:Top Town Cafe\, 23420 Crest Forest Dr\, Crestline\, CA\, 92325
CATEGORIES:Community Meeting,Family Friendly
END:VEVENT
BEGIN:VEVENT
DTSTART;TZID=America/Los_Angeles:20280307T073000
DTEND;TZID=America/Los_Angeles:20280307T093000
DTSTAMP:20260424T024230
CREATED:20250128T175059Z
LAST-MODIFIED:20250128T175059Z
UID:10004415-1836027000-1836034200@www.crestlinechamber.org
SUMMARY:Mountain Connections 🌟
DESCRIPTION:Looking to meet interesting people\, exchange valuable ideas\, and promote your business or upcoming events? Mountain Connections is the place to be! \nJoin us for an engaging and supportive environment where you can connect with like-minded individuals\, share opportunities\, and grow your presence in the community. Don’t miss this chance to build lasting relationships and spark new collaborations! 🤝✨
URL:https://www.crestlinechamber.org/event/mountain-connections-%f0%9f%8c%9f/2028-03-07/
LOCATION:Top Town Cafe\, 23420 Crest Forest Dr\, Crestline\, CA\, 92325
CATEGORIES:Community Meeting,Family Friendly
END:VEVENT
BEGIN:VEVENT
DTSTART;TZID=America/Los_Angeles:20280314T073000
DTEND;TZID=America/Los_Angeles:20280314T093000
DTSTAMP:20260424T024230
CREATED:20250128T175059Z
LAST-MODIFIED:20250128T175059Z
UID:10004416-1836631800-1836639000@www.crestlinechamber.org
SUMMARY:Mountain Connections 🌟
DESCRIPTION:Looking to meet interesting people\, exchange valuable ideas\, and promote your business or upcoming events? Mountain Connections is the place to be! \nJoin us for an engaging and supportive environment where you can connect with like-minded individuals\, share opportunities\, and grow your presence in the community. Don’t miss this chance to build lasting relationships and spark new collaborations! 🤝✨
URL:https://www.crestlinechamber.org/event/mountain-connections-%f0%9f%8c%9f/2028-03-14/
LOCATION:Top Town Cafe\, 23420 Crest Forest Dr\, Crestline\, CA\, 92325
CATEGORIES:Community Meeting,Family Friendly
END:VEVENT
BEGIN:VEVENT
DTSTART;TZID=America/Los_Angeles:20280321T073000
DTEND;TZID=America/Los_Angeles:20280321T093000
DTSTAMP:20260424T024230
CREATED:20250128T175059Z
LAST-MODIFIED:20250128T175059Z
UID:10004417-1837236600-1837243800@www.crestlinechamber.org
SUMMARY:Mountain Connections 🌟
DESCRIPTION:Looking to meet interesting people\, exchange valuable ideas\, and promote your business or upcoming events? Mountain Connections is the place to be! \nJoin us for an engaging and supportive environment where you can connect with like-minded individuals\, share opportunities\, and grow your presence in the community. Don’t miss this chance to build lasting relationships and spark new collaborations! 🤝✨
URL:https://www.crestlinechamber.org/event/mountain-connections-%f0%9f%8c%9f/2028-03-21/
LOCATION:Top Town Cafe\, 23420 Crest Forest Dr\, Crestline\, CA\, 92325
CATEGORIES:Community Meeting,Family Friendly
END:VEVENT
BEGIN:VEVENT
DTSTART;TZID=America/Los_Angeles:20280328T073000
DTEND;TZID=America/Los_Angeles:20280328T093000
DTSTAMP:20260424T024230
CREATED:20250128T175059Z
LAST-MODIFIED:20250128T175059Z
UID:10004418-1837841400-1837848600@www.crestlinechamber.org
SUMMARY:Mountain Connections 🌟
DESCRIPTION:Looking to meet interesting people\, exchange valuable ideas\, and promote your business or upcoming events? Mountain Connections is the place to be! \nJoin us for an engaging and supportive environment where you can connect with like-minded individuals\, share opportunities\, and grow your presence in the community. Don’t miss this chance to build lasting relationships and spark new collaborations! 🤝✨
URL:https://www.crestlinechamber.org/event/mountain-connections-%f0%9f%8c%9f/2028-03-28/
LOCATION:Top Town Cafe\, 23420 Crest Forest Dr\, Crestline\, CA\, 92325
CATEGORIES:Community Meeting,Family Friendly
END:VEVENT
BEGIN:VEVENT
DTSTART;TZID=America/Los_Angeles:20280404T073000
DTEND;TZID=America/Los_Angeles:20280404T093000
DTSTAMP:20260424T024230
CREATED:20250128T175059Z
LAST-MODIFIED:20250128T175059Z
UID:10004419-1838446200-1838453400@www.crestlinechamber.org
SUMMARY:Mountain Connections 🌟
DESCRIPTION:Looking to meet interesting people\, exchange valuable ideas\, and promote your business or upcoming events? Mountain Connections is the place to be! \nJoin us for an engaging and supportive environment where you can connect with like-minded individuals\, share opportunities\, and grow your presence in the community. Don’t miss this chance to build lasting relationships and spark new collaborations! 🤝✨
URL:https://www.crestlinechamber.org/event/mountain-connections-%f0%9f%8c%9f/2028-04-04/
LOCATION:Top Town Cafe\, 23420 Crest Forest Dr\, Crestline\, CA\, 92325
CATEGORIES:Community Meeting,Family Friendly
END:VEVENT
BEGIN:VEVENT
DTSTART;TZID=America/Los_Angeles:20280411T073000
DTEND;TZID=America/Los_Angeles:20280411T093000
DTSTAMP:20260424T024230
CREATED:20250128T175059Z
LAST-MODIFIED:20250128T175059Z
UID:10004420-1839051000-1839058200@www.crestlinechamber.org
SUMMARY:Mountain Connections 🌟
DESCRIPTION:Looking to meet interesting people\, exchange valuable ideas\, and promote your business or upcoming events? Mountain Connections is the place to be! \nJoin us for an engaging and supportive environment where you can connect with like-minded individuals\, share opportunities\, and grow your presence in the community. Don’t miss this chance to build lasting relationships and spark new collaborations! 🤝✨
URL:https://www.crestlinechamber.org/event/mountain-connections-%f0%9f%8c%9f/2028-04-11/
LOCATION:Top Town Cafe\, 23420 Crest Forest Dr\, Crestline\, CA\, 92325
CATEGORIES:Community Meeting,Family Friendly
END:VEVENT
BEGIN:VEVENT
DTSTART;TZID=America/Los_Angeles:20280418T073000
DTEND;TZID=America/Los_Angeles:20280418T093000
DTSTAMP:20260424T024230
CREATED:20250128T175059Z
LAST-MODIFIED:20250128T175059Z
UID:10004421-1839655800-1839663000@www.crestlinechamber.org
SUMMARY:Mountain Connections 🌟
DESCRIPTION:Looking to meet interesting people\, exchange valuable ideas\, and promote your business or upcoming events? Mountain Connections is the place to be! \nJoin us for an engaging and supportive environment where you can connect with like-minded individuals\, share opportunities\, and grow your presence in the community. Don’t miss this chance to build lasting relationships and spark new collaborations! 🤝✨
URL:https://www.crestlinechamber.org/event/mountain-connections-%f0%9f%8c%9f/2028-04-18/
LOCATION:Top Town Cafe\, 23420 Crest Forest Dr\, Crestline\, CA\, 92325
CATEGORIES:Community Meeting,Family Friendly
END:VEVENT
BEGIN:VEVENT
DTSTART;TZID=America/Los_Angeles:20280425T073000
DTEND;TZID=America/Los_Angeles:20280425T093000
DTSTAMP:20260424T024230
CREATED:20250128T175059Z
LAST-MODIFIED:20250128T175059Z
UID:10004422-1840260600-1840267800@www.crestlinechamber.org
SUMMARY:Mountain Connections 🌟
DESCRIPTION:Looking to meet interesting people\, exchange valuable ideas\, and promote your business or upcoming events? Mountain Connections is the place to be! \nJoin us for an engaging and supportive environment where you can connect with like-minded individuals\, share opportunities\, and grow your presence in the community. Don’t miss this chance to build lasting relationships and spark new collaborations! 🤝✨
URL:https://www.crestlinechamber.org/event/mountain-connections-%f0%9f%8c%9f/2028-04-25/
LOCATION:Top Town Cafe\, 23420 Crest Forest Dr\, Crestline\, CA\, 92325
CATEGORIES:Community Meeting,Family Friendly
END:VEVENT
BEGIN:VEVENT
DTSTART;TZID=America/Los_Angeles:20280502T073000
DTEND;TZID=America/Los_Angeles:20280502T093000
DTSTAMP:20260424T024230
CREATED:20250128T175059Z
LAST-MODIFIED:20250128T175059Z
UID:10004423-1840865400-1840872600@www.crestlinechamber.org
SUMMARY:Mountain Connections 🌟
DESCRIPTION:Looking to meet interesting people\, exchange valuable ideas\, and promote your business or upcoming events? Mountain Connections is the place to be! \nJoin us for an engaging and supportive environment where you can connect with like-minded individuals\, share opportunities\, and grow your presence in the community. Don’t miss this chance to build lasting relationships and spark new collaborations! 🤝✨
URL:https://www.crestlinechamber.org/event/mountain-connections-%f0%9f%8c%9f/2028-05-02/
LOCATION:Top Town Cafe\, 23420 Crest Forest Dr\, Crestline\, CA\, 92325
CATEGORIES:Community Meeting,Family Friendly
END:VEVENT
BEGIN:VEVENT
DTSTART;TZID=America/Los_Angeles:20280509T073000
DTEND;TZID=America/Los_Angeles:20280509T093000
DTSTAMP:20260424T024230
CREATED:20250128T175059Z
LAST-MODIFIED:20250128T175059Z
UID:10004424-1841470200-1841477400@www.crestlinechamber.org
SUMMARY:Mountain Connections 🌟
DESCRIPTION:Looking to meet interesting people\, exchange valuable ideas\, and promote your business or upcoming events? Mountain Connections is the place to be! \nJoin us for an engaging and supportive environment where you can connect with like-minded individuals\, share opportunities\, and grow your presence in the community. Don’t miss this chance to build lasting relationships and spark new collaborations! 🤝✨
URL:https://www.crestlinechamber.org/event/mountain-connections-%f0%9f%8c%9f/2028-05-09/
LOCATION:Top Town Cafe\, 23420 Crest Forest Dr\, Crestline\, CA\, 92325
CATEGORIES:Community Meeting,Family Friendly
END:VEVENT
BEGIN:VEVENT
DTSTART;TZID=America/Los_Angeles:20280516T073000
DTEND;TZID=America/Los_Angeles:20280516T093000
DTSTAMP:20260424T024230
CREATED:20250128T175059Z
LAST-MODIFIED:20250128T175059Z
UID:10004425-1842075000-1842082200@www.crestlinechamber.org
SUMMARY:Mountain Connections 🌟
DESCRIPTION:Looking to meet interesting people\, exchange valuable ideas\, and promote your business or upcoming events? Mountain Connections is the place to be! \nJoin us for an engaging and supportive environment where you can connect with like-minded individuals\, share opportunities\, and grow your presence in the community. Don’t miss this chance to build lasting relationships and spark new collaborations! 🤝✨
URL:https://www.crestlinechamber.org/event/mountain-connections-%f0%9f%8c%9f/2028-05-16/
LOCATION:Top Town Cafe\, 23420 Crest Forest Dr\, Crestline\, CA\, 92325
CATEGORIES:Community Meeting,Family Friendly
END:VEVENT
BEGIN:VEVENT
DTSTART;TZID=America/Los_Angeles:20280523T073000
DTEND;TZID=America/Los_Angeles:20280523T093000
DTSTAMP:20260424T024230
CREATED:20250128T175059Z
LAST-MODIFIED:20250128T175059Z
UID:10004426-1842679800-1842687000@www.crestlinechamber.org
SUMMARY:Mountain Connections 🌟
DESCRIPTION:Looking to meet interesting people\, exchange valuable ideas\, and promote your business or upcoming events? Mountain Connections is the place to be! \nJoin us for an engaging and supportive environment where you can connect with like-minded individuals\, share opportunities\, and grow your presence in the community. Don’t miss this chance to build lasting relationships and spark new collaborations! 🤝✨
URL:https://www.crestlinechamber.org/event/mountain-connections-%f0%9f%8c%9f/2028-05-23/
LOCATION:Top Town Cafe\, 23420 Crest Forest Dr\, Crestline\, CA\, 92325
CATEGORIES:Community Meeting,Family Friendly
END:VEVENT
BEGIN:VEVENT
DTSTART;TZID=America/Los_Angeles:20280530T073000
DTEND;TZID=America/Los_Angeles:20280530T093000
DTSTAMP:20260424T024230
CREATED:20250128T175059Z
LAST-MODIFIED:20250128T175059Z
UID:10004427-1843284600-1843291800@www.crestlinechamber.org
SUMMARY:Mountain Connections 🌟
DESCRIPTION:Looking to meet interesting people\, exchange valuable ideas\, and promote your business or upcoming events? Mountain Connections is the place to be! \nJoin us for an engaging and supportive environment where you can connect with like-minded individuals\, share opportunities\, and grow your presence in the community. Don’t miss this chance to build lasting relationships and spark new collaborations! 🤝✨
URL:https://www.crestlinechamber.org/event/mountain-connections-%f0%9f%8c%9f/2028-05-30/
LOCATION:Top Town Cafe\, 23420 Crest Forest Dr\, Crestline\, CA\, 92325
CATEGORIES:Community Meeting,Family Friendly
END:VEVENT
BEGIN:VEVENT
DTSTART;TZID=America/Los_Angeles:20280606T073000
DTEND;TZID=America/Los_Angeles:20280606T093000
DTSTAMP:20260424T024230
CREATED:20250128T175059Z
LAST-MODIFIED:20250128T175059Z
UID:10004428-1843889400-1843896600@www.crestlinechamber.org
SUMMARY:Mountain Connections 🌟
DESCRIPTION:Looking to meet interesting people\, exchange valuable ideas\, and promote your business or upcoming events? Mountain Connections is the place to be! \nJoin us for an engaging and supportive environment where you can connect with like-minded individuals\, share opportunities\, and grow your presence in the community. Don’t miss this chance to build lasting relationships and spark new collaborations! 🤝✨
URL:https://www.crestlinechamber.org/event/mountain-connections-%f0%9f%8c%9f/2028-06-06/
LOCATION:Top Town Cafe\, 23420 Crest Forest Dr\, Crestline\, CA\, 92325
CATEGORIES:Community Meeting,Family Friendly
END:VEVENT
BEGIN:VEVENT
DTSTART;TZID=America/Los_Angeles:20280613T073000
DTEND;TZID=America/Los_Angeles:20280613T093000
DTSTAMP:20260424T024230
CREATED:20250128T175059Z
LAST-MODIFIED:20250128T175059Z
UID:10004429-1844494200-1844501400@www.crestlinechamber.org
SUMMARY:Mountain Connections 🌟
DESCRIPTION:Looking to meet interesting people\, exchange valuable ideas\, and promote your business or upcoming events? Mountain Connections is the place to be! \nJoin us for an engaging and supportive environment where you can connect with like-minded individuals\, share opportunities\, and grow your presence in the community. Don’t miss this chance to build lasting relationships and spark new collaborations! 🤝✨
URL:https://www.crestlinechamber.org/event/mountain-connections-%f0%9f%8c%9f/2028-06-13/
LOCATION:Top Town Cafe\, 23420 Crest Forest Dr\, Crestline\, CA\, 92325
CATEGORIES:Community Meeting,Family Friendly
END:VEVENT
BEGIN:VEVENT
DTSTART;TZID=America/Los_Angeles:20280620T073000
DTEND;TZID=America/Los_Angeles:20280620T093000
DTSTAMP:20260424T024230
CREATED:20250128T175059Z
LAST-MODIFIED:20250128T175059Z
UID:10004430-1845099000-1845106200@www.crestlinechamber.org
SUMMARY:Mountain Connections 🌟
DESCRIPTION:Looking to meet interesting people\, exchange valuable ideas\, and promote your business or upcoming events? Mountain Connections is the place to be! \nJoin us for an engaging and supportive environment where you can connect with like-minded individuals\, share opportunities\, and grow your presence in the community. Don’t miss this chance to build lasting relationships and spark new collaborations! 🤝✨
URL:https://www.crestlinechamber.org/event/mountain-connections-%f0%9f%8c%9f/2028-06-20/
LOCATION:Top Town Cafe\, 23420 Crest Forest Dr\, Crestline\, CA\, 92325
CATEGORIES:Community Meeting,Family Friendly
END:VEVENT
BEGIN:VEVENT
DTSTART;TZID=America/Los_Angeles:20280627T073000
DTEND;TZID=America/Los_Angeles:20280627T093000
DTSTAMP:20260424T024230
CREATED:20250128T175059Z
LAST-MODIFIED:20250128T175059Z
UID:10004431-1845703800-1845711000@www.crestlinechamber.org
SUMMARY:Mountain Connections 🌟
DESCRIPTION:Looking to meet interesting people\, exchange valuable ideas\, and promote your business or upcoming events? Mountain Connections is the place to be! \nJoin us for an engaging and supportive environment where you can connect with like-minded individuals\, share opportunities\, and grow your presence in the community. Don’t miss this chance to build lasting relationships and spark new collaborations! 🤝✨
URL:https://www.crestlinechamber.org/event/mountain-connections-%f0%9f%8c%9f/2028-06-27/
LOCATION:Top Town Cafe\, 23420 Crest Forest Dr\, Crestline\, CA\, 92325
CATEGORIES:Community Meeting,Family Friendly
END:VEVENT
END:VCALENDAR