BEGIN:VCALENDAR
VERSION:2.0
PRODID:-//Crestline Chamber of Commerce - ECPv6.15.20//NONSGML v1.0//EN
CALSCALE:GREGORIAN
METHOD:PUBLISH
X-WR-CALNAME:Crestline Chamber of Commerce
X-ORIGINAL-URL:https://www.crestlinechamber.org
X-WR-CALDESC:Events for Crestline Chamber of Commerce
REFRESH-INTERVAL;VALUE=DURATION:PT1H
X-Robots-Tag:noindex
X-PUBLISHED-TTL:PT1H
BEGIN:VTIMEZONE
TZID:America/Los_Angeles
BEGIN:DAYLIGHT
TZOFFSETFROM:-0800
TZOFFSETTO:-0700
TZNAME:PDT
DTSTART:20270314T100000
END:DAYLIGHT
BEGIN:STANDARD
TZOFFSETFROM:-0700
TZOFFSETTO:-0800
TZNAME:PST
DTSTART:20271107T090000
END:STANDARD
BEGIN:DAYLIGHT
TZOFFSETFROM:-0800
TZOFFSETTO:-0700
TZNAME:PDT
DTSTART:20280312T100000
END:DAYLIGHT
BEGIN:STANDARD
TZOFFSETFROM:-0700
TZOFFSETTO:-0800
TZNAME:PST
DTSTART:20281105T090000
END:STANDARD
BEGIN:DAYLIGHT
TZOFFSETFROM:-0800
TZOFFSETTO:-0700
TZNAME:PDT
DTSTART:20290311T100000
END:DAYLIGHT
BEGIN:STANDARD
TZOFFSETFROM:-0700
TZOFFSETTO:-0800
TZNAME:PST
DTSTART:20291104T090000
END:STANDARD
BEGIN:DAYLIGHT
TZOFFSETFROM:-0800
TZOFFSETTO:-0700
TZNAME:PDT
DTSTART:20300310T100000
END:DAYLIGHT
BEGIN:STANDARD
TZOFFSETFROM:-0700
TZOFFSETTO:-0800
TZNAME:PST
DTSTART:20301103T090000
END:STANDARD
END:VTIMEZONE
BEGIN:VEVENT
DTSTART;TZID=America/Los_Angeles:20281027T190000
DTEND;TZID=America/Los_Angeles:20281027T230000
DTSTAMP:20260424T132038
CREATED:20250731T204051Z
LAST-MODIFIED:20250731T204220Z
UID:10006504-1856286000-1856300400@www.crestlinechamber.org
SUMMARY:Friday Night Karaoke! 🎤 🎼 🎸
DESCRIPTION:
URL:https://www.crestlinechamber.org/event/friday-night-karaoke-%f0%9f%8e%a4-%f0%9f%8e%bc-%f0%9f%8e%b8/2028-10-27/
LOCATION:The Tudor House\, Lake Arrowhead\, 850 Arrowhead Villa Road\, Lake Arrowhead\, 92352\, United States
CATEGORIES:Community Event,Family Friendly,Live Music
ATTACH;FMTTYPE=image/jpeg:https://www.crestlinechamber.org/wp-content/uploads/2025/07/THKaraokeWebsiteImage-1640-x-924-px.jpg
END:VEVENT
BEGIN:VEVENT
DTSTART;TZID=America/Los_Angeles:20281103T190000
DTEND;TZID=America/Los_Angeles:20281103T230000
DTSTAMP:20260424T132038
CREATED:20250731T204051Z
LAST-MODIFIED:20250731T204220Z
UID:10006505-1856890800-1856905200@www.crestlinechamber.org
SUMMARY:Friday Night Karaoke! 🎤 🎼 🎸
DESCRIPTION:
URL:https://www.crestlinechamber.org/event/friday-night-karaoke-%f0%9f%8e%a4-%f0%9f%8e%bc-%f0%9f%8e%b8/2028-11-03/
LOCATION:The Tudor House\, Lake Arrowhead\, 850 Arrowhead Villa Road\, Lake Arrowhead\, 92352\, United States
CATEGORIES:Community Event,Family Friendly,Live Music
ATTACH;FMTTYPE=image/jpeg:https://www.crestlinechamber.org/wp-content/uploads/2025/07/THKaraokeWebsiteImage-1640-x-924-px.jpg
END:VEVENT
BEGIN:VEVENT
DTSTART;TZID=America/Los_Angeles:20281110T190000
DTEND;TZID=America/Los_Angeles:20281110T230000
DTSTAMP:20260424T132038
CREATED:20250731T204051Z
LAST-MODIFIED:20250731T204220Z
UID:10006506-1857495600-1857510000@www.crestlinechamber.org
SUMMARY:Friday Night Karaoke! 🎤 🎼 🎸
DESCRIPTION:
URL:https://www.crestlinechamber.org/event/friday-night-karaoke-%f0%9f%8e%a4-%f0%9f%8e%bc-%f0%9f%8e%b8/2028-11-10/
LOCATION:The Tudor House\, Lake Arrowhead\, 850 Arrowhead Villa Road\, Lake Arrowhead\, 92352\, United States
CATEGORIES:Community Event,Family Friendly,Live Music
ATTACH;FMTTYPE=image/jpeg:https://www.crestlinechamber.org/wp-content/uploads/2025/07/THKaraokeWebsiteImage-1640-x-924-px.jpg
END:VEVENT
BEGIN:VEVENT
DTSTART;TZID=America/Los_Angeles:20281117T190000
DTEND;TZID=America/Los_Angeles:20281117T230000
DTSTAMP:20260424T132038
CREATED:20250731T204051Z
LAST-MODIFIED:20250731T204220Z
UID:10006507-1858100400-1858114800@www.crestlinechamber.org
SUMMARY:Friday Night Karaoke! 🎤 🎼 🎸
DESCRIPTION:
URL:https://www.crestlinechamber.org/event/friday-night-karaoke-%f0%9f%8e%a4-%f0%9f%8e%bc-%f0%9f%8e%b8/2028-11-17/
LOCATION:The Tudor House\, Lake Arrowhead\, 850 Arrowhead Villa Road\, Lake Arrowhead\, 92352\, United States
CATEGORIES:Community Event,Family Friendly,Live Music
ATTACH;FMTTYPE=image/jpeg:https://www.crestlinechamber.org/wp-content/uploads/2025/07/THKaraokeWebsiteImage-1640-x-924-px.jpg
END:VEVENT
BEGIN:VEVENT
DTSTART;TZID=America/Los_Angeles:20281124T190000
DTEND;TZID=America/Los_Angeles:20281124T230000
DTSTAMP:20260424T132038
CREATED:20250731T204051Z
LAST-MODIFIED:20250731T204220Z
UID:10006508-1858705200-1858719600@www.crestlinechamber.org
SUMMARY:Friday Night Karaoke! 🎤 🎼 🎸
DESCRIPTION:
URL:https://www.crestlinechamber.org/event/friday-night-karaoke-%f0%9f%8e%a4-%f0%9f%8e%bc-%f0%9f%8e%b8/2028-11-24/
LOCATION:The Tudor House\, Lake Arrowhead\, 850 Arrowhead Villa Road\, Lake Arrowhead\, 92352\, United States
CATEGORIES:Community Event,Family Friendly,Live Music
ATTACH;FMTTYPE=image/jpeg:https://www.crestlinechamber.org/wp-content/uploads/2025/07/THKaraokeWebsiteImage-1640-x-924-px.jpg
END:VEVENT
BEGIN:VEVENT
DTSTART;TZID=America/Los_Angeles:20281201T190000
DTEND;TZID=America/Los_Angeles:20281201T230000
DTSTAMP:20260424T132038
CREATED:20250731T204051Z
LAST-MODIFIED:20250731T204220Z
UID:10006509-1859310000-1859324400@www.crestlinechamber.org
SUMMARY:Friday Night Karaoke! 🎤 🎼 🎸
DESCRIPTION:
URL:https://www.crestlinechamber.org/event/friday-night-karaoke-%f0%9f%8e%a4-%f0%9f%8e%bc-%f0%9f%8e%b8/2028-12-01/
LOCATION:The Tudor House\, Lake Arrowhead\, 850 Arrowhead Villa Road\, Lake Arrowhead\, 92352\, United States
CATEGORIES:Community Event,Family Friendly,Live Music
ATTACH;FMTTYPE=image/jpeg:https://www.crestlinechamber.org/wp-content/uploads/2025/07/THKaraokeWebsiteImage-1640-x-924-px.jpg
END:VEVENT
BEGIN:VEVENT
DTSTART;TZID=America/Los_Angeles:20281208T190000
DTEND;TZID=America/Los_Angeles:20281208T230000
DTSTAMP:20260424T132038
CREATED:20250731T204051Z
LAST-MODIFIED:20250731T204220Z
UID:10006510-1859914800-1859929200@www.crestlinechamber.org
SUMMARY:Friday Night Karaoke! 🎤 🎼 🎸
DESCRIPTION:
URL:https://www.crestlinechamber.org/event/friday-night-karaoke-%f0%9f%8e%a4-%f0%9f%8e%bc-%f0%9f%8e%b8/2028-12-08/
LOCATION:The Tudor House\, Lake Arrowhead\, 850 Arrowhead Villa Road\, Lake Arrowhead\, 92352\, United States
CATEGORIES:Community Event,Family Friendly,Live Music
ATTACH;FMTTYPE=image/jpeg:https://www.crestlinechamber.org/wp-content/uploads/2025/07/THKaraokeWebsiteImage-1640-x-924-px.jpg
END:VEVENT
BEGIN:VEVENT
DTSTART;TZID=America/Los_Angeles:20281215T190000
DTEND;TZID=America/Los_Angeles:20281215T230000
DTSTAMP:20260424T132038
CREATED:20250731T204051Z
LAST-MODIFIED:20250731T204220Z
UID:10006511-1860519600-1860534000@www.crestlinechamber.org
SUMMARY:Friday Night Karaoke! 🎤 🎼 🎸
DESCRIPTION:
URL:https://www.crestlinechamber.org/event/friday-night-karaoke-%f0%9f%8e%a4-%f0%9f%8e%bc-%f0%9f%8e%b8/2028-12-15/
LOCATION:The Tudor House\, Lake Arrowhead\, 850 Arrowhead Villa Road\, Lake Arrowhead\, 92352\, United States
CATEGORIES:Community Event,Family Friendly,Live Music
ATTACH;FMTTYPE=image/jpeg:https://www.crestlinechamber.org/wp-content/uploads/2025/07/THKaraokeWebsiteImage-1640-x-924-px.jpg
END:VEVENT
BEGIN:VEVENT
DTSTART;TZID=America/Los_Angeles:20281222T190000
DTEND;TZID=America/Los_Angeles:20281222T230000
DTSTAMP:20260424T132038
CREATED:20250731T204051Z
LAST-MODIFIED:20250731T204220Z
UID:10006512-1861124400-1861138800@www.crestlinechamber.org
SUMMARY:Friday Night Karaoke! 🎤 🎼 🎸
DESCRIPTION:
URL:https://www.crestlinechamber.org/event/friday-night-karaoke-%f0%9f%8e%a4-%f0%9f%8e%bc-%f0%9f%8e%b8/2028-12-22/
LOCATION:The Tudor House\, Lake Arrowhead\, 850 Arrowhead Villa Road\, Lake Arrowhead\, 92352\, United States
CATEGORIES:Community Event,Family Friendly,Live Music
ATTACH;FMTTYPE=image/jpeg:https://www.crestlinechamber.org/wp-content/uploads/2025/07/THKaraokeWebsiteImage-1640-x-924-px.jpg
END:VEVENT
BEGIN:VEVENT
DTSTART;TZID=America/Los_Angeles:20281229T190000
DTEND;TZID=America/Los_Angeles:20281229T230000
DTSTAMP:20260424T132038
CREATED:20250731T204051Z
LAST-MODIFIED:20250731T204220Z
UID:10006513-1861729200-1861743600@www.crestlinechamber.org
SUMMARY:Friday Night Karaoke! 🎤 🎼 🎸
DESCRIPTION:
URL:https://www.crestlinechamber.org/event/friday-night-karaoke-%f0%9f%8e%a4-%f0%9f%8e%bc-%f0%9f%8e%b8/2028-12-29/
LOCATION:The Tudor House\, Lake Arrowhead\, 850 Arrowhead Villa Road\, Lake Arrowhead\, 92352\, United States
CATEGORIES:Community Event,Family Friendly,Live Music
ATTACH;FMTTYPE=image/jpeg:https://www.crestlinechamber.org/wp-content/uploads/2025/07/THKaraokeWebsiteImage-1640-x-924-px.jpg
END:VEVENT
BEGIN:VEVENT
DTSTART;TZID=America/Los_Angeles:20290105T190000
DTEND;TZID=America/Los_Angeles:20290105T230000
DTSTAMP:20260424T132038
CREATED:20250731T204051Z
LAST-MODIFIED:20250731T204220Z
UID:10006514-1862334000-1862348400@www.crestlinechamber.org
SUMMARY:Friday Night Karaoke! 🎤 🎼 🎸
DESCRIPTION:
URL:https://www.crestlinechamber.org/event/friday-night-karaoke-%f0%9f%8e%a4-%f0%9f%8e%bc-%f0%9f%8e%b8/2029-01-05/
LOCATION:The Tudor House\, Lake Arrowhead\, 850 Arrowhead Villa Road\, Lake Arrowhead\, 92352\, United States
CATEGORIES:Community Event,Family Friendly,Live Music
ATTACH;FMTTYPE=image/jpeg:https://www.crestlinechamber.org/wp-content/uploads/2025/07/THKaraokeWebsiteImage-1640-x-924-px.jpg
END:VEVENT
BEGIN:VEVENT
DTSTART;TZID=America/Los_Angeles:20290112T190000
DTEND;TZID=America/Los_Angeles:20290112T230000
DTSTAMP:20260424T132038
CREATED:20250731T204051Z
LAST-MODIFIED:20250731T204220Z
UID:10006515-1862938800-1862953200@www.crestlinechamber.org
SUMMARY:Friday Night Karaoke! 🎤 🎼 🎸
DESCRIPTION:
URL:https://www.crestlinechamber.org/event/friday-night-karaoke-%f0%9f%8e%a4-%f0%9f%8e%bc-%f0%9f%8e%b8/2029-01-12/
LOCATION:The Tudor House\, Lake Arrowhead\, 850 Arrowhead Villa Road\, Lake Arrowhead\, 92352\, United States
CATEGORIES:Community Event,Family Friendly,Live Music
ATTACH;FMTTYPE=image/jpeg:https://www.crestlinechamber.org/wp-content/uploads/2025/07/THKaraokeWebsiteImage-1640-x-924-px.jpg
END:VEVENT
BEGIN:VEVENT
DTSTART;TZID=America/Los_Angeles:20290119T190000
DTEND;TZID=America/Los_Angeles:20290119T230000
DTSTAMP:20260424T132038
CREATED:20250731T204051Z
LAST-MODIFIED:20250731T204220Z
UID:10006516-1863543600-1863558000@www.crestlinechamber.org
SUMMARY:Friday Night Karaoke! 🎤 🎼 🎸
DESCRIPTION:
URL:https://www.crestlinechamber.org/event/friday-night-karaoke-%f0%9f%8e%a4-%f0%9f%8e%bc-%f0%9f%8e%b8/2029-01-19/
LOCATION:The Tudor House\, Lake Arrowhead\, 850 Arrowhead Villa Road\, Lake Arrowhead\, 92352\, United States
CATEGORIES:Community Event,Family Friendly,Live Music
ATTACH;FMTTYPE=image/jpeg:https://www.crestlinechamber.org/wp-content/uploads/2025/07/THKaraokeWebsiteImage-1640-x-924-px.jpg
END:VEVENT
BEGIN:VEVENT
DTSTART;TZID=America/Los_Angeles:20290126T190000
DTEND;TZID=America/Los_Angeles:20290126T230000
DTSTAMP:20260424T132038
CREATED:20250731T204051Z
LAST-MODIFIED:20250731T204220Z
UID:10006517-1864148400-1864162800@www.crestlinechamber.org
SUMMARY:Friday Night Karaoke! 🎤 🎼 🎸
DESCRIPTION:
URL:https://www.crestlinechamber.org/event/friday-night-karaoke-%f0%9f%8e%a4-%f0%9f%8e%bc-%f0%9f%8e%b8/2029-01-26/
LOCATION:The Tudor House\, Lake Arrowhead\, 850 Arrowhead Villa Road\, Lake Arrowhead\, 92352\, United States
CATEGORIES:Community Event,Family Friendly,Live Music
ATTACH;FMTTYPE=image/jpeg:https://www.crestlinechamber.org/wp-content/uploads/2025/07/THKaraokeWebsiteImage-1640-x-924-px.jpg
END:VEVENT
BEGIN:VEVENT
DTSTART;TZID=America/Los_Angeles:20290202T190000
DTEND;TZID=America/Los_Angeles:20290202T230000
DTSTAMP:20260424T132038
CREATED:20250731T204051Z
LAST-MODIFIED:20250731T204220Z
UID:10006518-1864753200-1864767600@www.crestlinechamber.org
SUMMARY:Friday Night Karaoke! 🎤 🎼 🎸
DESCRIPTION:
URL:https://www.crestlinechamber.org/event/friday-night-karaoke-%f0%9f%8e%a4-%f0%9f%8e%bc-%f0%9f%8e%b8/2029-02-02/
LOCATION:The Tudor House\, Lake Arrowhead\, 850 Arrowhead Villa Road\, Lake Arrowhead\, 92352\, United States
CATEGORIES:Community Event,Family Friendly,Live Music
ATTACH;FMTTYPE=image/jpeg:https://www.crestlinechamber.org/wp-content/uploads/2025/07/THKaraokeWebsiteImage-1640-x-924-px.jpg
END:VEVENT
BEGIN:VEVENT
DTSTART;TZID=America/Los_Angeles:20290209T190000
DTEND;TZID=America/Los_Angeles:20290209T230000
DTSTAMP:20260424T132038
CREATED:20250731T204051Z
LAST-MODIFIED:20250731T204220Z
UID:10006519-1865358000-1865372400@www.crestlinechamber.org
SUMMARY:Friday Night Karaoke! 🎤 🎼 🎸
DESCRIPTION:
URL:https://www.crestlinechamber.org/event/friday-night-karaoke-%f0%9f%8e%a4-%f0%9f%8e%bc-%f0%9f%8e%b8/2029-02-09/
LOCATION:The Tudor House\, Lake Arrowhead\, 850 Arrowhead Villa Road\, Lake Arrowhead\, 92352\, United States
CATEGORIES:Community Event,Family Friendly,Live Music
ATTACH;FMTTYPE=image/jpeg:https://www.crestlinechamber.org/wp-content/uploads/2025/07/THKaraokeWebsiteImage-1640-x-924-px.jpg
END:VEVENT
BEGIN:VEVENT
DTSTART;TZID=America/Los_Angeles:20290216T190000
DTEND;TZID=America/Los_Angeles:20290216T230000
DTSTAMP:20260424T132038
CREATED:20250731T204051Z
LAST-MODIFIED:20250731T204220Z
UID:10006520-1865962800-1865977200@www.crestlinechamber.org
SUMMARY:Friday Night Karaoke! 🎤 🎼 🎸
DESCRIPTION:
URL:https://www.crestlinechamber.org/event/friday-night-karaoke-%f0%9f%8e%a4-%f0%9f%8e%bc-%f0%9f%8e%b8/2029-02-16/
LOCATION:The Tudor House\, Lake Arrowhead\, 850 Arrowhead Villa Road\, Lake Arrowhead\, 92352\, United States
CATEGORIES:Community Event,Family Friendly,Live Music
ATTACH;FMTTYPE=image/jpeg:https://www.crestlinechamber.org/wp-content/uploads/2025/07/THKaraokeWebsiteImage-1640-x-924-px.jpg
END:VEVENT
BEGIN:VEVENT
DTSTART;TZID=America/Los_Angeles:20290223T190000
DTEND;TZID=America/Los_Angeles:20290223T230000
DTSTAMP:20260424T132038
CREATED:20250731T204051Z
LAST-MODIFIED:20250731T204220Z
UID:10006521-1866567600-1866582000@www.crestlinechamber.org
SUMMARY:Friday Night Karaoke! 🎤 🎼 🎸
DESCRIPTION:
URL:https://www.crestlinechamber.org/event/friday-night-karaoke-%f0%9f%8e%a4-%f0%9f%8e%bc-%f0%9f%8e%b8/2029-02-23/
LOCATION:The Tudor House\, Lake Arrowhead\, 850 Arrowhead Villa Road\, Lake Arrowhead\, 92352\, United States
CATEGORIES:Community Event,Family Friendly,Live Music
ATTACH;FMTTYPE=image/jpeg:https://www.crestlinechamber.org/wp-content/uploads/2025/07/THKaraokeWebsiteImage-1640-x-924-px.jpg
END:VEVENT
BEGIN:VEVENT
DTSTART;TZID=America/Los_Angeles:20290302T190000
DTEND;TZID=America/Los_Angeles:20290302T230000
DTSTAMP:20260424T132038
CREATED:20250731T204051Z
LAST-MODIFIED:20250731T204220Z
UID:10006522-1867172400-1867186800@www.crestlinechamber.org
SUMMARY:Friday Night Karaoke! 🎤 🎼 🎸
DESCRIPTION:
URL:https://www.crestlinechamber.org/event/friday-night-karaoke-%f0%9f%8e%a4-%f0%9f%8e%bc-%f0%9f%8e%b8/2029-03-02/
LOCATION:The Tudor House\, Lake Arrowhead\, 850 Arrowhead Villa Road\, Lake Arrowhead\, 92352\, United States
CATEGORIES:Community Event,Family Friendly,Live Music
ATTACH;FMTTYPE=image/jpeg:https://www.crestlinechamber.org/wp-content/uploads/2025/07/THKaraokeWebsiteImage-1640-x-924-px.jpg
END:VEVENT
BEGIN:VEVENT
DTSTART;TZID=America/Los_Angeles:20290309T190000
DTEND;TZID=America/Los_Angeles:20290309T230000
DTSTAMP:20260424T132038
CREATED:20250731T204051Z
LAST-MODIFIED:20250731T204220Z
UID:10006523-1867777200-1867791600@www.crestlinechamber.org
SUMMARY:Friday Night Karaoke! 🎤 🎼 🎸
DESCRIPTION:
URL:https://www.crestlinechamber.org/event/friday-night-karaoke-%f0%9f%8e%a4-%f0%9f%8e%bc-%f0%9f%8e%b8/2029-03-09/
LOCATION:The Tudor House\, Lake Arrowhead\, 850 Arrowhead Villa Road\, Lake Arrowhead\, 92352\, United States
CATEGORIES:Community Event,Family Friendly,Live Music
ATTACH;FMTTYPE=image/jpeg:https://www.crestlinechamber.org/wp-content/uploads/2025/07/THKaraokeWebsiteImage-1640-x-924-px.jpg
END:VEVENT
BEGIN:VEVENT
DTSTART;TZID=America/Los_Angeles:20290316T190000
DTEND;TZID=America/Los_Angeles:20290316T230000
DTSTAMP:20260424T132038
CREATED:20250731T204051Z
LAST-MODIFIED:20250731T204220Z
UID:10006524-1868382000-1868396400@www.crestlinechamber.org
SUMMARY:Friday Night Karaoke! 🎤 🎼 🎸
DESCRIPTION:
URL:https://www.crestlinechamber.org/event/friday-night-karaoke-%f0%9f%8e%a4-%f0%9f%8e%bc-%f0%9f%8e%b8/2029-03-16/
LOCATION:The Tudor House\, Lake Arrowhead\, 850 Arrowhead Villa Road\, Lake Arrowhead\, 92352\, United States
CATEGORIES:Community Event,Family Friendly,Live Music
ATTACH;FMTTYPE=image/jpeg:https://www.crestlinechamber.org/wp-content/uploads/2025/07/THKaraokeWebsiteImage-1640-x-924-px.jpg
END:VEVENT
BEGIN:VEVENT
DTSTART;TZID=America/Los_Angeles:20290323T190000
DTEND;TZID=America/Los_Angeles:20290323T230000
DTSTAMP:20260424T132038
CREATED:20250731T204051Z
LAST-MODIFIED:20250731T204220Z
UID:10006525-1868986800-1869001200@www.crestlinechamber.org
SUMMARY:Friday Night Karaoke! 🎤 🎼 🎸
DESCRIPTION:
URL:https://www.crestlinechamber.org/event/friday-night-karaoke-%f0%9f%8e%a4-%f0%9f%8e%bc-%f0%9f%8e%b8/2029-03-23/
LOCATION:The Tudor House\, Lake Arrowhead\, 850 Arrowhead Villa Road\, Lake Arrowhead\, 92352\, United States
CATEGORIES:Community Event,Family Friendly,Live Music
ATTACH;FMTTYPE=image/jpeg:https://www.crestlinechamber.org/wp-content/uploads/2025/07/THKaraokeWebsiteImage-1640-x-924-px.jpg
END:VEVENT
BEGIN:VEVENT
DTSTART;TZID=America/Los_Angeles:20290330T190000
DTEND;TZID=America/Los_Angeles:20290330T230000
DTSTAMP:20260424T132038
CREATED:20250731T204051Z
LAST-MODIFIED:20250731T204220Z
UID:10006526-1869591600-1869606000@www.crestlinechamber.org
SUMMARY:Friday Night Karaoke! 🎤 🎼 🎸
DESCRIPTION:
URL:https://www.crestlinechamber.org/event/friday-night-karaoke-%f0%9f%8e%a4-%f0%9f%8e%bc-%f0%9f%8e%b8/2029-03-30/
LOCATION:The Tudor House\, Lake Arrowhead\, 850 Arrowhead Villa Road\, Lake Arrowhead\, 92352\, United States
CATEGORIES:Community Event,Family Friendly,Live Music
ATTACH;FMTTYPE=image/jpeg:https://www.crestlinechamber.org/wp-content/uploads/2025/07/THKaraokeWebsiteImage-1640-x-924-px.jpg
END:VEVENT
BEGIN:VEVENT
DTSTART;TZID=America/Los_Angeles:20290406T190000
DTEND;TZID=America/Los_Angeles:20290406T230000
DTSTAMP:20260424T132038
CREATED:20250731T204051Z
LAST-MODIFIED:20250731T204220Z
UID:10006527-1870196400-1870210800@www.crestlinechamber.org
SUMMARY:Friday Night Karaoke! 🎤 🎼 🎸
DESCRIPTION:
URL:https://www.crestlinechamber.org/event/friday-night-karaoke-%f0%9f%8e%a4-%f0%9f%8e%bc-%f0%9f%8e%b8/2029-04-06/
LOCATION:The Tudor House\, Lake Arrowhead\, 850 Arrowhead Villa Road\, Lake Arrowhead\, 92352\, United States
CATEGORIES:Community Event,Family Friendly,Live Music
ATTACH;FMTTYPE=image/jpeg:https://www.crestlinechamber.org/wp-content/uploads/2025/07/THKaraokeWebsiteImage-1640-x-924-px.jpg
END:VEVENT
BEGIN:VEVENT
DTSTART;TZID=America/Los_Angeles:20290413T190000
DTEND;TZID=America/Los_Angeles:20290413T230000
DTSTAMP:20260424T132038
CREATED:20250731T204051Z
LAST-MODIFIED:20250731T204220Z
UID:10006528-1870801200-1870815600@www.crestlinechamber.org
SUMMARY:Friday Night Karaoke! 🎤 🎼 🎸
DESCRIPTION:
URL:https://www.crestlinechamber.org/event/friday-night-karaoke-%f0%9f%8e%a4-%f0%9f%8e%bc-%f0%9f%8e%b8/2029-04-13/
LOCATION:The Tudor House\, Lake Arrowhead\, 850 Arrowhead Villa Road\, Lake Arrowhead\, 92352\, United States
CATEGORIES:Community Event,Family Friendly,Live Music
ATTACH;FMTTYPE=image/jpeg:https://www.crestlinechamber.org/wp-content/uploads/2025/07/THKaraokeWebsiteImage-1640-x-924-px.jpg
END:VEVENT
BEGIN:VEVENT
DTSTART;TZID=America/Los_Angeles:20290420T190000
DTEND;TZID=America/Los_Angeles:20290420T230000
DTSTAMP:20260424T132038
CREATED:20250731T204051Z
LAST-MODIFIED:20250731T204220Z
UID:10006529-1871406000-1871420400@www.crestlinechamber.org
SUMMARY:Friday Night Karaoke! 🎤 🎼 🎸
DESCRIPTION:
URL:https://www.crestlinechamber.org/event/friday-night-karaoke-%f0%9f%8e%a4-%f0%9f%8e%bc-%f0%9f%8e%b8/2029-04-20/
LOCATION:The Tudor House\, Lake Arrowhead\, 850 Arrowhead Villa Road\, Lake Arrowhead\, 92352\, United States
CATEGORIES:Community Event,Family Friendly,Live Music
ATTACH;FMTTYPE=image/jpeg:https://www.crestlinechamber.org/wp-content/uploads/2025/07/THKaraokeWebsiteImage-1640-x-924-px.jpg
END:VEVENT
BEGIN:VEVENT
DTSTART;TZID=America/Los_Angeles:20290427T190000
DTEND;TZID=America/Los_Angeles:20290427T230000
DTSTAMP:20260424T132038
CREATED:20250731T204051Z
LAST-MODIFIED:20250731T204220Z
UID:10006530-1872010800-1872025200@www.crestlinechamber.org
SUMMARY:Friday Night Karaoke! 🎤 🎼 🎸
DESCRIPTION:
URL:https://www.crestlinechamber.org/event/friday-night-karaoke-%f0%9f%8e%a4-%f0%9f%8e%bc-%f0%9f%8e%b8/2029-04-27/
LOCATION:The Tudor House\, Lake Arrowhead\, 850 Arrowhead Villa Road\, Lake Arrowhead\, 92352\, United States
CATEGORIES:Community Event,Family Friendly,Live Music
ATTACH;FMTTYPE=image/jpeg:https://www.crestlinechamber.org/wp-content/uploads/2025/07/THKaraokeWebsiteImage-1640-x-924-px.jpg
END:VEVENT
BEGIN:VEVENT
DTSTART;TZID=America/Los_Angeles:20290504T190000
DTEND;TZID=America/Los_Angeles:20290504T230000
DTSTAMP:20260424T132038
CREATED:20250731T204051Z
LAST-MODIFIED:20250731T204220Z
UID:10006531-1872615600-1872630000@www.crestlinechamber.org
SUMMARY:Friday Night Karaoke! 🎤 🎼 🎸
DESCRIPTION:
URL:https://www.crestlinechamber.org/event/friday-night-karaoke-%f0%9f%8e%a4-%f0%9f%8e%bc-%f0%9f%8e%b8/2029-05-04/
LOCATION:The Tudor House\, Lake Arrowhead\, 850 Arrowhead Villa Road\, Lake Arrowhead\, 92352\, United States
CATEGORIES:Community Event,Family Friendly,Live Music
ATTACH;FMTTYPE=image/jpeg:https://www.crestlinechamber.org/wp-content/uploads/2025/07/THKaraokeWebsiteImage-1640-x-924-px.jpg
END:VEVENT
BEGIN:VEVENT
DTSTART;TZID=America/Los_Angeles:20290511T190000
DTEND;TZID=America/Los_Angeles:20290511T230000
DTSTAMP:20260424T132038
CREATED:20250731T204051Z
LAST-MODIFIED:20250731T204220Z
UID:10006532-1873220400-1873234800@www.crestlinechamber.org
SUMMARY:Friday Night Karaoke! 🎤 🎼 🎸
DESCRIPTION:
URL:https://www.crestlinechamber.org/event/friday-night-karaoke-%f0%9f%8e%a4-%f0%9f%8e%bc-%f0%9f%8e%b8/2029-05-11/
LOCATION:The Tudor House\, Lake Arrowhead\, 850 Arrowhead Villa Road\, Lake Arrowhead\, 92352\, United States
CATEGORIES:Community Event,Family Friendly,Live Music
ATTACH;FMTTYPE=image/jpeg:https://www.crestlinechamber.org/wp-content/uploads/2025/07/THKaraokeWebsiteImage-1640-x-924-px.jpg
END:VEVENT
BEGIN:VEVENT
DTSTART;TZID=America/Los_Angeles:20290518T190000
DTEND;TZID=America/Los_Angeles:20290518T230000
DTSTAMP:20260424T132038
CREATED:20250731T204051Z
LAST-MODIFIED:20250731T204220Z
UID:10006533-1873825200-1873839600@www.crestlinechamber.org
SUMMARY:Friday Night Karaoke! 🎤 🎼 🎸
DESCRIPTION:
URL:https://www.crestlinechamber.org/event/friday-night-karaoke-%f0%9f%8e%a4-%f0%9f%8e%bc-%f0%9f%8e%b8/2029-05-18/
LOCATION:The Tudor House\, Lake Arrowhead\, 850 Arrowhead Villa Road\, Lake Arrowhead\, 92352\, United States
CATEGORIES:Community Event,Family Friendly,Live Music
ATTACH;FMTTYPE=image/jpeg:https://www.crestlinechamber.org/wp-content/uploads/2025/07/THKaraokeWebsiteImage-1640-x-924-px.jpg
END:VEVENT
END:VCALENDAR