BEGIN:VCALENDAR
VERSION:2.0
PRODID:-//Crestline Chamber of Commerce - ECPv6.15.20//NONSGML v1.0//EN
CALSCALE:GREGORIAN
METHOD:PUBLISH
X-ORIGINAL-URL:https://www.crestlinechamber.org
X-WR-CALDESC:Events for Crestline Chamber of Commerce
REFRESH-INTERVAL;VALUE=DURATION:PT1H
X-Robots-Tag:noindex
X-PUBLISHED-TTL:PT1H
BEGIN:VTIMEZONE
TZID:America/Los_Angeles
BEGIN:DAYLIGHT
TZOFFSETFROM:-0800
TZOFFSETTO:-0700
TZNAME:PDT
DTSTART:20240310T100000
END:DAYLIGHT
BEGIN:STANDARD
TZOFFSETFROM:-0700
TZOFFSETTO:-0800
TZNAME:PST
DTSTART:20241103T090000
END:STANDARD
BEGIN:DAYLIGHT
TZOFFSETFROM:-0800
TZOFFSETTO:-0700
TZNAME:PDT
DTSTART:20250309T100000
END:DAYLIGHT
BEGIN:STANDARD
TZOFFSETFROM:-0700
TZOFFSETTO:-0800
TZNAME:PST
DTSTART:20251102T090000
END:STANDARD
BEGIN:DAYLIGHT
TZOFFSETFROM:-0800
TZOFFSETTO:-0700
TZNAME:PDT
DTSTART:20260308T100000
END:DAYLIGHT
BEGIN:STANDARD
TZOFFSETFROM:-0700
TZOFFSETTO:-0800
TZNAME:PST
DTSTART:20261101T090000
END:STANDARD
END:VTIMEZONE
BEGIN:VEVENT
DTSTART;TZID=America/Los_Angeles:20250926T160000
DTEND;TZID=America/Los_Angeles:20250926T190000
DTSTAMP:20260424T011156
CREATED:20250922T211646Z
LAST-MODIFIED:20250922T211705Z
UID:10006931-1758902400-1758913200@www.crestlinechamber.org
SUMMARY:UCLA Mountain Bruins presents Wine on the Zen Deck 🍷
DESCRIPTION:Enjoy a spectacular view of Lake Arrowhead! Sample a vast variety of wines brought to the event by each participant. Just bring a bottle of your favorite red and/or white wine to the Zen Deck\, meet old and new friends and taste their wines\, along with Appetizers and Sweets.\nIf you would like to attend and bring your own non-alcoholic beverage that is most welcome.
URL:https://www.crestlinechamber.org/event/ucla-mountain-bruins-presents-wine-on-the-zen-deck-%f0%9f%8d%b7/
LOCATION:UCLA Lodge Zen Deck
CATEGORIES:Community Event,Fundraiser
ATTACH;FMTTYPE=image/png:https://www.crestlinechamber.org/wp-content/uploads/2025/09/unnamed.png
END:VEVENT
END:VCALENDAR