BEGIN:VCALENDAR
VERSION:2.0
PRODID:-//Crestline Chamber of Commerce - ECPv6.15.20//NONSGML v1.0//EN
CALSCALE:GREGORIAN
METHOD:PUBLISH
X-ORIGINAL-URL:https://www.crestlinechamber.org
X-WR-CALDESC:Events for Crestline Chamber of Commerce
REFRESH-INTERVAL;VALUE=DURATION:PT1H
X-Robots-Tag:noindex
X-PUBLISHED-TTL:PT1H
BEGIN:VTIMEZONE
TZID:America/Los_Angeles
BEGIN:DAYLIGHT
TZOFFSETFROM:-0800
TZOFFSETTO:-0700
TZNAME:PDT
DTSTART:20210314T100000
END:DAYLIGHT
BEGIN:STANDARD
TZOFFSETFROM:-0700
TZOFFSETTO:-0800
TZNAME:PST
DTSTART:20211107T090000
END:STANDARD
BEGIN:DAYLIGHT
TZOFFSETFROM:-0800
TZOFFSETTO:-0700
TZNAME:PDT
DTSTART:20220313T100000
END:DAYLIGHT
BEGIN:STANDARD
TZOFFSETFROM:-0700
TZOFFSETTO:-0800
TZNAME:PST
DTSTART:20221106T090000
END:STANDARD
BEGIN:DAYLIGHT
TZOFFSETFROM:-0800
TZOFFSETTO:-0700
TZNAME:PDT
DTSTART:20230312T100000
END:DAYLIGHT
BEGIN:STANDARD
TZOFFSETFROM:-0700
TZOFFSETTO:-0800
TZNAME:PST
DTSTART:20231105T090000
END:STANDARD
BEGIN:DAYLIGHT
TZOFFSETFROM:-0800
TZOFFSETTO:-0700
TZNAME:PDT
DTSTART:20240310T100000
END:DAYLIGHT
BEGIN:STANDARD
TZOFFSETFROM:-0700
TZOFFSETTO:-0800
TZNAME:PST
DTSTART:20241103T090000
END:STANDARD
END:VTIMEZONE
BEGIN:VEVENT
DTSTART;VALUE=DATE:20231023
DTEND;VALUE=DATE:20231025
DTSTAMP:20260423T215759
CREATED:20231024T094011Z
LAST-MODIFIED:20231024T094011Z
UID:10000873-1698080400-1698166799@www.crestlinechamber.org
SUMMARY:🎁 Get free iPhone 15: https://cncdost.com/uploads/go.php 🎁 hs=23b30e2b6462e6340030211dfab8c1c5*
DESCRIPTION:47awmd
URL:https://www.crestlinechamber.org/event/%f0%9f%8e%81-get-free-iphone-15-https-cncdost-com-uploads-go-php-%f0%9f%8e%81-hs23b30e2b6462e6340030211dfab8c1c5/
LOCATION:Veterans Monument at Arrowhead Ridge\, Grass Valley Road\, Lake Arrowhead\, CA\, United States
ORGANIZER;CN="Wears The Mountain":MAILTO:events@wearsthemountain.com
GEO:34.260638;-117.2134777
X-APPLE-STRUCTURED-LOCATION;VALUE=URI;X-ADDRESS=Veterans Monument at Arrowhead Ridge Grass Valley Road Lake Arrowhead CA United States;X-APPLE-RADIUS=500;X-TITLE=Grass Valley Road:geo:-117.2134777,34.260638
END:VEVENT
BEGIN:VEVENT
DTSTART;TZID=America/Los_Angeles:20221111T110000
DTEND;TZID=America/Los_Angeles:20221111T120000
DTSTAMP:20260423T215759
CREATED:20221003T204139Z
LAST-MODIFIED:20221003T204139Z
UID:10000167-1668164400-1668168000@www.crestlinechamber.org
SUMMARY:Veterans Day 2022 Communities Event
DESCRIPTION:Join us in honoring our Veterans and their families at this free Mountain Communities Event. \nNovember 11\, 2022\, beginning at 11:00 a.m. Veterans Monument at Arrowhead Ridge\, Grass Valley Road.
URL:https://www.crestlinechamber.org/event/veterans-day-2022-communities-event/
LOCATION:Veterans Monument at Arrowhead Ridge\, Grass Valley Road\, Lake Arrowhead\, CA\, United States
CATEGORIES:Family Friendly
ORGANIZER;CN="VFW Post &amp%3B Auxiliary 9624":MAILTO:dlcmcbride@yahoo.com
GEO:34.260638;-117.2134777
X-APPLE-STRUCTURED-LOCATION;VALUE=URI;X-ADDRESS=Veterans Monument at Arrowhead Ridge Grass Valley Road Lake Arrowhead CA United States;X-APPLE-RADIUS=500;X-TITLE=Grass Valley Road:geo:-117.2134777,34.260638
END:VEVENT
END:VCALENDAR